BEGIN:VCALENDAR
PRODID:-//gdesolutions.com//MV Framework 1.0.0.1607 Calendar//EN
VERSION:2.0
METHOD:PUBLISH
CALSCALE:GREGORIAN
BEGIN:VEVENT
UID:g5j1f@games.golnetwork.com
LOCATION:Earl Grey PS Field
GEO:45.10662;-94.578209
CREATED:20140818T173506Z
DTSTART:20140825T220000Z
DTEND:20140825T230000Z
DTSTAMP:20260419T150113Z
SUMMARY:Team United vs. FDD United
DESCRIPTION:FDD United vs. Team UnitedPlus d'info : #302
X-ALT-DESC;FMTTYPE=text/html:<!DOCTYPE HTML PUBLIC "-//W3C//DTD HTML 3.2//E
	N">\n<HTML>\n<HEAD>\n<TITLE></TITLE>\n</HEAD>\n<BODY>\n<h3>FDD United vs. T
	eam United</h3>Plus d'info : <a href="https://www.golnetwork.com/game/v/551
	55/">#302</a>\n\n</BODY>\n</HTML>
STATUS:CONFIRMED
CLASS:PUBLIC
URL:https://www.golnetwork.com/game/v/55155/
X-MICROSOFT-CDO-BUSYSTATUS:BUSY
X-MICROSOFT-CDO-IMPORTANCE:1
END:VEVENT
BEGIN:VEVENT
UID:g5ih2@games.golnetwork.com
LOCATION:Eastern Commerce
GEO:43.6796613;-79.3359135
CREATED:20140814T160419Z
DTSTART:20140818T221500Z
DTEND:20140818T231500Z
DTSTAMP:20260419T150113Z
SUMMARY:Entuitive FC vs. FDD United
DESCRIPTION:FDD United vs. Entuitive FCPlus d'info : #264
X-ALT-DESC;FMTTYPE=text/html:<!DOCTYPE HTML PUBLIC "-//W3C//DTD HTML 3.2//E
	N">\n<HTML>\n<HEAD>\n<TITLE></TITLE>\n</HEAD>\n<BODY>\n<h3>FDD United vs. E
	ntuitive FC</h3>Plus d'info : <a href="https://www.golnetwork.com/game/v/55
	000/">#264</a>\n\n</BODY>\n</HTML>
STATUS:CONFIRMED
CLASS:PUBLIC
URL:https://www.golnetwork.com/game/v/55000/
X-MICROSOFT-CDO-BUSYSTATUS:BUSY
X-MICROSOFT-CDO-IMPORTANCE:1
END:VEVENT
BEGIN:VEVENT
UID:g5f4q@games.golnetwork.com
LOCATION:Rosedale Heights 2
CREATED:20140708T225512Z
DTSTART:20140811T233000Z
DTEND:20140812T003000Z
DTSTAMP:20260419T150113Z
SUMMARY:FDD United vs. Gravy Train
DESCRIPTION:Gravy Train vs. FDD UnitedPlus d'info : #227
X-ALT-DESC;FMTTYPE=text/html:<!DOCTYPE HTML PUBLIC "-//W3C//DTD HTML 3.2//E
	N">\n<HTML>\n<HEAD>\n<TITLE></TITLE>\n</HEAD>\n<BODY>\n<h3>Gravy Train vs. 
	FDD United</h3>Plus d'info : <a href="https://www.golnetwork.com/game/v/537
	43/">#227</a>\n\n</BODY>\n</HTML>
STATUS:CONFIRMED
CLASS:PUBLIC
URL:https://www.golnetwork.com/game/v/53743/
X-MICROSOFT-CDO-BUSYSTATUS:BUSY
X-MICROSOFT-CDO-IMPORTANCE:1
END:VEVENT
BEGIN:VEVENT
UID:g5f4i@games.golnetwork.com
LOCATION:Rosedale Heights 2
CREATED:20140708T225512Z
DTSTART:20140804T233000Z
DTEND:20140805T003000Z
DTSTAMP:20260419T150113Z
SUMMARY:FDD United vs. Blue Balls
DESCRIPTION:Blue Balls vs. FDD UnitedPlus d'info : #183
X-ALT-DESC;FMTTYPE=text/html:<!DOCTYPE HTML PUBLIC "-//W3C//DTD HTML 3.2//E
	N">\n<HTML>\n<HEAD>\n<TITLE></TITLE>\n</HEAD>\n<BODY>\n<h3>Blue Balls vs. F
	DD United</h3>Plus d'info : <a href="https://www.golnetwork.com/game/v/5373
	9/">#183</a>\n\n</BODY>\n</HTML>
STATUS:CONFIRMED
CLASS:PUBLIC
URL:https://www.golnetwork.com/game/v/53739/
X-MICROSOFT-CDO-BUSYSTATUS:BUSY
X-MICROSOFT-CDO-IMPORTANCE:1
END:VEVENT
BEGIN:VEVENT
UID:g5f48@games.golnetwork.com
LOCATION:Rosedale Heights 1
GEO:45.10662;-94.578209
CREATED:20140708T225512Z
DTSTART:20140728T233000Z
DTEND:20140729T003000Z
DTSTAMP:20260419T150113Z
SUMMARY:FDD United vs. AAFC
DESCRIPTION:AAFC vs. FDD UnitedPlus d'info : #135
X-ALT-DESC;FMTTYPE=text/html:<!DOCTYPE HTML PUBLIC "-//W3C//DTD HTML 3.2//E
	N">\n<HTML>\n<HEAD>\n<TITLE></TITLE>\n</HEAD>\n<BODY>\n<h3>AAFC vs. FDD Uni
	ted</h3>Plus d'info : <a href="https://www.golnetwork.com/game/v/53734/">#1
	35</a>\n\n</BODY>\n</HTML>
STATUS:CONFIRMED
CLASS:PUBLIC
URL:https://www.golnetwork.com/game/v/53734/
X-MICROSOFT-CDO-BUSYSTATUS:BUSY
X-MICROSOFT-CDO-IMPORTANCE:1
END:VEVENT
BEGIN:VEVENT
UID:g5f42@games.golnetwork.com
LOCATION:Rosedale Heights 2
CREATED:20140708T225512Z
DTSTART:20140721T233000Z
DTEND:20140722T003000Z
DTSTAMP:20260419T150113Z
SUMMARY:FDD United vs. Ballbarians
DESCRIPTION:Ballbarians vs. FDD UnitedPlus d'info : #89
X-ALT-DESC;FMTTYPE=text/html:<!DOCTYPE HTML PUBLIC "-//W3C//DTD HTML 3.2//E
	N">\n<HTML>\n<HEAD>\n<TITLE></TITLE>\n</HEAD>\n<BODY>\n<h3>Ballbarians vs. 
	FDD United</h3>Plus d'info : <a href="https://www.golnetwork.com/game/v/537
	31/">#89</a>\n\n</BODY>\n</HTML>
STATUS:CONFIRMED
CLASS:PUBLIC
URL:https://www.golnetwork.com/game/v/53731/
X-MICROSOFT-CDO-BUSYSTATUS:BUSY
X-MICROSOFT-CDO-IMPORTANCE:1
END:VEVENT
BEGIN:VEVENT
UID:g5f3n@games.golnetwork.com
LOCATION:Rosedale Heights 1
GEO:45.10662;-94.578209
CREATED:20140708T225511Z
DTSTART:20140721T223000Z
DTEND:20140721T233000Z
DTSTAMP:20260419T150113Z
SUMMARY:No Merci vs. FDD United
DESCRIPTION:FDD United vs. No MerciPlus d'info : #82
X-ALT-DESC;FMTTYPE=text/html:<!DOCTYPE HTML PUBLIC "-//W3C//DTD HTML 3.2//E
	N">\n<HTML>\n<HEAD>\n<TITLE></TITLE>\n</HEAD>\n<BODY>\n<h3>FDD United vs. N
	o Merci</h3>Plus d'info : <a href="https://www.golnetwork.com/game/v/53728/
	">#82</a>\n\n</BODY>\n</HTML>
STATUS:CONFIRMED
CLASS:PUBLIC
URL:https://www.golnetwork.com/game/v/53728/
X-MICROSOFT-CDO-BUSYSTATUS:BUSY
X-MICROSOFT-CDO-IMPORTANCE:1
END:VEVENT
BEGIN:VEVENT
UID:g5f3l@games.golnetwork.com
LOCATION:Rosedale Heights 2
CREATED:20140708T225511Z
DTSTART:20140714T233000Z
DTEND:20140715T003000Z
DTSTAMP:20260419T150113Z
SUMMARY:No Merci vs. FDD United
DESCRIPTION:FDD United vs. No MerciPlus d'info : #50
X-ALT-DESC;FMTTYPE=text/html:<!DOCTYPE HTML PUBLIC "-//W3C//DTD HTML 3.2//E
	N">\n<HTML>\n<HEAD>\n<TITLE></TITLE>\n</HEAD>\n<BODY>\n<h3>FDD United vs. N
	o Merci</h3>Plus d'info : <a href="https://www.golnetwork.com/game/v/53727/
	">#50</a>\n\n</BODY>\n</HTML>
STATUS:CONFIRMED
CLASS:PUBLIC
URL:https://www.golnetwork.com/game/v/53727/
X-MICROSOFT-CDO-BUSYSTATUS:BUSY
X-MICROSOFT-CDO-IMPORTANCE:1
END:VEVENT
END:VCALENDAR
