BEGIN:VCALENDAR
PRODID:-//gdesolutions.com//MV Framework 1.0.0.1607 Calendar//EN
VERSION:2.0
METHOD:PUBLISH
CALSCALE:GREGORIAN
BEGIN:VEVENT
UID:g8jel@games.golnetwork.com
LOCATION:Jesse Ketchum Public School
GEO:43.6730545;-79.3911034
CREATED:20160316T164512Z
DTSTART:20160607T003000Z
DTEND:20160607T013000Z
DTSTAMP:20260422T031459Z
SUMMARY:Sapient FC (Black) vs.  NPOS FC (The Return)
DESCRIPTION: NPOS FC (The Return) vs. Sapient FC (Black)Plus d'info : #65
X-ALT-DESC;FMTTYPE=text/html:<!DOCTYPE HTML PUBLIC "-//W3C//DTD HTML 3.2//E
	N">\n<HTML>\n<HEAD>\n<TITLE></TITLE>\n</HEAD>\n<BODY>\n<h3> NPOS FC (The Re
	turn) vs. Sapient FC (Black)</h3>Plus d'info : <a href="https://www.golnetw
	ork.com/game/v/84858/">#65</a>\n\n</BODY>\n</HTML>
STATUS:CONFIRMED
CLASS:PUBLIC
URL:https://www.golnetwork.com/game/v/84858/
X-MICROSOFT-CDO-BUSYSTATUS:BUSY
X-MICROSOFT-CDO-IMPORTANCE:1
END:VEVENT
BEGIN:VEVENT
UID:g8p7e@games.golnetwork.com
LOCATION:Jesse Ketchum Public School
GEO:43.6730545;-79.3911034
CREATED:20160425T200514Z
DTSTART:20160517T003000Z
DTEND:20160517T013000Z
DTSTAMP:20260422T031459Z
SUMMARY:ITRG vs. Sapient FC (Black)
DESCRIPTION:Sapient FC (Black) vs. ITRGPlus d'info : #38
X-ALT-DESC;FMTTYPE=text/html:<!DOCTYPE HTML PUBLIC "-//W3C//DTD HTML 3.2//E
	N">\n<HTML>\n<HEAD>\n<TITLE></TITLE>\n</HEAD>\n<BODY>\n<h3>Sapient FC (Blac
	k) vs. ITRG</h3>Plus d'info : <a href="https://www.golnetwork.com/game/v/86
	947/">#38</a>\n\n</BODY>\n</HTML>
STATUS:CONFIRMED
CLASS:PUBLIC
URL:https://www.golnetwork.com/game/v/86947/
X-MICROSOFT-CDO-BUSYSTATUS:BUSY
X-MICROSOFT-CDO-IMPORTANCE:1
END:VEVENT
BEGIN:VEVENT
UID:g8je7@games.golnetwork.com
LOCATION:Jesse Ketchum Public School
GEO:43.6730545;-79.3911034
CREATED:20160316T164512Z
DTSTART:20160509T233000Z
DTEND:20160510T003000Z
DTSTAMP:20260422T031459Z
SUMMARY:XTSC Titans vs. Sapient FC (Black)
DESCRIPTION:Sapient FC (Black) vs. XTSC TitansPlus d'info : #27
X-ALT-DESC;FMTTYPE=text/html:<!DOCTYPE HTML PUBLIC "-//W3C//DTD HTML 3.2//E
	N">\n<HTML>\n<HEAD>\n<TITLE></TITLE>\n</HEAD>\n<BODY>\n<h3>Sapient FC (Blac
	k) vs. XTSC Titans</h3>Plus d'info : <a href="https://www.golnetwork.com/ga
	me/v/84851/">#27</a>\n\n</BODY>\n</HTML>
STATUS:CONFIRMED
CLASS:PUBLIC
URL:https://www.golnetwork.com/game/v/84851/
X-MICROSOFT-CDO-BUSYSTATUS:BUSY
X-MICROSOFT-CDO-IMPORTANCE:1
END:VEVENT
BEGIN:VEVENT
UID:g8je3@games.golnetwork.com
LOCATION:Jesse Ketchum Public School
GEO:43.6730545;-79.3911034
CREATED:20160316T164512Z
DTSTART:20160502T233000Z
DTEND:20160503T003000Z
DTSTAMP:20260422T031459Z
SUMMARY:Sapient FC (Black) vs.  B Sharps
DESCRIPTION: B Sharps vs. Sapient FC (Black)Plus d'info : #18
X-ALT-DESC;FMTTYPE=text/html:<!DOCTYPE HTML PUBLIC "-//W3C//DTD HTML 3.2//E
	N">\n<HTML>\n<HEAD>\n<TITLE></TITLE>\n</HEAD>\n<BODY>\n<h3> B Sharps vs. Sa
	pient FC (Black)</h3>Plus d'info : <a href="https://www.golnetwork.com/game
	/v/84849/">#18</a>\n\n</BODY>\n</HTML>
STATUS:CONFIRMED
CLASS:PUBLIC
URL:https://www.golnetwork.com/game/v/84849/
X-MICROSOFT-CDO-BUSYSTATUS:BUSY
X-MICROSOFT-CDO-IMPORTANCE:1
END:VEVENT
BEGIN:VEVENT
UID:g8jdo@games.golnetwork.com
LOCATION:Jesse Ketchum Public School
GEO:43.6730545;-79.3911034
CREATED:20160316T164512Z
DTSTART:20160426T003000Z
DTEND:20160426T013000Z
DTSTAMP:20260422T031459Z
SUMMARY:Sapient FC (Black) vs. ITRG
DESCRIPTION:ITRG vs. Sapient FC (Black)Plus d'info : #15
X-ALT-DESC;FMTTYPE=text/html:<!DOCTYPE HTML PUBLIC "-//W3C//DTD HTML 3.2//E
	N">\n<HTML>\n<HEAD>\n<TITLE></TITLE>\n</HEAD>\n<BODY>\n<h3>ITRG vs. Sapient
	 FC (Black)</h3>Plus d'info : <a href="https://www.golnetwork.com/game/v/84
	846/">#15</a>\n\n</BODY>\n</HTML>
STATUS:CONFIRMED
CLASS:PUBLIC
URL:https://www.golnetwork.com/game/v/84846/
X-MICROSOFT-CDO-BUSYSTATUS:BUSY
X-MICROSOFT-CDO-IMPORTANCE:1
END:VEVENT
BEGIN:VEVENT
UID:g8jdi@games.golnetwork.com
LOCATION:Jesse Ketchum Public School
GEO:43.6730545;-79.3911034
CREATED:20160316T164512Z
DTSTART:20160419T003000Z
DTEND:20160419T013000Z
DTSTAMP:20260422T031459Z
SUMMARY:Sapient FC (Black) vs.  B Sharps
DESCRIPTION: B Sharps vs. Sapient FC (Black)Plus d'info : #12
X-ALT-DESC;FMTTYPE=text/html:<!DOCTYPE HTML PUBLIC "-//W3C//DTD HTML 3.2//E
	N">\n<HTML>\n<HEAD>\n<TITLE></TITLE>\n</HEAD>\n<BODY>\n<h3> B Sharps vs. Sa
	pient FC (Black)</h3>Plus d'info : <a href="https://www.golnetwork.com/game
	/v/84843/">#12</a>\n\n</BODY>\n</HTML>
STATUS:CONFIRMED
CLASS:PUBLIC
URL:https://www.golnetwork.com/game/v/84843/
X-MICROSOFT-CDO-BUSYSTATUS:BUSY
X-MICROSOFT-CDO-IMPORTANCE:1
END:VEVENT
BEGIN:VEVENT
UID:g8jde@games.golnetwork.com
LOCATION:Jesse Ketchum Public School
GEO:43.6730545;-79.3911034
CREATED:20160316T164512Z
DTSTART:20160412T003000Z
DTEND:20160412T013000Z
DTSTAMP:20260422T031459Z
SUMMARY:Sapient FC (Black) vs. the kickers
DESCRIPTION:the kickers vs. Sapient FC (Black)Plus d'info : #9
X-ALT-DESC;FMTTYPE=text/html:<!DOCTYPE HTML PUBLIC "-//W3C//DTD HTML 3.2//E
	N">\n<HTML>\n<HEAD>\n<TITLE></TITLE>\n</HEAD>\n<BODY>\n<h3>the kickers vs. 
	Sapient FC (Black)</h3>Plus d'info : <a href="https://www.golnetwork.com/ga
	me/v/84841/">#9</a>\n\n</BODY>\n</HTML>
STATUS:CONFIRMED
CLASS:PUBLIC
URL:https://www.golnetwork.com/game/v/84841/
X-MICROSOFT-CDO-BUSYSTATUS:BUSY
X-MICROSOFT-CDO-IMPORTANCE:1
END:VEVENT
BEGIN:VEVENT
UID:g8jd8@games.golnetwork.com
LOCATION:Jesse Ketchum Public School
GEO:43.6730545;-79.3911034
CREATED:20160316T164512Z
DTSTART:20160404T223000Z
DTEND:20160404T233000Z
DTSTAMP:20260422T031459Z
SUMMARY: NPOS FC (The Return) vs. Sapient FC (Black)
DESCRIPTION:Sapient FC (Black) vs.  NPOS FC (The Return)Plus d'info : #4
X-ALT-DESC;FMTTYPE=text/html:<!DOCTYPE HTML PUBLIC "-//W3C//DTD HTML 3.2//E
	N">\n<HTML>\n<HEAD>\n<TITLE></TITLE>\n</HEAD>\n<BODY>\n<h3>Sapient FC (Blac
	k) vs.  NPOS FC (The Return)</h3>Plus d'info : <a href="https://www.golnetw
	ork.com/game/v/84838/">#4</a>\n\n</BODY>\n</HTML>
STATUS:CONFIRMED
CLASS:PUBLIC
URL:https://www.golnetwork.com/game/v/84838/
X-MICROSOFT-CDO-BUSYSTATUS:BUSY
X-MICROSOFT-CDO-IMPORTANCE:1
END:VEVENT
BEGIN:VEVENT
UID:g8jcp@games.golnetwork.com
LOCATION:Jesse Ketchum Public School
GEO:43.6730545;-79.3911034
CREATED:20160316T164512Z
DTSTART:20160321T223000Z
DTEND:20160321T233000Z
DTSTAMP:20260422T031459Z
SUMMARY:XTSC Titans vs. Sapient FC (Black)
DESCRIPTION:Sapient FC (Black) vs. XTSC TitansPlus d'info : #1
X-ALT-DESC;FMTTYPE=text/html:<!DOCTYPE HTML PUBLIC "-//W3C//DTD HTML 3.2//E
	N">\n<HTML>\n<HEAD>\n<TITLE></TITLE>\n</HEAD>\n<BODY>\n<h3>Sapient FC (Blac
	k) vs. XTSC Titans</h3>Plus d'info : <a href="https://www.golnetwork.com/ga
	me/v/84833/">#1</a>\n\n</BODY>\n</HTML>
STATUS:CONFIRMED
CLASS:PUBLIC
URL:https://www.golnetwork.com/game/v/84833/
X-MICROSOFT-CDO-BUSYSTATUS:BUSY
X-MICROSOFT-CDO-IMPORTANCE:1
END:VEVENT
END:VCALENDAR
