BEGIN:VCALENDAR
PRODID:-//gdesolutions.com//MV Framework 1.0.0.1607 Calendar//EN
VERSION:2.0
METHOD:PUBLISH
CALSCALE:GREGORIAN
BEGIN:VEVENT
UID:g9jgk@games.golnetwork.com
LOCATION:CVM - Court #1
GEO:45.5146585;-73.5658635
CREATED:20161010T135412Z
DTSTART:20170228T013000Z
DTEND:20170228T023000Z
DTSTAMP:20260419T144310Z
SUMMARY:RETRO vs. MILTON PARC
DESCRIPTION:MILTON PARC vs. RETROPlus d'info : #45
X-ALT-DESC;FMTTYPE=text/html:<!DOCTYPE HTML PUBLIC "-//W3C//DTD HTML 3.2//E
	N">\n<HTML>\n<HEAD>\n<TITLE></TITLE>\n</HEAD>\n<BODY>\n<h3>MILTON PARC vs. 
	RETRO</h3>Plus d'info : <a href="https://www.golnetwork.com/game/v/94726/">
	#45</a>\n\n</BODY>\n</HTML>
STATUS:CONFIRMED
CLASS:PUBLIC
URL:https://www.golnetwork.com/game/v/94726/
X-MICROSOFT-CDO-BUSYSTATUS:BUSY
X-MICROSOFT-CDO-IMPORTANCE:1
END:VEVENT
BEGIN:VEVENT
UID:g9jge@games.golnetwork.com
LOCATION:CVM - Court #1
GEO:45.5146585;-73.5658635
CREATED:20161010T135412Z
DTSTART:20170221T023000Z
DTEND:20170221T033000Z
DTSTAMP:20260419T144310Z
SUMMARY:MILTON PARC vs. X PISTOLS
DESCRIPTION:X PISTOLS vs. MILTON PARCPlus d'info : #42
X-ALT-DESC;FMTTYPE=text/html:<!DOCTYPE HTML PUBLIC "-//W3C//DTD HTML 3.2//E
	N">\n<HTML>\n<HEAD>\n<TITLE></TITLE>\n</HEAD>\n<BODY>\n<h3>X PISTOLS vs. MI
	LTON PARC</h3>Plus d'info : <a href="https://www.golnetwork.com/game/v/9472
	3/">#42</a>\n\n</BODY>\n</HTML>
STATUS:CONFIRMED
CLASS:PUBLIC
URL:https://www.golnetwork.com/game/v/94723/
X-MICROSOFT-CDO-BUSYSTATUS:BUSY
X-MICROSOFT-CDO-IMPORTANCE:1
END:VEVENT
BEGIN:VEVENT
UID:g9jg8@games.golnetwork.com
LOCATION:CVM - Court #1
GEO:45.5146585;-73.5658635
CREATED:20161010T135412Z
DTSTART:20170216T013000Z
DTEND:20170216T023000Z
DTSTAMP:20260419T144310Z
SUMMARY:RETRO vs. MILTON PARC
DESCRIPTION:MILTON PARC vs. RETROPlus d'info : #39
X-ALT-DESC;FMTTYPE=text/html:<!DOCTYPE HTML PUBLIC "-//W3C//DTD HTML 3.2//E
	N">\n<HTML>\n<HEAD>\n<TITLE></TITLE>\n</HEAD>\n<BODY>\n<h3>MILTON PARC vs. 
	RETRO</h3>Plus d'info : <a href="https://www.golnetwork.com/game/v/94720/">
	#39</a>\n\n</BODY>\n</HTML>
STATUS:CONFIRMED
CLASS:PUBLIC
URL:https://www.golnetwork.com/game/v/94720/
X-MICROSOFT-CDO-BUSYSTATUS:BUSY
X-MICROSOFT-CDO-IMPORTANCE:1
END:VEVENT
BEGIN:VEVENT
UID:g9jhf@games.golnetwork.com
LOCATION:CVM - Court #1
GEO:45.5146585;-73.5658635
CREATED:20161010T135413Z
DTSTART:20170207T003000Z
DTEND:20170207T013000Z
DTSTAMP:20260419T144310Z
SUMMARY:LIBERTEE 55 vs. MILTON PARC
DESCRIPTION:MILTON PARC vs. LIBERTEE 55Plus d'info : #34
X-ALT-DESC;FMTTYPE=text/html:<!DOCTYPE HTML PUBLIC "-//W3C//DTD HTML 3.2//E
	N">\n<HTML>\n<HEAD>\n<TITLE></TITLE>\n</HEAD>\n<BODY>\n<h3>MILTON PARC vs. 
	LIBERTEE 55</h3>Plus d'info : <a href="https://www.golnetwork.com/game/v/94
	737/">#34</a>\n\n</BODY>\n</HTML>
STATUS:CONFIRMED
CLASS:PUBLIC
URL:https://www.golnetwork.com/game/v/94737/
X-MICROSOFT-CDO-BUSYSTATUS:BUSY
X-MICROSOFT-CDO-IMPORTANCE:1
END:VEVENT
BEGIN:VEVENT
UID:g9jh7@games.golnetwork.com
LOCATION:CVM - Court #1
GEO:45.5146585;-73.5658635
CREATED:20161010T135413Z
DTSTART:20170131T013000Z
DTEND:20170131T023000Z
DTSTAMP:20260419T144310Z
SUMMARY:MILTON PARC vs. RETRO
DESCRIPTION:RETRO vs. MILTON PARCPlus d'info : #33
X-ALT-DESC;FMTTYPE=text/html:<!DOCTYPE HTML PUBLIC "-//W3C//DTD HTML 3.2//E
	N">\n<HTML>\n<HEAD>\n<TITLE></TITLE>\n</HEAD>\n<BODY>\n<h3>RETRO vs. MILTON
	 PARC</h3>Plus d'info : <a href="https://www.golnetwork.com/game/v/94733/">
	#33</a>\n\n</BODY>\n</HTML>
STATUS:CONFIRMED
CLASS:PUBLIC
URL:https://www.golnetwork.com/game/v/94733/
X-MICROSOFT-CDO-BUSYSTATUS:BUSY
X-MICROSOFT-CDO-IMPORTANCE:1
END:VEVENT
BEGIN:VEVENT
UID:g9jh3@games.golnetwork.com
LOCATION:CVM - Court #1
GEO:45.5146585;-73.5658635
CREATED:20161010T135412Z
DTSTART:20170124T003000Z
DTEND:20170124T013000Z
DTSTAMP:20260419T144310Z
SUMMARY:MILTON PARC vs. AK REC ALL STARS
DESCRIPTION:AK REC ALL STARS vs. MILTON PARCPlus d'info : #28
X-ALT-DESC;FMTTYPE=text/html:<!DOCTYPE HTML PUBLIC "-//W3C//DTD HTML 3.2//E
	N">\n<HTML>\n<HEAD>\n<TITLE></TITLE>\n</HEAD>\n<BODY>\n<h3>AK REC ALL STARS
	 vs. MILTON PARC</h3>Plus d'info : <a href="https://www.golnetwork.com/game
	/v/94731/">#28</a>\n\n</BODY>\n</HTML>
STATUS:CONFIRMED
CLASS:PUBLIC
URL:https://www.golnetwork.com/game/v/94731/
X-MICROSOFT-CDO-BUSYSTATUS:BUSY
X-MICROSOFT-CDO-IMPORTANCE:1
END:VEVENT
BEGIN:VEVENT
UID:g9jgq@games.golnetwork.com
LOCATION:CVM - Court #1
GEO:45.5146585;-73.5658635
CREATED:20161010T135412Z
DTSTART:20170119T013000Z
DTEND:20170119T023000Z
DTSTAMP:20260419T144310Z
SUMMARY:MILTON PARC vs. X PISTOLS
DESCRIPTION:X PISTOLS vs. MILTON PARCPlus d'info : #27
X-ALT-DESC;FMTTYPE=text/html:<!DOCTYPE HTML PUBLIC "-//W3C//DTD HTML 3.2//E
	N">\n<HTML>\n<HEAD>\n<TITLE></TITLE>\n</HEAD>\n<BODY>\n<h3>X PISTOLS vs. MI
	LTON PARC</h3>Plus d'info : <a href="https://www.golnetwork.com/game/v/9472
	9/">#27</a>\n\n</BODY>\n</HTML>
STATUS:CONFIRMED
CLASS:PUBLIC
URL:https://www.golnetwork.com/game/v/94729/
X-MICROSOFT-CDO-BUSYSTATUS:BUSY
X-MICROSOFT-CDO-IMPORTANCE:1
END:VEVENT
BEGIN:VEVENT
UID:g9jg0@games.golnetwork.com
LOCATION:École Alex Manoogian
GEO:45.5176467;-73.667044
CREATED:20161010T135412Z
DTSTART:20161219T233000Z
DTEND:20161220T003000Z
DTSTAMP:20260419T144310Z
SUMMARY:RETRO vs. MILTON PARC
DESCRIPTION:MILTON PARC vs. RETROPlus d'info : #22
X-ALT-DESC;FMTTYPE=text/html:<!DOCTYPE HTML PUBLIC "-//W3C//DTD HTML 3.2//E
	N">\n<HTML>\n<HEAD>\n<TITLE></TITLE>\n</HEAD>\n<BODY>\n<h3>MILTON PARC vs. 
	RETRO</h3>Plus d'info : <a href="https://www.golnetwork.com/game/v/94716/">
	#22</a>\n\n</BODY>\n</HTML>
STATUS:CONFIRMED
CLASS:PUBLIC
URL:https://www.golnetwork.com/game/v/94716/
X-MICROSOFT-CDO-BUSYSTATUS:BUSY
X-MICROSOFT-CDO-IMPORTANCE:1
END:VEVENT
BEGIN:VEVENT
UID:g9jfj@games.golnetwork.com
LOCATION:École Alex Manoogian
GEO:45.5176467;-73.667044
CREATED:20161010T135412Z
DTSTART:20161213T003000Z
DTEND:20161213T013000Z
DTSTAMP:20260419T144310Z
SUMMARY:MILTON PARC vs. AK REC ALL STARS
DESCRIPTION:AK REC ALL STARS vs. MILTON PARCPlus d'info : #19
X-ALT-DESC;FMTTYPE=text/html:<!DOCTYPE HTML PUBLIC "-//W3C//DTD HTML 3.2//E
	N">\n<HTML>\n<HEAD>\n<TITLE></TITLE>\n</HEAD>\n<BODY>\n<h3>AK REC ALL STARS
	 vs. MILTON PARC</h3>Plus d'info : <a href="https://www.golnetwork.com/game
	/v/94712/">#19</a>\n\n</BODY>\n</HTML>
STATUS:CONFIRMED
CLASS:PUBLIC
URL:https://www.golnetwork.com/game/v/94712/
X-MICROSOFT-CDO-BUSYSTATUS:BUSY
X-MICROSOFT-CDO-IMPORTANCE:1
END:VEVENT
BEGIN:VEVENT
UID:g9jff@games.golnetwork.com
LOCATION:CVM - Court #1
GEO:45.5146585;-73.5658635
CREATED:20161010T135412Z
DTSTART:20161206T013000Z
DTEND:20161206T023000Z
DTSTAMP:20260419T144310Z
SUMMARY:MILTON PARC vs. LIBERTEE 55
DESCRIPTION:LIBERTEE 55 vs. MILTON PARCPlus d'info : #17
X-ALT-DESC;FMTTYPE=text/html:<!DOCTYPE HTML PUBLIC "-//W3C//DTD HTML 3.2//E
	N">\n<HTML>\n<HEAD>\n<TITLE></TITLE>\n</HEAD>\n<BODY>\n<h3>LIBERTEE 55 vs. 
	MILTON PARC</h3>Plus d'info : <a href="https://www.golnetwork.com/game/v/94
	710/">#17</a>\n\n</BODY>\n</HTML>
STATUS:CONFIRMED
CLASS:PUBLIC
URL:https://www.golnetwork.com/game/v/94710/
X-MICROSOFT-CDO-BUSYSTATUS:BUSY
X-MICROSOFT-CDO-IMPORTANCE:1
END:VEVENT
BEGIN:VEVENT
UID:g9jfb@games.golnetwork.com
LOCATION:CVM - Court #1
GEO:45.5146585;-73.5658635
CREATED:20161010T135412Z
DTSTART:20161129T013000Z
DTEND:20161129T023000Z
DTSTAMP:20260419T144310Z
SUMMARY:MILTON PARC vs. RETRO
DESCRIPTION:RETRO vs. MILTON PARCPlus d'info : #15
X-ALT-DESC;FMTTYPE=text/html:<!DOCTYPE HTML PUBLIC "-//W3C//DTD HTML 3.2//E
	N">\n<HTML>\n<HEAD>\n<TITLE></TITLE>\n</HEAD>\n<BODY>\n<h3>RETRO vs. MILTON
	 PARC</h3>Plus d'info : <a href="https://www.golnetwork.com/game/v/94708/">
	#15</a>\n\n</BODY>\n</HTML>
STATUS:CONFIRMED
CLASS:PUBLIC
URL:https://www.golnetwork.com/game/v/94708/
X-MICROSOFT-CDO-BUSYSTATUS:BUSY
X-MICROSOFT-CDO-IMPORTANCE:1
END:VEVENT
BEGIN:VEVENT
UID:g9jf5@games.golnetwork.com
LOCATION:CVM - Court #1
GEO:45.5146585;-73.5658635
CREATED:20161010T135412Z
DTSTART:20161122T013000Z
DTEND:20161122T023000Z
DTSTAMP:20260419T144310Z
SUMMARY:RETRO vs. MILTON PARC
DESCRIPTION:MILTON PARC vs. RETROPlus d'info : #11
X-ALT-DESC;FMTTYPE=text/html:<!DOCTYPE HTML PUBLIC "-//W3C//DTD HTML 3.2//E
	N">\n<HTML>\n<HEAD>\n<TITLE></TITLE>\n</HEAD>\n<BODY>\n<h3>MILTON PARC vs. 
	RETRO</h3>Plus d'info : <a href="https://www.golnetwork.com/game/v/94705/">
	#11</a>\n\n</BODY>\n</HTML>
STATUS:CONFIRMED
CLASS:PUBLIC
URL:https://www.golnetwork.com/game/v/94705/
X-MICROSOFT-CDO-BUSYSTATUS:BUSY
X-MICROSOFT-CDO-IMPORTANCE:1
END:VEVENT
BEGIN:VEVENT
UID:g9jeo@games.golnetwork.com
LOCATION:École Alex Manoogian
GEO:45.5176467;-73.667044
CREATED:20161010T135412Z
DTSTART:20161114T233000Z
DTEND:20161115T003000Z
DTSTAMP:20260419T144310Z
SUMMARY:AK REC ALL STARS vs. MILTON PARC
DESCRIPTION:MILTON PARC vs. AK REC ALL STARSPlus d'info : #7
X-ALT-DESC;FMTTYPE=text/html:<!DOCTYPE HTML PUBLIC "-//W3C//DTD HTML 3.2//E
	N">\n<HTML>\n<HEAD>\n<TITLE></TITLE>\n</HEAD>\n<BODY>\n<h3>MILTON PARC vs. 
	AK REC ALL STARS</h3>Plus d'info : <a href="https://www.golnetwork.com/game
	/v/94701/">#7</a>\n\n</BODY>\n</HTML>
STATUS:CONFIRMED
CLASS:PUBLIC
URL:https://www.golnetwork.com/game/v/94701/
X-MICROSOFT-CDO-BUSYSTATUS:BUSY
X-MICROSOFT-CDO-IMPORTANCE:1
END:VEVENT
BEGIN:VEVENT
UID:g9jeg@games.golnetwork.com
LOCATION:CVM - Court #1
GEO:45.5146585;-73.5658635
CREATED:20161010T135412Z
DTSTART:20161108T003000Z
DTEND:20161108T013000Z
DTSTAMP:20260419T144310Z
SUMMARY:MILTON PARC vs. LIBERTEE 55
DESCRIPTION:LIBERTEE 55 vs. MILTON PARCPlus d'info : #5
X-ALT-DESC;FMTTYPE=text/html:<!DOCTYPE HTML PUBLIC "-//W3C//DTD HTML 3.2//E
	N">\n<HTML>\n<HEAD>\n<TITLE></TITLE>\n</HEAD>\n<BODY>\n<h3>LIBERTEE 55 vs. 
	MILTON PARC</h3>Plus d'info : <a href="https://www.golnetwork.com/game/v/94
	697/">#5</a>\n\n</BODY>\n</HTML>
STATUS:CONFIRMED
CLASS:PUBLIC
URL:https://www.golnetwork.com/game/v/94697/
X-MICROSOFT-CDO-BUSYSTATUS:BUSY
X-MICROSOFT-CDO-IMPORTANCE:1
END:VEVENT
BEGIN:VEVENT
UID:g9jec@games.golnetwork.com
LOCATION:CVM - Court #1
GEO:45.5146585;-73.5658635
CREATED:20161010T135412Z
DTSTART:20161101T003000Z
DTEND:20161101T013000Z
DTSTAMP:20260419T144310Z
SUMMARY:MILTON PARC vs. X PISTOLS
DESCRIPTION:X PISTOLS vs. MILTON PARCPlus d'info : #3
X-ALT-DESC;FMTTYPE=text/html:<!DOCTYPE HTML PUBLIC "-//W3C//DTD HTML 3.2//E
	N">\n<HTML>\n<HEAD>\n<TITLE></TITLE>\n</HEAD>\n<BODY>\n<h3>X PISTOLS vs. MI
	LTON PARC</h3>Plus d'info : <a href="https://www.golnetwork.com/game/v/9469
	5/">#3</a>\n\n</BODY>\n</HTML>
STATUS:CONFIRMED
CLASS:PUBLIC
URL:https://www.golnetwork.com/game/v/94695/
X-MICROSOFT-CDO-BUSYSTATUS:BUSY
X-MICROSOFT-CDO-IMPORTANCE:1
END:VEVENT
END:VCALENDAR
