BEGIN:VCALENDAR
PRODID:-//gdesolutions.com//MV Framework 1.0.0.1607 Calendar//EN
VERSION:2.0
METHOD:PUBLISH
CALSCALE:GREGORIAN
BEGIN:VEVENT
UID:g228o@games.golnetwork.com
LOCATION:Cherry Beach West 1
CREATED:20120921T201012Z
DTSTART:20120926T020000Z
DTEND:20120926T030000Z
DTSTAMP:20260422T160857Z
SUMMARY:BALLS vs. EDM FC
DESCRIPTION:EDM FC vs. BALLSPlus d'info : #250
X-ALT-DESC;FMTTYPE=text/html:<!DOCTYPE HTML PUBLIC "-//W3C//DTD HTML 3.2//E
	N">\n<HTML>\n<HEAD>\n<TITLE></TITLE>\n</HEAD>\n<BODY>\n<h3>EDM FC vs. BALLS
	</h3>Plus d'info : <a href="https://www.golnetwork.com/game/v/19533/">#250<
	/a>\n\n</BODY>\n</HTML>
STATUS:CONFIRMED
CLASS:PUBLIC
URL:https://www.golnetwork.com/game/v/19533/
X-MICROSOFT-CDO-BUSYSTATUS:BUSY
X-MICROSOFT-CDO-IMPORTANCE:1
END:VEVENT
BEGIN:VEVENT
UID:g1pma@games.golnetwork.com
LOCATION:Cherry Beach East 1
CREATED:20120820T093433Z
DTSTART:20120829T010000Z
DTEND:20120829T020000Z
DTSTAMP:20260422T160857Z
SUMMARY:Vale vs. BALLS
DESCRIPTION:BALLS vs. ValePlus d'info : #155
X-ALT-DESC;FMTTYPE=text/html:<!DOCTYPE HTML PUBLIC "-//W3C//DTD HTML 3.2//E
	N">\n<HTML>\n<HEAD>\n<TITLE></TITLE>\n</HEAD>\n<BODY>\n<h3>BALLS vs. Vale</
	h3>Plus d'info : <a href="https://www.golnetwork.com/game/v/18257/">#155</a
	>\n\n</BODY>\n</HTML>
STATUS:CONFIRMED
CLASS:PUBLIC
URL:https://www.golnetwork.com/game/v/18257/
X-MICROSOFT-CDO-BUSYSTATUS:BUSY
X-MICROSOFT-CDO-IMPORTANCE:1
END:VEVENT
BEGIN:VEVENT
UID:g1pll@games.golnetwork.com
LOCATION:Cherry Beach East 1
CREATED:20120820T092826Z
DTSTART:20120822T030000Z
DTEND:20120822T040000Z
DTSTAMP:20260422T160857Z
SUMMARY:BALLS vs. The Show Ponies
DESCRIPTION:The Show Ponies vs. BALLSPlus d'info : #138
X-ALT-DESC;FMTTYPE=text/html:<!DOCTYPE HTML PUBLIC "-//W3C//DTD HTML 3.2//E
	N">\n<HTML>\n<HEAD>\n<TITLE></TITLE>\n</HEAD>\n<BODY>\n<h3>The Show Ponies 
	vs. BALLS</h3>Plus d'info : <a href="https://www.golnetwork.com/game/v/1824
	9/">#138</a>\n\n</BODY>\n</HTML>
STATUS:CONFIRMED
CLASS:PUBLIC
URL:https://www.golnetwork.com/game/v/18249/
X-MICROSOFT-CDO-BUSYSTATUS:BUSY
X-MICROSOFT-CDO-IMPORTANCE:1
END:VEVENT
BEGIN:VEVENT
UID:g1nqq@games.golnetwork.com
LOCATION:Cherry Beach East 1
CREATED:20120710T220520Z
DTSTART:20120815T030000Z
DTEND:20120815T040000Z
DTSTAMP:20260422T160857Z
SUMMARY:BALLS vs. XXXtsc
DESCRIPTION:XXXtsc vs. BALLSPlus d'info : #129
X-ALT-DESC;FMTTYPE=text/html:<!DOCTYPE HTML PUBLIC "-//W3C//DTD HTML 3.2//E
	N">\n<HTML>\n<HEAD>\n<TITLE></TITLE>\n</HEAD>\n<BODY>\n<h3>XXXtsc vs. BALLS
	</h3>Plus d'info : <a href="https://www.golnetwork.com/game/v/17590/">#129<
	/a>\n\n</BODY>\n</HTML>
STATUS:CONFIRMED
CLASS:PUBLIC
URL:https://www.golnetwork.com/game/v/17590/
X-MICROSOFT-CDO-BUSYSTATUS:BUSY
X-MICROSOFT-CDO-IMPORTANCE:1
END:VEVENT
BEGIN:VEVENT
UID:g1nqg@games.golnetwork.com
LOCATION:Cherry Beach East 1
CREATED:20120710T220520Z
DTSTART:20120808T010000Z
DTEND:20120808T020000Z
DTSTAMP:20260422T160857Z
SUMMARY:The Show Ponies vs. BALLS
DESCRIPTION:BALLS vs. The Show PoniesPlus d'info : #88
X-ALT-DESC;FMTTYPE=text/html:<!DOCTYPE HTML PUBLIC "-//W3C//DTD HTML 3.2//E
	N">\n<HTML>\n<HEAD>\n<TITLE></TITLE>\n</HEAD>\n<BODY>\n<h3>BALLS vs. The Sh
	ow Ponies</h3>Plus d'info : <a href="https://www.golnetwork.com/game/v/1758
	5/">#88</a>\n\n</BODY>\n</HTML>
STATUS:CONFIRMED
CLASS:PUBLIC
URL:https://www.golnetwork.com/game/v/17585/
X-MICROSOFT-CDO-BUSYSTATUS:BUSY
X-MICROSOFT-CDO-IMPORTANCE:1
END:VEVENT
BEGIN:VEVENT
UID:g1nqc@games.golnetwork.com
LOCATION:Cherry Beach East 1
CREATED:20120710T220520Z
DTSTART:20120801T020000Z
DTEND:20120801T030000Z
DTSTAMP:20260422T160857Z
SUMMARY:Shut your legs or I'll meg ya vs. BALLS
DESCRIPTION:BALLS vs. Shut your legs or I'll meg yaPlus d'info : #68
X-ALT-DESC;FMTTYPE=text/html:<!DOCTYPE HTML PUBLIC "-//W3C//DTD HTML 3.2//E
	N">\n<HTML>\n<HEAD>\n<TITLE></TITLE>\n</HEAD>\n<BODY>\n<h3>BALLS vs. Shut y
	our legs or I'll meg ya</h3>Plus d'info : <a href="https://www.golnetwork.c
	om/game/v/17583/">#68</a>\n\n</BODY>\n</HTML>
STATUS:CONFIRMED
CLASS:PUBLIC
URL:https://www.golnetwork.com/game/v/17583/
X-MICROSOFT-CDO-BUSYSTATUS:BUSY
X-MICROSOFT-CDO-IMPORTANCE:1
END:VEVENT
BEGIN:VEVENT
UID:g1nq8@games.golnetwork.com
LOCATION:Cherry Beach East 1
CREATED:20120710T220520Z
DTSTART:20120725T030000Z
DTEND:20120725T040000Z
DTSTAMP:20260422T160857Z
SUMMARY:BALLS vs. Vale
DESCRIPTION:Vale vs. BALLSPlus d'info : #48
X-ALT-DESC;FMTTYPE=text/html:<!DOCTYPE HTML PUBLIC "-//W3C//DTD HTML 3.2//E
	N">\n<HTML>\n<HEAD>\n<TITLE></TITLE>\n</HEAD>\n<BODY>\n<h3>Vale vs. BALLS</
	h3>Plus d'info : <a href="https://www.golnetwork.com/game/v/17581/">#48</a>
	\n\n</BODY>\n</HTML>
STATUS:CONFIRMED
CLASS:PUBLIC
URL:https://www.golnetwork.com/game/v/17581/
X-MICROSOFT-CDO-BUSYSTATUS:BUSY
X-MICROSOFT-CDO-IMPORTANCE:1
END:VEVENT
BEGIN:VEVENT
UID:g1nq0@games.golnetwork.com
LOCATION:Cherry Beach East 1
CREATED:20120710T220520Z
DTSTART:20120718T020000Z
DTEND:20120718T030000Z
DTSTAMP:20260422T160857Z
SUMMARY:BALLS vs. EDM FC
DESCRIPTION:EDM FC vs. BALLSPlus d'info : #10
X-ALT-DESC;FMTTYPE=text/html:<!DOCTYPE HTML PUBLIC "-//W3C//DTD HTML 3.2//E
	N">\n<HTML>\n<HEAD>\n<TITLE></TITLE>\n</HEAD>\n<BODY>\n<h3>EDM FC vs. BALLS
	</h3>Plus d'info : <a href="https://www.golnetwork.com/game/v/17577/">#10</
	a>\n\n</BODY>\n</HTML>
STATUS:CONFIRMED
CLASS:PUBLIC
URL:https://www.golnetwork.com/game/v/17577/
X-MICROSOFT-CDO-BUSYSTATUS:BUSY
X-MICROSOFT-CDO-IMPORTANCE:1
END:VEVENT
END:VCALENDAR
