BEGIN:VCALENDAR
PRODID:-//gdesolutions.com//MV Framework 1.0.0.1607 Calendar//EN
VERSION:2.0
METHOD:PUBLISH
CALSCALE:GREGORIAN
BEGIN:VEVENT
UID:g57d3@games.golnetwork.com
LOCATION:Cherry Beach East 3
CREATED:20140505T182816Z
DTSTART:20140709T010000Z
DTEND:20140709T020000Z
DTSTAMP:20260420T004650Z
SUMMARY:SAS vs. TorontoWildcats
DESCRIPTION:TorontoWildcats vs. SASPlus d'info : #499
X-ALT-DESC;FMTTYPE=text/html:<!DOCTYPE HTML PUBLIC "-//W3C//DTD HTML 3.2//E
	N">\n<HTML>\n<HEAD>\n<TITLE></TITLE>\n</HEAD>\n<BODY>\n<h3>TorontoWildcats 
	vs. SAS</h3>Plus d'info : <a href="https://www.golnetwork.com/game/v/50937/
	">#499</a>\n\n</BODY>\n</HTML>
STATUS:CONFIRMED
CLASS:PUBLIC
URL:https://www.golnetwork.com/game/v/50937/
X-MICROSOFT-CDO-BUSYSTATUS:BUSY
X-MICROSOFT-CDO-IMPORTANCE:1
END:VEVENT
BEGIN:VEVENT
UID:g57cq@games.golnetwork.com
LOCATION:Cherry Beach East 3
CREATED:20140505T182816Z
DTSTART:20140702T020000Z
DTEND:20140702T030000Z
DTSTAMP:20260420T004650Z
SUMMARY:Galacticos FC vs. SAS
DESCRIPTION:SAS vs. Galacticos FCPlus d'info : #468
X-ALT-DESC;FMTTYPE=text/html:<!DOCTYPE HTML PUBLIC "-//W3C//DTD HTML 3.2//E
	N">\n<HTML>\n<HEAD>\n<TITLE></TITLE>\n</HEAD>\n<BODY>\n<h3>SAS vs. Galactic
	os FC</h3>Plus d'info : <a href="https://www.golnetwork.com/game/v/50935/">
	#468</a>\n\n</BODY>\n</HTML>
STATUS:CONFIRMED
CLASS:PUBLIC
URL:https://www.golnetwork.com/game/v/50935/
X-MICROSOFT-CDO-BUSYSTATUS:BUSY
X-MICROSOFT-CDO-IMPORTANCE:1
END:VEVENT
BEGIN:VEVENT
UID:g57ce@games.golnetwork.com
LOCATION:Cherry Beach East 3
CREATED:20140505T182816Z
DTSTART:20140625T010000Z
DTEND:20140625T020000Z
DTSTAMP:20260420T004650Z
SUMMARY:TorontoWildcats vs. SAS
DESCRIPTION:SAS vs. TorontoWildcatsPlus d'info : #447
X-ALT-DESC;FMTTYPE=text/html:<!DOCTYPE HTML PUBLIC "-//W3C//DTD HTML 3.2//E
	N">\n<HTML>\n<HEAD>\n<TITLE></TITLE>\n</HEAD>\n<BODY>\n<h3>SAS vs. TorontoW
	ildcats</h3>Plus d'info : <a href="https://www.golnetwork.com/game/v/50929/
	">#447</a>\n\n</BODY>\n</HTML>
STATUS:CONFIRMED
CLASS:PUBLIC
URL:https://www.golnetwork.com/game/v/50929/
X-MICROSOFT-CDO-BUSYSTATUS:BUSY
X-MICROSOFT-CDO-IMPORTANCE:1
END:VEVENT
BEGIN:VEVENT
UID:g57cc@games.golnetwork.com
LOCATION:Cherry Beach East 3
CREATED:20140505T182816Z
DTSTART:20140618T030000Z
DTEND:20140618T040000Z
DTSTAMP:20260420T004650Z
SUMMARY:XTSC Boca Seniors vs. SAS
DESCRIPTION:SAS vs. XTSC Boca SeniorsPlus d'info : #401
X-ALT-DESC;FMTTYPE=text/html:<!DOCTYPE HTML PUBLIC "-//W3C//DTD HTML 3.2//E
	N">\n<HTML>\n<HEAD>\n<TITLE></TITLE>\n</HEAD>\n<BODY>\n<h3>SAS vs. XTSC Boc
	a Seniors</h3>Plus d'info : <a href="https://www.golnetwork.com/game/v/5092
	8/">#401</a>\n\n</BODY>\n</HTML>
STATUS:CONFIRMED
CLASS:PUBLIC
URL:https://www.golnetwork.com/game/v/50928/
X-MICROSOFT-CDO-BUSYSTATUS:BUSY
X-MICROSOFT-CDO-IMPORTANCE:1
END:VEVENT
BEGIN:VEVENT
UID:g57c0@games.golnetwork.com
LOCATION:Cherry Beach East 2
CREATED:20140505T182816Z
DTSTART:20140611T010000Z
DTEND:20140611T020000Z
DTSTAMP:20260420T004650Z
SUMMARY:Team Brazil vs. SAS
DESCRIPTION:SAS vs. Team BrazilPlus d'info : #342
X-ALT-DESC;FMTTYPE=text/html:<!DOCTYPE HTML PUBLIC "-//W3C//DTD HTML 3.2//E
	N">\n<HTML>\n<HEAD>\n<TITLE></TITLE>\n</HEAD>\n<BODY>\n<h3>SAS vs. Team Bra
	zil</h3>Plus d'info : <a href="https://www.golnetwork.com/game/v/50922/">#3
	42</a>\n\n</BODY>\n</HTML>
STATUS:CONFIRMED
CLASS:PUBLIC
URL:https://www.golnetwork.com/game/v/50922/
X-MICROSOFT-CDO-BUSYSTATUS:BUSY
X-MICROSOFT-CDO-IMPORTANCE:1
END:VEVENT
BEGIN:VEVENT
UID:g57bn@games.golnetwork.com
LOCATION:Cherry Beach East 3
CREATED:20140505T182816Z
DTSTART:20140604T030000Z
DTEND:20140604T040000Z
DTSTAMP:20260420T004650Z
SUMMARY:SAS vs. Galacticos FC
DESCRIPTION:Galacticos FC vs. SASPlus d'info : #297
X-ALT-DESC;FMTTYPE=text/html:<!DOCTYPE HTML PUBLIC "-//W3C//DTD HTML 3.2//E
	N">\n<HTML>\n<HEAD>\n<TITLE></TITLE>\n</HEAD>\n<BODY>\n<h3>Galacticos FC vs
	. SAS</h3>Plus d'info : <a href="https://www.golnetwork.com/game/v/50920/">
	#297</a>\n\n</BODY>\n</HTML>
STATUS:CONFIRMED
CLASS:PUBLIC
URL:https://www.golnetwork.com/game/v/50920/
X-MICROSOFT-CDO-BUSYSTATUS:BUSY
X-MICROSOFT-CDO-IMPORTANCE:1
END:VEVENT
BEGIN:VEVENT
UID:g57bb@games.golnetwork.com
LOCATION:Cherry Beach East 2
CREATED:20140505T182816Z
DTSTART:20140528T010000Z
DTEND:20140528T020000Z
DTSTAMP:20260420T004650Z
SUMMARY:SAS vs. Yonny & Co.
DESCRIPTION:Yonny & Co. vs. SASPlus d'info : #238
X-ALT-DESC;FMTTYPE=text/html:<!DOCTYPE HTML PUBLIC "-//W3C//DTD HTML 3.2//E
	N">\n<HTML>\n<HEAD>\n<TITLE></TITLE>\n</HEAD>\n<BODY>\n<h3>Yonny & Co. vs. 
	SAS</h3>Plus d'info : <a href="https://www.golnetwork.com/game/v/50914/">#2
	38</a>\n\n</BODY>\n</HTML>
STATUS:CONFIRMED
CLASS:PUBLIC
URL:https://www.golnetwork.com/game/v/50914/
X-MICROSOFT-CDO-BUSYSTATUS:BUSY
X-MICROSOFT-CDO-IMPORTANCE:1
END:VEVENT
BEGIN:VEVENT
UID:g57b5@games.golnetwork.com
LOCATION:Cherry Beach East 3
CREATED:20140505T182816Z
DTSTART:20140521T020000Z
DTEND:20140521T030000Z
DTSTAMP:20260420T004650Z
SUMMARY:SAS vs. Massey College
DESCRIPTION:Massey College vs. SASPlus d'info : #190
X-ALT-DESC;FMTTYPE=text/html:<!DOCTYPE HTML PUBLIC "-//W3C//DTD HTML 3.2//E
	N">\n<HTML>\n<HEAD>\n<TITLE></TITLE>\n</HEAD>\n<BODY>\n<h3>Massey College v
	s. SAS</h3>Plus d'info : <a href="https://www.golnetwork.com/game/v/50911/"
	>#190</a>\n\n</BODY>\n</HTML>
STATUS:CONFIRMED
CLASS:PUBLIC
URL:https://www.golnetwork.com/game/v/50911/
X-MICROSOFT-CDO-BUSYSTATUS:BUSY
X-MICROSOFT-CDO-IMPORTANCE:1
END:VEVENT
BEGIN:VEVENT
UID:g57aq@games.golnetwork.com
LOCATION:Cherry Beach East 3
CREATED:20140505T182816Z
DTSTART:20140514T030000Z
DTEND:20140514T040000Z
DTSTAMP:20260420T004650Z
SUMMARY:SAS vs.  Parkview Hills
DESCRIPTION: Parkview Hills vs. SASPlus d'info : #147
X-ALT-DESC;FMTTYPE=text/html:<!DOCTYPE HTML PUBLIC "-//W3C//DTD HTML 3.2//E
	N">\n<HTML>\n<HEAD>\n<TITLE></TITLE>\n</HEAD>\n<BODY>\n<h3> Parkview Hills 
	vs. SAS</h3>Plus d'info : <a href="https://www.golnetwork.com/game/v/50908/
	">#147</a>\n\n</BODY>\n</HTML>
STATUS:CONFIRMED
CLASS:PUBLIC
URL:https://www.golnetwork.com/game/v/50908/
X-MICROSOFT-CDO-BUSYSTATUS:BUSY
X-MICROSOFT-CDO-IMPORTANCE:1
END:VEVENT
END:VCALENDAR
