BEGIN:VCALENDAR
PRODID:-//gdesolutions.com//MV Framework 1.0.0.1607 Calendar//EN
VERSION:2.0
METHOD:PUBLISH
CALSCALE:GREGORIAN
BEGIN:VEVENT
UID:gc7j6@games.golnetwork.com
LOCATION:Lamport Stadium - Field 1
GEO:43.6390028;-79.4232104
CREATED:20180122T194531Z
DTSTART:20180317T020000Z
DTEND:20180317T030000Z
DTSTAMP:20260422T210933Z
SUMMARY:FC Shooters vs. 50 Shades of Green
DESCRIPTION:50 Shades of Green vs. FC ShootersPlus d'info : #736
X-ALT-DESC;FMTTYPE=text/html:<!DOCTYPE HTML PUBLIC "-//W3C//DTD HTML 3.2//E
	N">\n<HTML>\n<HEAD>\n<TITLE></TITLE>\n</HEAD>\n<BODY>\n<h3>50 Shades of Gre
	en vs. FC Shooters</h3>Plus d'info : <a href="https://www.golnetwork.com/ga
	me/v/119910/">#736</a>\n\n</BODY>\n</HTML>
STATUS:CONFIRMED
CLASS:PUBLIC
URL:https://www.golnetwork.com/game/v/119910/
X-MICROSOFT-CDO-BUSYSTATUS:BUSY
X-MICROSOFT-CDO-IMPORTANCE:1
END:VEVENT
BEGIN:VEVENT
UID:gc7j8@games.golnetwork.com
LOCATION:Lamport Stadium - Field 1
GEO:43.6390028;-79.4232104
CREATED:20180122T194535Z
DTSTART:20180317T010000Z
DTEND:20180317T020000Z
DTSTAMP:20260422T210933Z
SUMMARY:Shut Your Legs or I'll Meg Ya!  vs. FC Shooters
DESCRIPTION:FC Shooters vs. Shut Your Legs or I'll Meg Ya! Plus d'info : #7
	34
X-ALT-DESC;FMTTYPE=text/html:<!DOCTYPE HTML PUBLIC "-//W3C//DTD HTML 3.2//E
	N">\n<HTML>\n<HEAD>\n<TITLE></TITLE>\n</HEAD>\n<BODY>\n<h3>FC Shooters vs. 
	Shut Your Legs or I'll Meg Ya! </h3>Plus d'info : <a href="https://www.goln
	etwork.com/game/v/119911/">#734</a>\n\n</BODY>\n</HTML>
STATUS:CONFIRMED
CLASS:PUBLIC
URL:https://www.golnetwork.com/game/v/119911/
X-MICROSOFT-CDO-BUSYSTATUS:BUSY
X-MICROSOFT-CDO-IMPORTANCE:1
END:VEVENT
BEGIN:VEVENT
UID:gc7in@games.golnetwork.com
LOCATION:Lamport Stadium - Field 1
GEO:43.6390028;-79.4232104
CREATED:20180122T194459Z
DTSTART:20180310T040000Z
DTEND:20180310T050000Z
DTSTAMP:20260422T210933Z
SUMMARY:FC Shooters vs. Der Hammers
DESCRIPTION:Der Hammers vs. FC ShootersPlus d'info : #691
X-ALT-DESC;FMTTYPE=text/html:<!DOCTYPE HTML PUBLIC "-//W3C//DTD HTML 3.2//E
	N">\n<HTML>\n<HEAD>\n<TITLE></TITLE>\n</HEAD>\n<BODY>\n<h3>Der Hammers vs. 
	FC Shooters</h3>Plus d'info : <a href="https://www.golnetwork.com/game/v/11
	9905/">#691</a>\n\n</BODY>\n</HTML>
STATUS:CONFIRMED
CLASS:PUBLIC
URL:https://www.golnetwork.com/game/v/119905/
X-MICROSOFT-CDO-BUSYSTATUS:BUSY
X-MICROSOFT-CDO-IMPORTANCE:1
END:VEVENT
BEGIN:VEVENT
UID:gc7i9@games.golnetwork.com
LOCATION:Lamport Stadium - Field 1
GEO:43.6390028;-79.4232104
CREATED:20180122T194323Z
DTSTART:20180303T000000Z
DTEND:20180303T010000Z
DTSTAMP:20260422T210933Z
SUMMARY:Der Hammers vs. FC Shooters
DESCRIPTION:FC Shooters vs. Der HammersPlus d'info : #625
X-ALT-DESC;FMTTYPE=text/html:<!DOCTYPE HTML PUBLIC "-//W3C//DTD HTML 3.2//E
	N">\n<HTML>\n<HEAD>\n<TITLE></TITLE>\n</HEAD>\n<BODY>\n<h3>FC Shooters vs. 
	Der Hammers</h3>Plus d'info : <a href="https://www.golnetwork.com/game/v/11
	9898/">#625</a>\n\n</BODY>\n</HTML>
STATUS:CONFIRMED
CLASS:PUBLIC
URL:https://www.golnetwork.com/game/v/119898/
X-MICROSOFT-CDO-BUSYSTATUS:BUSY
X-MICROSOFT-CDO-IMPORTANCE:1
END:VEVENT
BEGIN:VEVENT
UID:gc7i7@games.golnetwork.com
LOCATION:Lamport Stadium - Field 1
GEO:43.6390028;-79.4232104
CREATED:20180122T194309Z
DTSTART:20180224T040000Z
DTEND:20180224T050000Z
DTSTAMP:20260422T210933Z
SUMMARY:FC Shooters vs. XTSC TGIF
DESCRIPTION:XTSC TGIF vs. FC ShootersPlus d'info : #554
X-ALT-DESC;FMTTYPE=text/html:<!DOCTYPE HTML PUBLIC "-//W3C//DTD HTML 3.2//E
	N">\n<HTML>\n<HEAD>\n<TITLE></TITLE>\n</HEAD>\n<BODY>\n<h3>XTSC TGIF vs. FC
	 Shooters</h3>Plus d'info : <a href="https://www.golnetwork.com/game/v/1198
	97/">#554</a>\n\n</BODY>\n</HTML>
STATUS:CONFIRMED
CLASS:PUBLIC
URL:https://www.golnetwork.com/game/v/119897/
X-MICROSOFT-CDO-BUSYSTATUS:BUSY
X-MICROSOFT-CDO-IMPORTANCE:1
END:VEVENT
BEGIN:VEVENT
UID:gc7h8@games.golnetwork.com
LOCATION:Lamport Stadium - Field 1
GEO:43.6390028;-79.4232104
CREATED:20180122T193906Z
DTSTART:20180216T230000Z
DTEND:20180217T000000Z
DTSTAMP:20260422T210933Z
SUMMARY:Victorious Secret vs. FC Shooters
DESCRIPTION:FC Shooters vs. Victorious SecretPlus d'info : #486
X-ALT-DESC;FMTTYPE=text/html:<!DOCTYPE HTML PUBLIC "-//W3C//DTD HTML 3.2//E
	N">\n<HTML>\n<HEAD>\n<TITLE></TITLE>\n</HEAD>\n<BODY>\n<h3>FC Shooters vs. 
	Victorious Secret</h3>Plus d'info : <a href="https://www.golnetwork.com/gam
	e/v/119884/">#486</a>\n\n</BODY>\n</HTML>
STATUS:CONFIRMED
CLASS:PUBLIC
URL:https://www.golnetwork.com/game/v/119884/
X-MICROSOFT-CDO-BUSYSTATUS:BUSY
X-MICROSOFT-CDO-IMPORTANCE:1
END:VEVENT
BEGIN:VEVENT
UID:gc7gp@games.golnetwork.com
LOCATION:Lamport Stadium - Field 2
GEO:43.6390028;-79.4232104
CREATED:20180122T193809Z
DTSTART:20180210T000000Z
DTEND:20180210T010000Z
DTSTAMP:20260422T210933Z
SUMMARY:FC Shooters vs. XTSC Stars 
DESCRIPTION:XTSC Stars  vs. FC ShootersPlus d'info : #404
X-ALT-DESC;FMTTYPE=text/html:<!DOCTYPE HTML PUBLIC "-//W3C//DTD HTML 3.2//E
	N">\n<HTML>\n<HEAD>\n<TITLE></TITLE>\n</HEAD>\n<BODY>\n<h3>XTSC Stars  vs. 
	FC Shooters</h3>Plus d'info : <a href="https://www.golnetwork.com/game/v/11
	9879/">#404</a>\n\n</BODY>\n</HTML>
STATUS:CONFIRMED
CLASS:PUBLIC
URL:https://www.golnetwork.com/game/v/119879/
X-MICROSOFT-CDO-BUSYSTATUS:BUSY
X-MICROSOFT-CDO-IMPORTANCE:1
END:VEVENT
BEGIN:VEVENT
UID:gc7gd@games.golnetwork.com
LOCATION:Lamport Stadium - Field 1
GEO:43.6390028;-79.4232104
CREATED:20180122T193659Z
DTSTART:20180203T010000Z
DTEND:20180203T020000Z
DTSTAMP:20260422T210933Z
SUMMARY:Six Shooters vs. FC Shooters
DESCRIPTION:FC Shooters vs. Six ShootersPlus d'info : #322
X-ALT-DESC;FMTTYPE=text/html:<!DOCTYPE HTML PUBLIC "-//W3C//DTD HTML 3.2//E
	N">\n<HTML>\n<HEAD>\n<TITLE></TITLE>\n</HEAD>\n<BODY>\n<h3>FC Shooters vs. 
	Six Shooters</h3>Plus d'info : <a href="https://www.golnetwork.com/game/v/1
	19873/">#322</a>\n\n</BODY>\n</HTML>
STATUS:CONFIRMED
CLASS:PUBLIC
URL:https://www.golnetwork.com/game/v/119873/
X-MICROSOFT-CDO-BUSYSTATUS:BUSY
X-MICROSOFT-CDO-IMPORTANCE:1
END:VEVENT
BEGIN:VEVENT
UID:gc7gb@games.golnetwork.com
LOCATION:Lamport Stadium - Field 1
GEO:43.6390028;-79.4232104
CREATED:20180122T193648Z
DTSTART:20180203T000000Z
DTEND:20180203T010000Z
DTSTAMP:20260422T210933Z
SUMMARY:Misfits vs. FC Shooters
DESCRIPTION:FC Shooters vs. MisfitsPlus d'info : #320
X-ALT-DESC;FMTTYPE=text/html:<!DOCTYPE HTML PUBLIC "-//W3C//DTD HTML 3.2//E
	N">\n<HTML>\n<HEAD>\n<TITLE></TITLE>\n</HEAD>\n<BODY>\n<h3>FC Shooters vs. 
	Misfits</h3>Plus d'info : <a href="https://www.golnetwork.com/game/v/119872
	/">#320</a>\n\n</BODY>\n</HTML>
STATUS:CONFIRMED
CLASS:PUBLIC
URL:https://www.golnetwork.com/game/v/119872/
X-MICROSOFT-CDO-BUSYSTATUS:BUSY
X-MICROSOFT-CDO-IMPORTANCE:1
END:VEVENT
BEGIN:VEVENT
UID:gc7g3@games.golnetwork.com
LOCATION:Lamport Stadium - Field 1
GEO:43.6390028;-79.4232104
CREATED:20180122T193528Z
DTSTART:20180127T020000Z
DTEND:20180127T030000Z
DTSTAMP:20260422T210933Z
SUMMARY:FC Shooters vs. Shut Your Legs or I'll Meg Ya! 
DESCRIPTION:Shut Your Legs or I'll Meg Ya!  vs. FC ShootersPlus d'info : #2
	31
X-ALT-DESC;FMTTYPE=text/html:<!DOCTYPE HTML PUBLIC "-//W3C//DTD HTML 3.2//E
	N">\n<HTML>\n<HEAD>\n<TITLE></TITLE>\n</HEAD>\n<BODY>\n<h3>Shut Your Legs o
	r I'll Meg Ya!  vs. FC Shooters</h3>Plus d'info : <a href="https://www.goln
	etwork.com/game/v/119868/">#231</a>\n\n</BODY>\n</HTML>
STATUS:CONFIRMED
CLASS:PUBLIC
URL:https://www.golnetwork.com/game/v/119868/
X-MICROSOFT-CDO-BUSYSTATUS:BUSY
X-MICROSOFT-CDO-IMPORTANCE:1
END:VEVENT
BEGIN:VEVENT
UID:gc3m1@games.golnetwork.com
LOCATION:Lamport Stadium - Field 1
GEO:43.6390028;-79.4232104
CREATED:20180112T142709Z
DTSTART:20180120T040000Z
DTEND:20180120T050000Z
DTSTAMP:20260422T210933Z
SUMMARY:FC Shooters vs. We Wear Black 4
DESCRIPTION:We Wear Black 4 vs. FC ShootersPlus d'info : #168
X-ALT-DESC;FMTTYPE=text/html:<!DOCTYPE HTML PUBLIC "-//W3C//DTD HTML 3.2//E
	N">\n<HTML>\n<HEAD>\n<TITLE></TITLE>\n</HEAD>\n<BODY>\n<h3>We Wear Black 4 
	vs. FC Shooters</h3>Plus d'info : <a href="https://www.golnetwork.com/game/
	v/118490/">#168</a>\n\n</BODY>\n</HTML>
STATUS:CONFIRMED
CLASS:PUBLIC
URL:https://www.golnetwork.com/game/v/118490/
X-MICROSOFT-CDO-BUSYSTATUS:BUSY
X-MICROSOFT-CDO-IMPORTANCE:1
END:VEVENT
END:VCALENDAR
