BEGIN:VCALENDAR
PRODID:-//gdesolutions.com//MV Framework 1.0.0.1607 Calendar//EN
VERSION:2.0
METHOD:PUBLISH
CALSCALE:GREGORIAN
BEGIN:VEVENT
UID:g2893@games.golnetwork.com
LOCATION:Lamport Stadium Field 1
GEO:43.639337;-79.4248954
CREATED:20121017T140433Z
DTSTART:20121022T020000Z
DTEND:20121022T030000Z
DTSTAMP:20260419T193832Z
SUMMARY:Orange Crush FC vs. XTSC Bomb Squad
DESCRIPTION:XTSC Bomb Squad vs. Orange Crush FCPlus d'info : #284
X-ALT-DESC;FMTTYPE=text/html:<!DOCTYPE HTML PUBLIC "-//W3C//DTD HTML 3.2//E
	N">\n<HTML>\n<HEAD>\n<TITLE></TITLE>\n</HEAD>\n<BODY>\n<h3>XTSC Bomb Squad 
	vs. Orange Crush FC</h3>Plus d'info : <a href="https://www.golnetwork.com/g
	ame/v/21723/">#284</a>\n\n</BODY>\n</HTML>
STATUS:CONFIRMED
CLASS:PUBLIC
URL:https://www.golnetwork.com/game/v/21723/
X-MICROSOFT-CDO-BUSYSTATUS:BUSY
X-MICROSOFT-CDO-IMPORTANCE:1
END:VEVENT
BEGIN:VEVENT
UID:g27il@games.golnetwork.com
LOCATION:Lamport Stadium Field 1
GEO:43.639337;-79.4248954
CREATED:20121008T175005Z
DTSTART:20121015T020000Z
DTEND:20121015T030000Z
DTSTAMP:20260419T193832Z
SUMMARY:Orange Crush FC vs. Scoregasms FC (Orange)
DESCRIPTION:Scoregasms FC (Orange) vs. Orange Crush FCPlus d'info : #272
X-ALT-DESC;FMTTYPE=text/html:<!DOCTYPE HTML PUBLIC "-//W3C//DTD HTML 3.2//E
	N">\n<HTML>\n<HEAD>\n<TITLE></TITLE>\n</HEAD>\n<BODY>\n<h3>Scoregasms FC (O
	range) vs. Orange Crush FC</h3>Plus d'info : <a href="https://www.golnetwor
	k.com/game/v/21489/">#272</a>\n\n</BODY>\n</HTML>
STATUS:CONFIRMED
CLASS:PUBLIC
URL:https://www.golnetwork.com/game/v/21489/
X-MICROSOFT-CDO-BUSYSTATUS:BUSY
X-MICROSOFT-CDO-IMPORTANCE:1
END:VEVENT
BEGIN:VEVENT
UID:g1pa0@games.golnetwork.com
LOCATION:Lamport Stadium Field 1
GEO:43.639337;-79.4248954
CREATED:20120726T173824Z
DTSTART:20121008T020000Z
DTEND:20121008T030000Z
DTSTAMP:20260419T193832Z
SUMMARY:Orange Crush FC vs. Bad News Bears (Red)
DESCRIPTION:Bad News Bears (Red) vs. Orange Crush FCPlus d'info : #261
X-ALT-DESC;FMTTYPE=text/html:<!DOCTYPE HTML PUBLIC "-//W3C//DTD HTML 3.2//E
	N">\n<HTML>\n<HEAD>\n<TITLE></TITLE>\n</HEAD>\n<BODY>\n<h3>Bad News Bears (
	Red) vs. Orange Crush FC</h3>Plus d'info : <a href="https://www.golnetwork.
	com/game/v/18090/">#261</a>\n\n</BODY>\n</HTML>
STATUS:CONFIRMED
CLASS:PUBLIC
URL:https://www.golnetwork.com/game/v/18090/
X-MICROSOFT-CDO-BUSYSTATUS:BUSY
X-MICROSOFT-CDO-IMPORTANCE:1
END:VEVENT
BEGIN:VEVENT
UID:g1p3p@games.golnetwork.com
LOCATION:Lamport Stadium Field 1
GEO:43.639337;-79.4248954
CREATED:20120719T183540Z
DTSTART:20120923T230000Z
DTEND:20120924T000000Z
DTSTAMP:20260419T193832Z
SUMMARY:Buzzkill (Yellow) vs. Orange Crush FC
DESCRIPTION:Orange Crush FC vs. Buzzkill (Yellow)Plus d'info : #238
X-ALT-DESC;FMTTYPE=text/html:<!DOCTYPE HTML PUBLIC "-//W3C//DTD HTML 3.2//E
	N">\n<HTML>\n<HEAD>\n<TITLE></TITLE>\n</HEAD>\n<BODY>\n<h3>Orange Crush FC 
	vs. Buzzkill (Yellow)</h3>Plus d'info : <a href="https://www.golnetwork.com
	/game/v/18008/">#238</a>\n\n</BODY>\n</HTML>
STATUS:CONFIRMED
CLASS:PUBLIC
URL:https://www.golnetwork.com/game/v/18008/
X-MICROSOFT-CDO-BUSYSTATUS:BUSY
X-MICROSOFT-CDO-IMPORTANCE:1
END:VEVENT
BEGIN:VEVENT
UID:g1p3h@games.golnetwork.com
LOCATION:Lamport Stadium Field 1
GEO:43.639337;-79.4248954
CREATED:20120719T183540Z
DTSTART:20120917T000000Z
DTEND:20120917T010000Z
DTSTAMP:20260419T193832Z
SUMMARY:FUFC vs. Orange Crush FC
DESCRIPTION:Orange Crush FC vs. FUFCPlus d'info : #223
X-ALT-DESC;FMTTYPE=text/html:<!DOCTYPE HTML PUBLIC "-//W3C//DTD HTML 3.2//E
	N">\n<HTML>\n<HEAD>\n<TITLE></TITLE>\n</HEAD>\n<BODY>\n<h3>Orange Crush FC 
	vs. FUFC</h3>Plus d'info : <a href="https://www.golnetwork.com/game/v/18004
	/">#223</a>\n\n</BODY>\n</HTML>
STATUS:CONFIRMED
CLASS:PUBLIC
URL:https://www.golnetwork.com/game/v/18004/
X-MICROSOFT-CDO-BUSYSTATUS:BUSY
X-MICROSOFT-CDO-IMPORTANCE:1
END:VEVENT
BEGIN:VEVENT
UID:g1p35@games.golnetwork.com
LOCATION:Lamport Stadium Field 1
GEO:43.639337;-79.4248954
CREATED:20120719T183540Z
DTSTART:20120909T230000Z
DTEND:20120910T000000Z
DTSTAMP:20260419T193832Z
SUMMARY:Kickin it Old School (White) vs. Orange Crush FC
DESCRIPTION:Orange Crush FC vs. Kickin it Old School (White)Plus d'info : #
	202
X-ALT-DESC;FMTTYPE=text/html:<!DOCTYPE HTML PUBLIC "-//W3C//DTD HTML 3.2//E
	N">\n<HTML>\n<HEAD>\n<TITLE></TITLE>\n</HEAD>\n<BODY>\n<h3>Orange Crush FC 
	vs. Kickin it Old School (White)</h3>Plus d'info : <a href="https://www.gol
	network.com/game/v/17998/">#202</a>\n\n</BODY>\n</HTML>
STATUS:CONFIRMED
CLASS:PUBLIC
URL:https://www.golnetwork.com/game/v/17998/
X-MICROSOFT-CDO-BUSYSTATUS:BUSY
X-MICROSOFT-CDO-IMPORTANCE:1
END:VEVENT
BEGIN:VEVENT
UID:g1p2o@games.golnetwork.com
LOCATION:Lamport Stadium Field 1
GEO:43.639337;-79.4248954
CREATED:20120719T183540Z
DTSTART:20120903T000000Z
DTEND:20120903T010000Z
DTSTAMP:20260419T193832Z
SUMMARY:FC Shooters vs. Orange Crush FC
DESCRIPTION:Orange Crush FC vs. FC ShootersPlus d'info : #179
X-ALT-DESC;FMTTYPE=text/html:<!DOCTYPE HTML PUBLIC "-//W3C//DTD HTML 3.2//E
	N">\n<HTML>\n<HEAD>\n<TITLE></TITLE>\n</HEAD>\n<BODY>\n<h3>Orange Crush FC 
	vs. FC Shooters</h3>Plus d'info : <a href="https://www.golnetwork.com/game/
	v/17994/">#179</a>\n\n</BODY>\n</HTML>
STATUS:CONFIRMED
CLASS:PUBLIC
URL:https://www.golnetwork.com/game/v/17994/
X-MICROSOFT-CDO-BUSYSTATUS:BUSY
X-MICROSOFT-CDO-IMPORTANCE:1
END:VEVENT
BEGIN:VEVENT
UID:g1p2c@games.golnetwork.com
LOCATION:Lamport Stadium Field 1
GEO:43.639337;-79.4248954
CREATED:20120719T183540Z
DTSTART:20120812T230000Z
DTEND:20120813T000000Z
DTSTAMP:20260419T193832Z
SUMMARY:Bad News Bears (Red) vs. Orange Crush FC
DESCRIPTION:Orange Crush FC vs. Bad News Bears (Red)Plus d'info : #111
X-ALT-DESC;FMTTYPE=text/html:<!DOCTYPE HTML PUBLIC "-//W3C//DTD HTML 3.2//E
	N">\n<HTML>\n<HEAD>\n<TITLE></TITLE>\n</HEAD>\n<BODY>\n<h3>Orange Crush FC 
	vs. Bad News Bears (Red)</h3>Plus d'info : <a href="https://www.golnetwork.
	com/game/v/17988/">#111</a>\n\n</BODY>\n</HTML>
STATUS:CONFIRMED
CLASS:PUBLIC
URL:https://www.golnetwork.com/game/v/17988/
X-MICROSOFT-CDO-BUSYSTATUS:BUSY
X-MICROSOFT-CDO-IMPORTANCE:1
END:VEVENT
BEGIN:VEVENT
UID:g1p28@games.golnetwork.com
LOCATION:Lamport Stadium Field 2
GEO:43.639337;-79.4248954
CREATED:20120719T183540Z
DTSTART:20120723T020000Z
DTEND:20120723T030000Z
DTSTAMP:20260419T193832Z
SUMMARY:FC Shooters vs. Orange Crush FC
DESCRIPTION:Orange Crush FC vs. FC ShootersPlus d'info : #40
X-ALT-DESC;FMTTYPE=text/html:<!DOCTYPE HTML PUBLIC "-//W3C//DTD HTML 3.2//E
	N">\n<HTML>\n<HEAD>\n<TITLE></TITLE>\n</HEAD>\n<BODY>\n<h3>Orange Crush FC 
	vs. FC Shooters</h3>Plus d'info : <a href="https://www.golnetwork.com/game/
	v/17986/">#40</a>\n\n</BODY>\n</HTML>
STATUS:CONFIRMED
CLASS:PUBLIC
URL:https://www.golnetwork.com/game/v/17986/
X-MICROSOFT-CDO-BUSYSTATUS:BUSY
X-MICROSOFT-CDO-IMPORTANCE:1
END:VEVENT
END:VCALENDAR
