BEGIN:VCALENDAR
PRODID:-//gdesolutions.com//MV Framework 1.0.0.1607 Calendar//EN
VERSION:2.0
METHOD:PUBLISH
CALSCALE:GREGORIAN
BEGIN:VEVENT
UID:g288q@games.golnetwork.com
LOCATION:Lamport Stadium Field 1
GEO:43.639337;-79.4248954
CREATED:20121017T140232Z
DTSTART:20121022T000000Z
DTEND:20121022T010000Z
DTSTAMP:20260419T144825Z
SUMMARY:Buzzkill (Yellow) vs. FUFC
DESCRIPTION:FUFC vs. Buzzkill (Yellow)Plus d'info : #278
X-ALT-DESC;FMTTYPE=text/html:<!DOCTYPE HTML PUBLIC "-//W3C//DTD HTML 3.2//E
	N">\n<HTML>\n<HEAD>\n<TITLE></TITLE>\n</HEAD>\n<BODY>\n<h3>FUFC vs. Buzzkil
	l (Yellow)</h3>Plus d'info : <a href="https://www.golnetwork.com/game/v/217
	21/">#278</a>\n\n</BODY>\n</HTML>
STATUS:CONFIRMED
CLASS:PUBLIC
URL:https://www.golnetwork.com/game/v/21721/
X-MICROSOFT-CDO-BUSYSTATUS:BUSY
X-MICROSOFT-CDO-IMPORTANCE:1
END:VEVENT
BEGIN:VEVENT
UID:g27if@games.golnetwork.com
LOCATION:Lamport Stadium Field 1
GEO:43.639337;-79.4248954
CREATED:20121008T174848Z
DTSTART:20121014T230000Z
DTEND:20121015T000000Z
DTSTAMP:20260419T144825Z
SUMMARY:FC Shooters vs. FUFC
DESCRIPTION:FUFC vs. FC ShootersPlus d'info : #263
X-ALT-DESC;FMTTYPE=text/html:<!DOCTYPE HTML PUBLIC "-//W3C//DTD HTML 3.2//E
	N">\n<HTML>\n<HEAD>\n<TITLE></TITLE>\n</HEAD>\n<BODY>\n<h3>FUFC vs. FC Shoo
	ters</h3>Plus d'info : <a href="https://www.golnetwork.com/game/v/21486/">#
	263</a>\n\n</BODY>\n</HTML>
STATUS:CONFIRMED
CLASS:PUBLIC
URL:https://www.golnetwork.com/game/v/21486/
X-MICROSOFT-CDO-BUSYSTATUS:BUSY
X-MICROSOFT-CDO-IMPORTANCE:1
END:VEVENT
BEGIN:VEVENT
UID:g1p9l@games.golnetwork.com
LOCATION:Lamport Stadium Field 1
GEO:43.639337;-79.4248954
CREATED:20120726T173723Z
DTSTART:20121008T000000Z
DTEND:20121008T010000Z
DTSTAMP:20260419T144825Z
SUMMARY:FC Shooters vs. FUFC
DESCRIPTION:FUFC vs. FC ShootersPlus d'info : #257
X-ALT-DESC;FMTTYPE=text/html:<!DOCTYPE HTML PUBLIC "-//W3C//DTD HTML 3.2//E
	N">\n<HTML>\n<HEAD>\n<TITLE></TITLE>\n</HEAD>\n<BODY>\n<h3>FUFC vs. FC Shoo
	ters</h3>Plus d'info : <a href="https://www.golnetwork.com/game/v/18087/">#
	257</a>\n\n</BODY>\n</HTML>
STATUS:CONFIRMED
CLASS:PUBLIC
URL:https://www.golnetwork.com/game/v/18087/
X-MICROSOFT-CDO-BUSYSTATUS:BUSY
X-MICROSOFT-CDO-IMPORTANCE:1
END:VEVENT
BEGIN:VEVENT
UID:g1p44@games.golnetwork.com
LOCATION:Lamport Stadium Field 2
GEO:43.639337;-79.4248954
CREATED:20120719T183540Z
DTSTART:20120924T020000Z
DTEND:20120924T030000Z
DTSTAMP:20260419T144825Z
SUMMARY:Gang Green (Neon Green) vs. FUFC
DESCRIPTION:FUFC vs. Gang Green (Neon Green)Plus d'info : #248
X-ALT-DESC;FMTTYPE=text/html:<!DOCTYPE HTML PUBLIC "-//W3C//DTD HTML 3.2//E
	N">\n<HTML>\n<HEAD>\n<TITLE></TITLE>\n</HEAD>\n<BODY>\n<h3>FUFC vs. Gang Gr
	een (Neon Green)</h3>Plus d'info : <a href="https://www.golnetwork.com/game
	/v/18011/">#248</a>\n\n</BODY>\n</HTML>
STATUS:CONFIRMED
CLASS:PUBLIC
URL:https://www.golnetwork.com/game/v/18011/
X-MICROSOFT-CDO-BUSYSTATUS:BUSY
X-MICROSOFT-CDO-IMPORTANCE:1
END:VEVENT
BEGIN:VEVENT
UID:g1p3h@games.golnetwork.com
LOCATION:Lamport Stadium Field 1
GEO:43.639337;-79.4248954
CREATED:20120719T183540Z
DTSTART:20120917T000000Z
DTEND:20120917T010000Z
DTSTAMP:20260419T144825Z
SUMMARY:FUFC vs. Orange Crush FC
DESCRIPTION:Orange Crush FC vs. FUFCPlus d'info : #223
X-ALT-DESC;FMTTYPE=text/html:<!DOCTYPE HTML PUBLIC "-//W3C//DTD HTML 3.2//E
	N">\n<HTML>\n<HEAD>\n<TITLE></TITLE>\n</HEAD>\n<BODY>\n<h3>Orange Crush FC 
	vs. FUFC</h3>Plus d'info : <a href="https://www.golnetwork.com/game/v/18004
	/">#223</a>\n\n</BODY>\n</HTML>
STATUS:CONFIRMED
CLASS:PUBLIC
URL:https://www.golnetwork.com/game/v/18004/
X-MICROSOFT-CDO-BUSYSTATUS:BUSY
X-MICROSOFT-CDO-IMPORTANCE:1
END:VEVENT
BEGIN:VEVENT
UID:g1p3d@games.golnetwork.com
LOCATION:Lamport Stadium Field 2
GEO:43.639337;-79.4248954
CREATED:20120719T183540Z
DTSTART:20120910T020000Z
DTEND:20120910T030000Z
DTSTAMP:20260419T144825Z
SUMMARY:FUFC vs. XTSC Bomb Squad
DESCRIPTION:XTSC Bomb Squad vs. FUFCPlus d'info : #212
X-ALT-DESC;FMTTYPE=text/html:<!DOCTYPE HTML PUBLIC "-//W3C//DTD HTML 3.2//E
	N">\n<HTML>\n<HEAD>\n<TITLE></TITLE>\n</HEAD>\n<BODY>\n<h3>XTSC Bomb Squad 
	vs. FUFC</h3>Plus d'info : <a href="https://www.golnetwork.com/game/v/18002
	/">#212</a>\n\n</BODY>\n</HTML>
STATUS:CONFIRMED
CLASS:PUBLIC
URL:https://www.golnetwork.com/game/v/18002/
X-MICROSOFT-CDO-BUSYSTATUS:BUSY
X-MICROSOFT-CDO-IMPORTANCE:1
END:VEVENT
BEGIN:VEVENT
UID:g1p39@games.golnetwork.com
LOCATION:Lamport Stadium Field 1
GEO:43.639337;-79.4248954
CREATED:20120719T183540Z
DTSTART:20120910T010000Z
DTEND:20120910T020000Z
DTSTAMP:20260419T144825Z
SUMMARY:Bad News Bears (Red) vs. FUFC
DESCRIPTION:FUFC vs. Bad News Bears (Red)Plus d'info : #208
X-ALT-DESC;FMTTYPE=text/html:<!DOCTYPE HTML PUBLIC "-//W3C//DTD HTML 3.2//E
	N">\n<HTML>\n<HEAD>\n<TITLE></TITLE>\n</HEAD>\n<BODY>\n<h3>FUFC vs. Bad New
	s Bears (Red)</h3>Plus d'info : <a href="https://www.golnetwork.com/game/v/
	18000/">#208</a>\n\n</BODY>\n</HTML>
STATUS:CONFIRMED
CLASS:PUBLIC
URL:https://www.golnetwork.com/game/v/18000/
X-MICROSOFT-CDO-BUSYSTATUS:BUSY
X-MICROSOFT-CDO-IMPORTANCE:1
END:VEVENT
BEGIN:VEVENT
UID:g1p31@games.golnetwork.com
LOCATION:Lamport Stadium Field 1
GEO:43.639337;-79.4248954
CREATED:20120719T183540Z
DTSTART:20120903T020000Z
DTEND:20120903T030000Z
DTSTAMP:20260419T144825Z
SUMMARY:Bad News Bears (Red) vs. FUFC
DESCRIPTION:FUFC vs. Bad News Bears (Red)Plus d'info : #185
X-ALT-DESC;FMTTYPE=text/html:<!DOCTYPE HTML PUBLIC "-//W3C//DTD HTML 3.2//E
	N">\n<HTML>\n<HEAD>\n<TITLE></TITLE>\n</HEAD>\n<BODY>\n<h3>FUFC vs. Bad New
	s Bears (Red)</h3>Plus d'info : <a href="https://www.golnetwork.com/game/v/
	17996/">#185</a>\n\n</BODY>\n</HTML>
STATUS:CONFIRMED
CLASS:PUBLIC
URL:https://www.golnetwork.com/game/v/17996/
X-MICROSOFT-CDO-BUSYSTATUS:BUSY
X-MICROSOFT-CDO-IMPORTANCE:1
END:VEVENT
BEGIN:VEVENT
UID:g1p2i@games.golnetwork.com
LOCATION:Lamport Stadium Field 2
GEO:43.639337;-79.4248954
CREATED:20120719T183540Z
DTSTART:20120813T020000Z
DTEND:20120813T030000Z
DTSTAMP:20260419T144825Z
SUMMARY:FUFC vs. Gang Green (Neon Green)
DESCRIPTION:Gang Green (Neon Green) vs. FUFCPlus d'info : #121
X-ALT-DESC;FMTTYPE=text/html:<!DOCTYPE HTML PUBLIC "-//W3C//DTD HTML 3.2//E
	N">\n<HTML>\n<HEAD>\n<TITLE></TITLE>\n</HEAD>\n<BODY>\n<h3>Gang Green (Neon
	 Green) vs. FUFC</h3>Plus d'info : <a href="https://www.golnetwork.com/game
	/v/17991/">#121</a>\n\n</BODY>\n</HTML>
STATUS:CONFIRMED
CLASS:PUBLIC
URL:https://www.golnetwork.com/game/v/17991/
X-MICROSOFT-CDO-BUSYSTATUS:BUSY
X-MICROSOFT-CDO-IMPORTANCE:1
END:VEVENT
BEGIN:VEVENT
UID:g1p22@games.golnetwork.com
LOCATION:Lamport Stadium Field 1
GEO:43.639337;-79.4248954
CREATED:20120719T183540Z
DTSTART:20120722T230000Z
DTEND:20120723T000000Z
DTSTAMP:20260419T144825Z
SUMMARY:Scoregasms FC (Orange) vs. FUFC
DESCRIPTION:FUFC vs. Scoregasms FC (Orange)Plus d'info : #30
X-ALT-DESC;FMTTYPE=text/html:<!DOCTYPE HTML PUBLIC "-//W3C//DTD HTML 3.2//E
	N">\n<HTML>\n<HEAD>\n<TITLE></TITLE>\n</HEAD>\n<BODY>\n<h3>FUFC vs. Scorega
	sms FC (Orange)</h3>Plus d'info : <a href="https://www.golnetwork.com/game/
	v/17983/">#30</a>\n\n</BODY>\n</HTML>
STATUS:CONFIRMED
CLASS:PUBLIC
URL:https://www.golnetwork.com/game/v/17983/
X-MICROSOFT-CDO-BUSYSTATUS:BUSY
X-MICROSOFT-CDO-IMPORTANCE:1
END:VEVENT
END:VCALENDAR
