BEGIN:VCALENDAR
PRODID:-//gdesolutions.com//MV Framework 1.0.0.1607 Calendar//EN
VERSION:2.0
METHOD:PUBLISH
CALSCALE:GREGORIAN
BEGIN:VEVENT
UID:g288o@games.golnetwork.com
LOCATION:Lamport Stadium Field 1
GEO:43.639337;-79.4248954
CREATED:20121017T140152Z
DTSTART:20121022T010000Z
DTEND:20121022T020000Z
DTSTAMP:20260421T052343Z
SUMMARY:FC Shooters vs. Kickin it Old School (White)
DESCRIPTION:Kickin it Old School (White) vs. FC ShootersPlus d'info : #281
X-ALT-DESC;FMTTYPE=text/html:<!DOCTYPE HTML PUBLIC "-//W3C//DTD HTML 3.2//E
	N">\n<HTML>\n<HEAD>\n<TITLE></TITLE>\n</HEAD>\n<BODY>\n<h3>Kickin it Old Sc
	hool (White) vs. FC Shooters</h3>Plus d'info : <a href="https://www.golnetw
	ork.com/game/v/21720/">#281</a>\n\n</BODY>\n</HTML>
STATUS:CONFIRMED
CLASS:PUBLIC
URL:https://www.golnetwork.com/game/v/21720/
X-MICROSOFT-CDO-BUSYSTATUS:BUSY
X-MICROSOFT-CDO-IMPORTANCE:1
END:VEVENT
BEGIN:VEVENT
UID:g27ih@games.golnetwork.com
LOCATION:Lamport Stadium Field 1
GEO:43.639337;-79.4248954
CREATED:20121008T174920Z
DTSTART:20121015T000000Z
DTEND:20121015T010000Z
DTSTAMP:20260421T052343Z
SUMMARY:Kickin it Old School (White) vs. Buzzkill (Yellow)
DESCRIPTION:Buzzkill (Yellow) vs. Kickin it Old School (White)Plus d'info :
	 #266
X-ALT-DESC;FMTTYPE=text/html:<!DOCTYPE HTML PUBLIC "-//W3C//DTD HTML 3.2//E
	N">\n<HTML>\n<HEAD>\n<TITLE></TITLE>\n</HEAD>\n<BODY>\n<h3>Buzzkill (Yellow
	) vs. Kickin it Old School (White)</h3>Plus d'info : <a href="https://www.g
	olnetwork.com/game/v/21487/">#266</a>\n\n</BODY>\n</HTML>
STATUS:CONFIRMED
CLASS:PUBLIC
URL:https://www.golnetwork.com/game/v/21487/
X-MICROSOFT-CDO-BUSYSTATUS:BUSY
X-MICROSOFT-CDO-IMPORTANCE:1
END:VEVENT
BEGIN:VEVENT
UID:g1p42@games.golnetwork.com
LOCATION:Lamport Stadium Field 1
GEO:43.639337;-79.4248954
CREATED:20120719T183540Z
DTSTART:20120924T010000Z
DTEND:20120924T020000Z
DTSTAMP:20260421T052343Z
SUMMARY:Buzzkill (Yellow) vs. Kickin it Old School (White)
DESCRIPTION:Kickin it Old School (White) vs. Buzzkill (Yellow)Plus d'info :
	 #244
X-ALT-DESC;FMTTYPE=text/html:<!DOCTYPE HTML PUBLIC "-//W3C//DTD HTML 3.2//E
	N">\n<HTML>\n<HEAD>\n<TITLE></TITLE>\n</HEAD>\n<BODY>\n<h3>Kickin it Old Sc
	hool (White) vs. Buzzkill (Yellow)</h3>Plus d'info : <a href="https://www.g
	olnetwork.com/game/v/18010/">#244</a>\n\n</BODY>\n</HTML>
STATUS:CONFIRMED
CLASS:PUBLIC
URL:https://www.golnetwork.com/game/v/18010/
X-MICROSOFT-CDO-BUSYSTATUS:BUSY
X-MICROSOFT-CDO-IMPORTANCE:1
END:VEVENT
BEGIN:VEVENT
UID:g1p3f@games.golnetwork.com
LOCATION:Lamport Stadium Field 1
GEO:43.639337;-79.4248954
CREATED:20120719T183540Z
DTSTART:20120916T230000Z
DTEND:20120917T000000Z
DTSTAMP:20260421T052343Z
SUMMARY:Kickin it Old School (White) vs. Buzzkill (Yellow)
DESCRIPTION:Buzzkill (Yellow) vs. Kickin it Old School (White)Plus d'info :
	 #220
X-ALT-DESC;FMTTYPE=text/html:<!DOCTYPE HTML PUBLIC "-//W3C//DTD HTML 3.2//E
	N">\n<HTML>\n<HEAD>\n<TITLE></TITLE>\n</HEAD>\n<BODY>\n<h3>Buzzkill (Yellow
	) vs. Kickin it Old School (White)</h3>Plus d'info : <a href="https://www.g
	olnetwork.com/game/v/18003/">#220</a>\n\n</BODY>\n</HTML>
STATUS:CONFIRMED
CLASS:PUBLIC
URL:https://www.golnetwork.com/game/v/18003/
X-MICROSOFT-CDO-BUSYSTATUS:BUSY
X-MICROSOFT-CDO-IMPORTANCE:1
END:VEVENT
BEGIN:VEVENT
UID:g1p35@games.golnetwork.com
LOCATION:Lamport Stadium Field 1
GEO:43.639337;-79.4248954
CREATED:20120719T183540Z
DTSTART:20120909T230000Z
DTEND:20120910T000000Z
DTSTAMP:20260421T052343Z
SUMMARY:Kickin it Old School (White) vs. Orange Crush FC
DESCRIPTION:Orange Crush FC vs. Kickin it Old School (White)Plus d'info : #
	202
X-ALT-DESC;FMTTYPE=text/html:<!DOCTYPE HTML PUBLIC "-//W3C//DTD HTML 3.2//E
	N">\n<HTML>\n<HEAD>\n<TITLE></TITLE>\n</HEAD>\n<BODY>\n<h3>Orange Crush FC 
	vs. Kickin it Old School (White)</h3>Plus d'info : <a href="https://www.gol
	network.com/game/v/17998/">#202</a>\n\n</BODY>\n</HTML>
STATUS:CONFIRMED
CLASS:PUBLIC
URL:https://www.golnetwork.com/game/v/17998/
X-MICROSOFT-CDO-BUSYSTATUS:BUSY
X-MICROSOFT-CDO-IMPORTANCE:1
END:VEVENT
BEGIN:VEVENT
UID:g1p2m@games.golnetwork.com
LOCATION:Lamport Stadium Field 1
GEO:43.639337;-79.4248954
CREATED:20120719T183540Z
DTSTART:20120902T230000Z
DTEND:20120903T000000Z
DTSTAMP:20260421T052343Z
SUMMARY:Buzzkill (Yellow) vs. Kickin it Old School (White)
DESCRIPTION:Kickin it Old School (White) vs. Buzzkill (Yellow)Plus d'info :
	 #176
X-ALT-DESC;FMTTYPE=text/html:<!DOCTYPE HTML PUBLIC "-//W3C//DTD HTML 3.2//E
	N">\n<HTML>\n<HEAD>\n<TITLE></TITLE>\n</HEAD>\n<BODY>\n<h3>Kickin it Old Sc
	hool (White) vs. Buzzkill (Yellow)</h3>Plus d'info : <a href="https://www.g
	olnetwork.com/game/v/17993/">#176</a>\n\n</BODY>\n</HTML>
STATUS:CONFIRMED
CLASS:PUBLIC
URL:https://www.golnetwork.com/game/v/17993/
X-MICROSOFT-CDO-BUSYSTATUS:BUSY
X-MICROSOFT-CDO-IMPORTANCE:1
END:VEVENT
BEGIN:VEVENT
UID:g1p2g@games.golnetwork.com
LOCATION:Lamport Stadium Field 1
GEO:43.639337;-79.4248954
CREATED:20120719T183540Z
DTSTART:20120813T010000Z
DTEND:20120813T020000Z
DTSTAMP:20260421T052343Z
SUMMARY:Kickin it Old School (White) vs. XTSC Bomb Squad
DESCRIPTION:XTSC Bomb Squad vs. Kickin it Old School (White)Plus d'info : #
	117
X-ALT-DESC;FMTTYPE=text/html:<!DOCTYPE HTML PUBLIC "-//W3C//DTD HTML 3.2//E
	N">\n<HTML>\n<HEAD>\n<TITLE></TITLE>\n</HEAD>\n<BODY>\n<h3>XTSC Bomb Squad 
	vs. Kickin it Old School (White)</h3>Plus d'info : <a href="https://www.gol
	network.com/game/v/17990/">#117</a>\n\n</BODY>\n</HTML>
STATUS:CONFIRMED
CLASS:PUBLIC
URL:https://www.golnetwork.com/game/v/17990/
X-MICROSOFT-CDO-BUSYSTATUS:BUSY
X-MICROSOFT-CDO-IMPORTANCE:1
END:VEVENT
BEGIN:VEVENT
UID:g1p2a@games.golnetwork.com
LOCATION:Lamport Stadium Field 1
GEO:43.639337;-79.4248954
CREATED:20120719T183540Z
DTSTART:20120723T020000Z
DTEND:20120723T030000Z
DTSTAMP:20260421T052343Z
SUMMARY:Kickin it Old School (White) vs. Bad News Bears (Red)
DESCRIPTION:Bad News Bears (Red) vs. Kickin it Old School (White)Plus d'inf
	o : #39
X-ALT-DESC;FMTTYPE=text/html:<!DOCTYPE HTML PUBLIC "-//W3C//DTD HTML 3.2//E
	N">\n<HTML>\n<HEAD>\n<TITLE></TITLE>\n</HEAD>\n<BODY>\n<h3>Bad News Bears (
	Red) vs. Kickin it Old School (White)</h3>Plus d'info : <a href="https://ww
	w.golnetwork.com/game/v/17987/">#39</a>\n\n</BODY>\n</HTML>
STATUS:CONFIRMED
CLASS:PUBLIC
URL:https://www.golnetwork.com/game/v/17987/
X-MICROSOFT-CDO-BUSYSTATUS:BUSY
X-MICROSOFT-CDO-IMPORTANCE:1
END:VEVENT
BEGIN:VEVENT
UID:g1p26@games.golnetwork.com
LOCATION:Lamport Stadium Field 1
GEO:43.639337;-79.4248954
CREATED:20120719T183540Z
DTSTART:20120723T010000Z
DTEND:20120723T020000Z
DTSTAMP:20260421T052343Z
SUMMARY:Kickin it Old School (White) vs. Gang Green (Neon Green)
DESCRIPTION:Gang Green (Neon Green) vs. Kickin it Old School (White)Plus d'
	info : #36
X-ALT-DESC;FMTTYPE=text/html:<!DOCTYPE HTML PUBLIC "-//W3C//DTD HTML 3.2//E
	N">\n<HTML>\n<HEAD>\n<TITLE></TITLE>\n</HEAD>\n<BODY>\n<h3>Gang Green (Neon
	 Green) vs. Kickin it Old School (White)</h3>Plus d'info : <a href="https:/
	/www.golnetwork.com/game/v/17985/">#36</a>\n\n</BODY>\n</HTML>
STATUS:CONFIRMED
CLASS:PUBLIC
URL:https://www.golnetwork.com/game/v/17985/
X-MICROSOFT-CDO-BUSYSTATUS:BUSY
X-MICROSOFT-CDO-IMPORTANCE:1
END:VEVENT
END:VCALENDAR
