BEGIN:VCALENDAR
PRODID:-//gdesolutions.com//MV Framework 1.0.0.1607 Calendar//EN
VERSION:2.0
METHOD:PUBLISH
CALSCALE:GREGORIAN
BEGIN:VEVENT
UID:g1n2o@games.golnetwork.com
LOCATION:Ryerson CS Field
CREATED:20120706T200521Z
DTSTART:20120828T221500Z
DTEND:20120828T232500Z
DTSTAMP:20260420T004725Z
SUMMARY:Parks and Wreck (Grey) vs. MRFC
DESCRIPTION:MRFC vs. Parks and Wreck (Grey)Plus d'info : #369
X-ALT-DESC;FMTTYPE=text/html:<!DOCTYPE HTML PUBLIC "-//W3C//DTD HTML 3.2//E
	N">\n<HTML>\n<HEAD>\n<TITLE></TITLE>\n</HEAD>\n<BODY>\n<h3>MRFC vs. Parks a
	nd Wreck (Grey)</h3>Plus d'info : <a href="https://www.golnetwork.com/game/
	v/17265/">#369</a>\n\n</BODY>\n</HTML>
STATUS:CONFIRMED
CLASS:PUBLIC
URL:https://www.golnetwork.com/game/v/17265/
X-MICROSOFT-CDO-BUSYSTATUS:BUSY
X-MICROSOFT-CDO-IMPORTANCE:1
END:VEVENT
BEGIN:VEVENT
UID:g1n2m@games.golnetwork.com
LOCATION:Earl Grey PS Field
GEO:45.10662;-94.578209
CREATED:20120706T200521Z
DTSTART:20120821T232500Z
DTEND:20120822T003500Z
DTSTAMP:20260420T004725Z
SUMMARY:Real Athletic FC vs. MRFC
DESCRIPTION:MRFC vs. Real Athletic FCPlus d'info : #324
X-ALT-DESC;FMTTYPE=text/html:<!DOCTYPE HTML PUBLIC "-//W3C//DTD HTML 3.2//E
	N">\n<HTML>\n<HEAD>\n<TITLE></TITLE>\n</HEAD>\n<BODY>\n<h3>MRFC vs. Real At
	hletic FC</h3>Plus d'info : <a href="https://www.golnetwork.com/game/v/1726
	4/">#324</a>\n\n</BODY>\n</HTML>
STATUS:CONFIRMED
CLASS:PUBLIC
URL:https://www.golnetwork.com/game/v/17264/
X-MICROSOFT-CDO-BUSYSTATUS:BUSY
X-MICROSOFT-CDO-IMPORTANCE:1
END:VEVENT
BEGIN:VEVENT
UID:g1n2e@games.golnetwork.com
LOCATION:Ryerson CS Field
CREATED:20120706T200521Z
DTSTART:20120814T232500Z
DTEND:20120815T003500Z
DTSTAMP:20260420T004725Z
SUMMARY:MRFC vs. A Tribe Called Sony 
DESCRIPTION:A Tribe Called Sony  vs. MRFCPlus d'info : #271
X-ALT-DESC;FMTTYPE=text/html:<!DOCTYPE HTML PUBLIC "-//W3C//DTD HTML 3.2//E
	N">\n<HTML>\n<HEAD>\n<TITLE></TITLE>\n</HEAD>\n<BODY>\n<h3>A Tribe Called S
	ony  vs. MRFC</h3>Plus d'info : <a href="https://www.golnetwork.com/game/v/
	17260/">#271</a>\n\n</BODY>\n</HTML>
STATUS:CONFIRMED
CLASS:PUBLIC
URL:https://www.golnetwork.com/game/v/17260/
X-MICROSOFT-CDO-BUSYSTATUS:BUSY
X-MICROSOFT-CDO-IMPORTANCE:1
END:VEVENT
BEGIN:VEVENT
UID:g1n26@games.golnetwork.com
LOCATION:Earl Grey PS Field
GEO:45.10662;-94.578209
CREATED:20120706T200521Z
DTSTART:20120807T232500Z
DTEND:20120808T003500Z
DTSTAMP:20260420T004725Z
SUMMARY:Colsie's Ballsies (Purple) vs. MRFC
DESCRIPTION:MRFC vs. Colsie's Ballsies (Purple)Plus d'info : #218
X-ALT-DESC;FMTTYPE=text/html:<!DOCTYPE HTML PUBLIC "-//W3C//DTD HTML 3.2//E
	N">\n<HTML>\n<HEAD>\n<TITLE></TITLE>\n</HEAD>\n<BODY>\n<h3>MRFC vs. Colsie'
	s Ballsies (Purple)</h3>Plus d'info : <a href="https://www.golnetwork.com/g
	ame/v/17256/">#218</a>\n\n</BODY>\n</HTML>
STATUS:CONFIRMED
CLASS:PUBLIC
URL:https://www.golnetwork.com/game/v/17256/
X-MICROSOFT-CDO-BUSYSTATUS:BUSY
X-MICROSOFT-CDO-IMPORTANCE:1
END:VEVENT
BEGIN:VEVENT
UID:g1n1l@games.golnetwork.com
LOCATION:Ryerson CS Field
CREATED:20120706T200521Z
DTSTART:20120731T221500Z
DTEND:20120731T232500Z
DTSTAMP:20260420T004725Z
SUMMARY:FC Insurgency vs. MRFC
DESCRIPTION:MRFC vs. FC InsurgencyPlus d'info : #173
X-ALT-DESC;FMTTYPE=text/html:<!DOCTYPE HTML PUBLIC "-//W3C//DTD HTML 3.2//E
	N">\n<HTML>\n<HEAD>\n<TITLE></TITLE>\n</HEAD>\n<BODY>\n<h3>MRFC vs. FC Insu
	rgency</h3>Plus d'info : <a href="https://www.golnetwork.com/game/v/17250/"
	>#173</a>\n\n</BODY>\n</HTML>
STATUS:CONFIRMED
CLASS:PUBLIC
URL:https://www.golnetwork.com/game/v/17250/
X-MICROSOFT-CDO-BUSYSTATUS:BUSY
X-MICROSOFT-CDO-IMPORTANCE:1
END:VEVENT
BEGIN:VEVENT
UID:g1n1d@games.golnetwork.com
LOCATION:Ryerson CS Field
CREATED:20120706T200521Z
DTSTART:20120724T221500Z
DTEND:20120724T232500Z
DTSTAMP:20260420T004725Z
SUMMARY:Parks and Wreck (Grey) vs. MRFC
DESCRIPTION:MRFC vs. Parks and Wreck (Grey)Plus d'info : #117
X-ALT-DESC;FMTTYPE=text/html:<!DOCTYPE HTML PUBLIC "-//W3C//DTD HTML 3.2//E
	N">\n<HTML>\n<HEAD>\n<TITLE></TITLE>\n</HEAD>\n<BODY>\n<h3>MRFC vs. Parks a
	nd Wreck (Grey)</h3>Plus d'info : <a href="https://www.golnetwork.com/game/
	v/17246/">#117</a>\n\n</BODY>\n</HTML>
STATUS:CONFIRMED
CLASS:PUBLIC
URL:https://www.golnetwork.com/game/v/17246/
X-MICROSOFT-CDO-BUSYSTATUS:BUSY
X-MICROSOFT-CDO-IMPORTANCE:1
END:VEVENT
BEGIN:VEVENT
UID:g1n19@games.golnetwork.com
LOCATION:Earl Grey PS Field
GEO:45.10662;-94.578209
CREATED:20120706T200521Z
DTSTART:20120717T232500Z
DTEND:20120718T003500Z
DTSTAMP:20260420T004725Z
SUMMARY:MRFC vs. The Patrick Swayzes (White)
DESCRIPTION:The Patrick Swayzes (White) vs. MRFCPlus d'info : #63
X-ALT-DESC;FMTTYPE=text/html:<!DOCTYPE HTML PUBLIC "-//W3C//DTD HTML 3.2//E
	N">\n<HTML>\n<HEAD>\n<TITLE></TITLE>\n</HEAD>\n<BODY>\n<h3>The Patrick Sway
	zes (White) vs. MRFC</h3>Plus d'info : <a href="https://www.golnetwork.com/
	game/v/17244/">#63</a>\n\n</BODY>\n</HTML>
STATUS:CONFIRMED
CLASS:PUBLIC
URL:https://www.golnetwork.com/game/v/17244/
X-MICROSOFT-CDO-BUSYSTATUS:BUSY
X-MICROSOFT-CDO-IMPORTANCE:1
END:VEVENT
BEGIN:VEVENT
UID:g1n0o@games.golnetwork.com
LOCATION:Earl Grey PS Field
GEO:45.10662;-94.578209
CREATED:20120706T200521Z
DTSTART:20120710T221500Z
DTEND:20120710T232500Z
DTSTAMP:20260420T004725Z
SUMMARY:MRFC vs. Panic FC
DESCRIPTION:Panic FC vs. MRFCPlus d'info : #11
X-ALT-DESC;FMTTYPE=text/html:<!DOCTYPE HTML PUBLIC "-//W3C//DTD HTML 3.2//E
	N">\n<HTML>\n<HEAD>\n<TITLE></TITLE>\n</HEAD>\n<BODY>\n<h3>Panic FC vs. MRF
	C</h3>Plus d'info : <a href="https://www.golnetwork.com/game/v/17238/">#11<
	/a>\n\n</BODY>\n</HTML>
STATUS:CONFIRMED
CLASS:PUBLIC
URL:https://www.golnetwork.com/game/v/17238/
X-MICROSOFT-CDO-BUSYSTATUS:BUSY
X-MICROSOFT-CDO-IMPORTANCE:1
END:VEVENT
END:VCALENDAR
