BEGIN:VCALENDAR
PRODID:-//gdesolutions.com//MV Framework 1.0.0.1607 Calendar//EN
VERSION:2.0
METHOD:PUBLISH
CALSCALE:GREGORIAN
BEGIN:VEVENT
UID:g1nk6@games.golnetwork.com
LOCATION:Norm Ingram field
CREATED:20120710T192515Z
DTSTART:20120830T231000Z
DTEND:20120831T001500Z
DTSTAMP:20260426T023633Z
SUMMARY:Chronic FC (Red) vs. Rice (White)
DESCRIPTION:Rice (White) vs. Chronic FC (Red)Plus d'info : #392
X-ALT-DESC;FMTTYPE=text/html:<!DOCTYPE HTML PUBLIC "-//W3C//DTD HTML 3.2//E
	N">\n<HTML>\n<HEAD>\n<TITLE></TITLE>\n</HEAD>\n<BODY>\n<h3>Rice (White) vs.
	 Chronic FC (Red)</h3>Plus d'info : <a href="https://www.golnetwork.com/gam
	e/v/17499/">#392</a>\n\n</BODY>\n</HTML>
STATUS:CONFIRMED
CLASS:PUBLIC
URL:https://www.golnetwork.com/game/v/17499/
X-MICROSOFT-CDO-BUSYSTATUS:BUSY
X-MICROSOFT-CDO-IMPORTANCE:1
END:VEVENT
BEGIN:VEVENT
UID:g1nk0@games.golnetwork.com
LOCATION:Norm Ingram field
CREATED:20120710T192515Z
DTSTART:20120823T220500Z
DTEND:20120823T231000Z
DTSTAMP:20260426T023633Z
SUMMARY:AS Botte Inverse (Yellow) vs. Chronic FC (Red)
DESCRIPTION:Chronic FC (Red) vs. AS Botte Inverse (Yellow)Plus d'info : #33
	7
X-ALT-DESC;FMTTYPE=text/html:<!DOCTYPE HTML PUBLIC "-//W3C//DTD HTML 3.2//E
	N">\n<HTML>\n<HEAD>\n<TITLE></TITLE>\n</HEAD>\n<BODY>\n<h3>Chronic FC (Red)
	 vs. AS Botte Inverse (Yellow)</h3>Plus d'info : <a href="https://www.golne
	twork.com/game/v/17496/">#337</a>\n\n</BODY>\n</HTML>
STATUS:CONFIRMED
CLASS:PUBLIC
URL:https://www.golnetwork.com/game/v/17496/
X-MICROSOFT-CDO-BUSYSTATUS:BUSY
X-MICROSOFT-CDO-IMPORTANCE:1
END:VEVENT
BEGIN:VEVENT
UID:g1njn@games.golnetwork.com
LOCATION:Norm Ingram field
CREATED:20120710T192515Z
DTSTART:20120816T220500Z
DTEND:20120816T231000Z
DTSTAMP:20260426T023633Z
SUMMARY:Chronic FC (Red) vs. FUFC
DESCRIPTION:FUFC vs. Chronic FC (Red)Plus d'info : #283
X-ALT-DESC;FMTTYPE=text/html:<!DOCTYPE HTML PUBLIC "-//W3C//DTD HTML 3.2//E
	N">\n<HTML>\n<HEAD>\n<TITLE></TITLE>\n</HEAD>\n<BODY>\n<h3>FUFC vs. Chronic
	 FC (Red)</h3>Plus d'info : <a href="https://www.golnetwork.com/game/v/1749
	4/">#283</a>\n\n</BODY>\n</HTML>
STATUS:CONFIRMED
CLASS:PUBLIC
URL:https://www.golnetwork.com/game/v/17494/
X-MICROSOFT-CDO-BUSYSTATUS:BUSY
X-MICROSOFT-CDO-IMPORTANCE:1
END:VEVENT
BEGIN:VEVENT
UID:g1njh@games.golnetwork.com
LOCATION:Norm Ingram field
CREATED:20120710T192515Z
DTSTART:20120809T220500Z
DTEND:20120809T231000Z
DTSTAMP:20260426T023633Z
SUMMARY:Rice (White) vs. Chronic FC (Red)
DESCRIPTION:Chronic FC (Red) vs. Rice (White)Plus d'info : #231
X-ALT-DESC;FMTTYPE=text/html:<!DOCTYPE HTML PUBLIC "-//W3C//DTD HTML 3.2//E
	N">\n<HTML>\n<HEAD>\n<TITLE></TITLE>\n</HEAD>\n<BODY>\n<h3>Chronic FC (Red)
	 vs. Rice (White)</h3>Plus d'info : <a href="https://www.golnetwork.com/gam
	e/v/17491/">#231</a>\n\n</BODY>\n</HTML>
STATUS:CONFIRMED
CLASS:PUBLIC
URL:https://www.golnetwork.com/game/v/17491/
X-MICROSOFT-CDO-BUSYSTATUS:BUSY
X-MICROSOFT-CDO-IMPORTANCE:1
END:VEVENT
BEGIN:VEVENT
UID:g1njb@games.golnetwork.com
LOCATION:Norm Ingram field
CREATED:20120710T192515Z
DTSTART:20120802T220500Z
DTEND:20120802T231000Z
DTSTAMP:20260426T023633Z
SUMMARY:FUFC vs. Chronic FC (Red)
DESCRIPTION:Chronic FC (Red) vs. FUFCPlus d'info : #190
X-ALT-DESC;FMTTYPE=text/html:<!DOCTYPE HTML PUBLIC "-//W3C//DTD HTML 3.2//E
	N">\n<HTML>\n<HEAD>\n<TITLE></TITLE>\n</HEAD>\n<BODY>\n<h3>Chronic FC (Red)
	 vs. FUFC</h3>Plus d'info : <a href="https://www.golnetwork.com/game/v/1748
	8/">#190</a>\n\n</BODY>\n</HTML>
STATUS:CONFIRMED
CLASS:PUBLIC
URL:https://www.golnetwork.com/game/v/17488/
X-MICROSOFT-CDO-BUSYSTATUS:BUSY
X-MICROSOFT-CDO-IMPORTANCE:1
END:VEVENT
BEGIN:VEVENT
UID:g1nj9@games.golnetwork.com
LOCATION:Norm Ingram field
CREATED:20120710T192514Z
DTSTART:20120727T001500Z
DTEND:20120727T012000Z
DTSTAMP:20260426T023633Z
SUMMARY:AS Botte Inverse (Yellow) vs. Chronic FC (Red)
DESCRIPTION:Chronic FC (Red) vs. AS Botte Inverse (Yellow)Plus d'info : #14
	4
X-ALT-DESC;FMTTYPE=text/html:<!DOCTYPE HTML PUBLIC "-//W3C//DTD HTML 3.2//E
	N">\n<HTML>\n<HEAD>\n<TITLE></TITLE>\n</HEAD>\n<BODY>\n<h3>Chronic FC (Red)
	 vs. AS Botte Inverse (Yellow)</h3>Plus d'info : <a href="https://www.golne
	twork.com/game/v/17487/">#144</a>\n\n</BODY>\n</HTML>
STATUS:CONFIRMED
CLASS:PUBLIC
URL:https://www.golnetwork.com/game/v/17487/
X-MICROSOFT-CDO-BUSYSTATUS:BUSY
X-MICROSOFT-CDO-IMPORTANCE:1
END:VEVENT
BEGIN:VEVENT
UID:g1nj3@games.golnetwork.com
LOCATION:Norm Ingram field
CREATED:20120710T192514Z
DTSTART:20120720T001500Z
DTEND:20120720T012000Z
DTSTAMP:20260426T023633Z
SUMMARY:Chronic FC (Red) vs. FUFC
DESCRIPTION:FUFC vs. Chronic FC (Red)Plus d'info : #86
X-ALT-DESC;FMTTYPE=text/html:<!DOCTYPE HTML PUBLIC "-//W3C//DTD HTML 3.2//E
	N">\n<HTML>\n<HEAD>\n<TITLE></TITLE>\n</HEAD>\n<BODY>\n<h3>FUFC vs. Chronic
	 FC (Red)</h3>Plus d'info : <a href="https://www.golnetwork.com/game/v/1748
	4/">#86</a>\n\n</BODY>\n</HTML>
STATUS:CONFIRMED
CLASS:PUBLIC
URL:https://www.golnetwork.com/game/v/17484/
X-MICROSOFT-CDO-BUSYSTATUS:BUSY
X-MICROSOFT-CDO-IMPORTANCE:1
END:VEVENT
BEGIN:VEVENT
UID:g1nj1@games.golnetwork.com
LOCATION:Norm Ingram field
CREATED:20120710T192514Z
DTSTART:20120719T231000Z
DTEND:20120720T001500Z
DTSTAMP:20260426T023633Z
SUMMARY:Chronic FC (Red) vs. Rice (White)
DESCRIPTION:Rice (White) vs. Chronic FC (Red)Plus d'info : #81
X-ALT-DESC;FMTTYPE=text/html:<!DOCTYPE HTML PUBLIC "-//W3C//DTD HTML 3.2//E
	N">\n<HTML>\n<HEAD>\n<TITLE></TITLE>\n</HEAD>\n<BODY>\n<h3>Rice (White) vs.
	 Chronic FC (Red)</h3>Plus d'info : <a href="https://www.golnetwork.com/gam
	e/v/17483/">#81</a>\n\n</BODY>\n</HTML>
STATUS:CONFIRMED
CLASS:PUBLIC
URL:https://www.golnetwork.com/game/v/17483/
X-MICROSOFT-CDO-BUSYSTATUS:BUSY
X-MICROSOFT-CDO-IMPORTANCE:1
END:VEVENT
BEGIN:VEVENT
UID:g1nim@games.golnetwork.com
LOCATION:Norm Ingram field
CREATED:20120710T192514Z
DTSTART:20120712T231000Z
DTEND:20120713T001500Z
DTSTAMP:20260426T023633Z
SUMMARY:All Blacks (Black) vs. Chronic FC (Red)
DESCRIPTION:Chronic FC (Red) vs. All Blacks (Black)Plus d'info : #32
X-ALT-DESC;FMTTYPE=text/html:<!DOCTYPE HTML PUBLIC "-//W3C//DTD HTML 3.2//E
	N">\n<HTML>\n<HEAD>\n<TITLE></TITLE>\n</HEAD>\n<BODY>\n<h3>Chronic FC (Red)
	 vs. All Blacks (Black)</h3>Plus d'info : <a href="https://www.golnetwork.c
	om/game/v/17480/">#32</a>\n\n</BODY>\n</HTML>
STATUS:CONFIRMED
CLASS:PUBLIC
URL:https://www.golnetwork.com/game/v/17480/
X-MICROSOFT-CDO-BUSYSTATUS:BUSY
X-MICROSOFT-CDO-IMPORTANCE:1
END:VEVENT
END:VCALENDAR
