BEGIN:VCALENDAR
PRODID:-//gdesolutions.com//MV Framework 1.0.0.1607 Calendar//EN
VERSION:2.0
METHOD:PUBLISH
CALSCALE:GREGORIAN
BEGIN:VEVENT
UID:g1o10@games.golnetwork.com
LOCATION:Cherry Beach East 3
CREATED:20120711T172622Z
DTSTART:20120713T020000Z
DTEND:20120713T030000Z
DTSTAMP:20260423T005711Z
SUMMARY:Eckler FC (Blue/White) vs. Onetouchables FC
DESCRIPTION:Onetouchables FC vs. Eckler FC (Blue/White)Plus d'info : #298
X-ALT-DESC;FMTTYPE=text/html:<!DOCTYPE HTML PUBLIC "-//W3C//DTD HTML 3.2//E
	N">\n<HTML>\n<HEAD>\n<TITLE></TITLE>\n</HEAD>\n<BODY>\n<h3>Onetouchables FC
	 vs. Eckler FC (Blue/White)</h3>Plus d'info : <a href="https://www.golnetwo
	rk.com/game/v/17604/">#298</a>\n\n</BODY>\n</HTML>
STATUS:CONFIRMED
CLASS:PUBLIC
URL:https://www.golnetwork.com/game/v/17604/
X-MICROSOFT-CDO-BUSYSTATUS:BUSY
X-MICROSOFT-CDO-IMPORTANCE:1
END:VEVENT
BEGIN:VEVENT
UID:g1o0n@games.golnetwork.com
LOCATION:Cherry Beach East 3
CREATED:20120711T172504Z
DTSTART:20120713T010000Z
DTEND:20120713T020000Z
DTSTAMP:20260423T005711Z
SUMMARY:Why Always Me FC (Green) vs. Onetouchables FC
DESCRIPTION:Onetouchables FC vs. Why Always Me FC (Green)Plus d'info : #295
X-ALT-DESC;FMTTYPE=text/html:<!DOCTYPE HTML PUBLIC "-//W3C//DTD HTML 3.2//E
	N">\n<HTML>\n<HEAD>\n<TITLE></TITLE>\n</HEAD>\n<BODY>\n<h3>Onetouchables FC
	 vs. Why Always Me FC (Green)</h3>Plus d'info : <a href="https://www.golnet
	work.com/game/v/17602/">#295</a>\n\n</BODY>\n</HTML>
STATUS:CONFIRMED
CLASS:PUBLIC
URL:https://www.golnetwork.com/game/v/17602/
X-MICROSOFT-CDO-BUSYSTATUS:BUSY
X-MICROSOFT-CDO-IMPORTANCE:1
END:VEVENT
BEGIN:VEVENT
UID:g1mni@games.golnetwork.com
LOCATION:Cherry Beach East 2
CREATED:20120703T173957Z
DTSTART:20120706T010000Z
DTEND:20120706T020000Z
DTSTAMP:20260423T005711Z
SUMMARY:Onetouchables FC vs. Midnight Marauders
DESCRIPTION:Midnight Marauders vs. Onetouchables FCPlus d'info : #257
X-ALT-DESC;FMTTYPE=text/html:<!DOCTYPE HTML PUBLIC "-//W3C//DTD HTML 3.2//E
	N">\n<HTML>\n<HEAD>\n<TITLE></TITLE>\n</HEAD>\n<BODY>\n<h3>Midnight Maraude
	rs vs. Onetouchables FC</h3>Plus d'info : <a href="https://www.golnetwork.c
	om/game/v/17181/">#257</a>\n\n</BODY>\n</HTML>
STATUS:CONFIRMED
CLASS:PUBLIC
URL:https://www.golnetwork.com/game/v/17181/
X-MICROSOFT-CDO-BUSYSTATUS:BUSY
X-MICROSOFT-CDO-IMPORTANCE:1
END:VEVENT
BEGIN:VEVENT
UID:g1i7i@games.golnetwork.com
LOCATION:Cherry Beach East 1
CREATED:20120507T212403Z
DTSTART:20120629T010000Z
DTEND:20120629T020000Z
DTSTAMP:20260423T005711Z
SUMMARY:XTSC Orphans? (White) vs. Onetouchables FC
DESCRIPTION:Onetouchables FC vs. XTSC Orphans? (White)Plus d'info : #233
X-ALT-DESC;FMTTYPE=text/html:<!DOCTYPE HTML PUBLIC "-//W3C//DTD HTML 3.2//E
	N">\n<HTML>\n<HEAD>\n<TITLE></TITLE>\n</HEAD>\n<BODY>\n<h3>Onetouchables FC
	 vs. XTSC Orphans? (White)</h3>Plus d'info : <a href="https://www.golnetwor
	k.com/game/v/15507/">#233</a>\n\n</BODY>\n</HTML>
STATUS:CONFIRMED
CLASS:PUBLIC
URL:https://www.golnetwork.com/game/v/15507/
X-MICROSOFT-CDO-BUSYSTATUS:BUSY
X-MICROSOFT-CDO-IMPORTANCE:1
END:VEVENT
BEGIN:VEVENT
UID:g1i98@games.golnetwork.com
LOCATION:Cherry Beach East 2
CREATED:20120508T151800Z
DTSTART:20120622T030000Z
DTEND:20120622T040000Z
DTSTAMP:20260423T005711Z
SUMMARY:Onetouchables FC vs. XTSC Refs Really Suck! (Baby Blue/ Pink)
DESCRIPTION:XTSC Refs Really Suck! (Baby Blue/ Pink) vs. Onetouchables FCPl
	us d'info : #205
X-ALT-DESC;FMTTYPE=text/html:<!DOCTYPE HTML PUBLIC "-//W3C//DTD HTML 3.2//E
	N">\n<HTML>\n<HEAD>\n<TITLE></TITLE>\n</HEAD>\n<BODY>\n<h3>XTSC Refs Really
	 Suck! (Baby Blue/ Pink) vs. Onetouchables FC</h3>Plus d'info : <a href="ht
	tps://www.golnetwork.com/game/v/15529/">#205</a>\n\n</BODY>\n</HTML>
STATUS:CONFIRMED
CLASS:PUBLIC
URL:https://www.golnetwork.com/game/v/15529/
X-MICROSOFT-CDO-BUSYSTATUS:BUSY
X-MICROSOFT-CDO-IMPORTANCE:1
END:VEVENT
BEGIN:VEVENT
UID:g1i7e@games.golnetwork.com
LOCATION:Cherry Beach East 3
CREATED:20120507T212403Z
DTSTART:20120622T020000Z
DTEND:20120622T030000Z
DTSTAMP:20260423T005711Z
SUMMARY:Onetouchables FC vs. Arse-nil
DESCRIPTION:Arse-nil vs. Onetouchables FCPlus d'info : #204
X-ALT-DESC;FMTTYPE=text/html:<!DOCTYPE HTML PUBLIC "-//W3C//DTD HTML 3.2//E
	N">\n<HTML>\n<HEAD>\n<TITLE></TITLE>\n</HEAD>\n<BODY>\n<h3>Arse-nil vs. One
	touchables FC</h3>Plus d'info : <a href="https://www.golnetwork.com/game/v/
	15505/">#204</a>\n\n</BODY>\n</HTML>
STATUS:CONFIRMED
CLASS:PUBLIC
URL:https://www.golnetwork.com/game/v/15505/
X-MICROSOFT-CDO-BUSYSTATUS:BUSY
X-MICROSOFT-CDO-IMPORTANCE:1
END:VEVENT
BEGIN:VEVENT
UID:g1i6p@games.golnetwork.com
LOCATION:Cherry Beach East 1
CREATED:20120507T212402Z
DTSTART:20120615T020000Z
DTEND:20120615T030000Z
DTSTAMP:20260423T005711Z
SUMMARY:Onetouchables FC vs. Why Always Me FC (Green)
DESCRIPTION:Why Always Me FC (Green) vs. Onetouchables FCPlus d'info : #168
X-ALT-DESC;FMTTYPE=text/html:<!DOCTYPE HTML PUBLIC "-//W3C//DTD HTML 3.2//E
	N">\n<HTML>\n<HEAD>\n<TITLE></TITLE>\n</HEAD>\n<BODY>\n<h3>Why Always Me FC
	 (Green) vs. Onetouchables FC</h3>Plus d'info : <a href="https://www.golnet
	work.com/game/v/15497/">#168</a>\n\n</BODY>\n</HTML>
STATUS:CONFIRMED
CLASS:PUBLIC
URL:https://www.golnetwork.com/game/v/15497/
X-MICROSOFT-CDO-BUSYSTATUS:BUSY
X-MICROSOFT-CDO-IMPORTANCE:1
END:VEVENT
BEGIN:VEVENT
UID:g1i6b@games.golnetwork.com
LOCATION:Cherry Beach East 3
CREATED:20120507T212402Z
DTSTART:20120608T010000Z
DTEND:20120608T020000Z
DTSTAMP:20260423T005711Z
SUMMARY:Onetouchables FC vs. Midnight Marauders
DESCRIPTION:Midnight Marauders vs. Onetouchables FCPlus d'info : #133
X-ALT-DESC;FMTTYPE=text/html:<!DOCTYPE HTML PUBLIC "-//W3C//DTD HTML 3.2//E
	N">\n<HTML>\n<HEAD>\n<TITLE></TITLE>\n</HEAD>\n<BODY>\n<h3>Midnight Maraude
	rs vs. Onetouchables FC</h3>Plus d'info : <a href="https://www.golnetwork.c
	om/game/v/15490/">#133</a>\n\n</BODY>\n</HTML>
STATUS:CONFIRMED
CLASS:PUBLIC
URL:https://www.golnetwork.com/game/v/15490/
X-MICROSOFT-CDO-BUSYSTATUS:BUSY
X-MICROSOFT-CDO-IMPORTANCE:1
END:VEVENT
BEGIN:VEVENT
UID:g1i5m@games.golnetwork.com
LOCATION:Cherry Beach East 2
CREATED:20120507T212402Z
DTSTART:20120601T010000Z
DTEND:20120601T020000Z
DTSTAMP:20260423T005711Z
SUMMARY:Onetouchables FC vs. Itchy Red Sambas
DESCRIPTION:Itchy Red Sambas vs. Onetouchables FCPlus d'info : #97
X-ALT-DESC;FMTTYPE=text/html:<!DOCTYPE HTML PUBLIC "-//W3C//DTD HTML 3.2//E
	N">\n<HTML>\n<HEAD>\n<TITLE></TITLE>\n</HEAD>\n<BODY>\n<h3>Itchy Red Sambas
	 vs. Onetouchables FC</h3>Plus d'info : <a href="https://www.golnetwork.com
	/game/v/15482/">#97</a>\n\n</BODY>\n</HTML>
STATUS:CONFIRMED
CLASS:PUBLIC
URL:https://www.golnetwork.com/game/v/15482/
X-MICROSOFT-CDO-BUSYSTATUS:BUSY
X-MICROSOFT-CDO-IMPORTANCE:1
END:VEVENT
BEGIN:VEVENT
UID:g1i5i@games.golnetwork.com
LOCATION:Cherry Beach East 2
CREATED:20120507T212402Z
DTSTART:20120525T020000Z
DTEND:20120525T030000Z
DTSTAMP:20260423T005711Z
SUMMARY:99 Problems But a Pitch Ain't One vs. Onetouchables FC
DESCRIPTION:Onetouchables FC vs. 99 Problems But a Pitch Ain't OnePlus d'in
	fo : #65
X-ALT-DESC;FMTTYPE=text/html:<!DOCTYPE HTML PUBLIC "-//W3C//DTD HTML 3.2//E
	N">\n<HTML>\n<HEAD>\n<TITLE></TITLE>\n</HEAD>\n<BODY>\n<h3>Onetouchables FC
	 vs. 99 Problems But a Pitch Ain't One</h3>Plus d'info : <a href="https://w
	ww.golnetwork.com/game/v/15480/">#65</a>\n\n</BODY>\n</HTML>
STATUS:CONFIRMED
CLASS:PUBLIC
URL:https://www.golnetwork.com/game/v/15480/
X-MICROSOFT-CDO-BUSYSTATUS:BUSY
X-MICROSOFT-CDO-IMPORTANCE:1
END:VEVENT
BEGIN:VEVENT
UID:g1i58@games.golnetwork.com
LOCATION:Cherry Beach East 1
CREATED:20120507T212402Z
DTSTART:20120518T020000Z
DTEND:20120518T030000Z
DTSTAMP:20260423T005711Z
SUMMARY:Why Always Me FC (Green) vs. Onetouchables FC
DESCRIPTION:Onetouchables FC vs. Why Always Me FC (Green)Plus d'info : #33
X-ALT-DESC;FMTTYPE=text/html:<!DOCTYPE HTML PUBLIC "-//W3C//DTD HTML 3.2//E
	N">\n<HTML>\n<HEAD>\n<TITLE></TITLE>\n</HEAD>\n<BODY>\n<h3>Onetouchables FC
	 vs. Why Always Me FC (Green)</h3>Plus d'info : <a href="https://www.golnet
	work.com/game/v/15475/">#33</a>\n\n</BODY>\n</HTML>
STATUS:CONFIRMED
CLASS:PUBLIC
URL:https://www.golnetwork.com/game/v/15475/
X-MICROSOFT-CDO-BUSYSTATUS:BUSY
X-MICROSOFT-CDO-IMPORTANCE:1
END:VEVENT
END:VCALENDAR
