BEGIN:VCALENDAR
PRODID:-//gdesolutions.com//MV Framework 1.0.0.1607 Calendar//EN
VERSION:2.0
METHOD:PUBLISH
CALSCALE:GREGORIAN
BEGIN:VEVENT
UID:g2pm3@games.golnetwork.com
LOCATION:MetroGolf Dome
GEO:43.793932;-79.223587
CREATED:20130424T081356Z
DTSTART:20130426T023000Z
DTEND:20130426T033000Z
DTSTAMP:20260421T203132Z
SUMMARY:Sitch FC vs. TOCA FC
DESCRIPTION:TOCA FC vs. Sitch FCPlus d'info : #442
X-ALT-DESC;FMTTYPE=text/html:<!DOCTYPE HTML PUBLIC "-//W3C//DTD HTML 3.2//E
	N">\n<HTML>\n<HEAD>\n<TITLE></TITLE>\n</HEAD>\n<BODY>\n<h3>TOCA FC vs. Sitc
	h FC</h3>Plus d'info : <a href="https://www.golnetwork.com/game/v/28095/">#
	442</a>\n\n</BODY>\n</HTML>
STATUS:CONFIRMED
CLASS:PUBLIC
URL:https://www.golnetwork.com/game/v/28095/
X-MICROSOFT-CDO-BUSYSTATUS:BUSY
X-MICROSOFT-CDO-IMPORTANCE:1
END:VEVENT
BEGIN:VEVENT
UID:g2ka8@games.golnetwork.com
LOCATION:MetroGolf Dome
GEO:43.793932;-79.223587
CREATED:20130225T172652Z
DTSTART:20130419T023000Z
DTEND:20130419T033000Z
DTSTAMP:20260421T203132Z
SUMMARY:Sitch FC vs. TOCA FC
DESCRIPTION:TOCA FC vs. Sitch FCPlus d'info : #436
X-ALT-DESC;FMTTYPE=text/html:<!DOCTYPE HTML PUBLIC "-//W3C//DTD HTML 3.2//E
	N">\n<HTML>\n<HEAD>\n<TITLE></TITLE>\n</HEAD>\n<BODY>\n<h3>TOCA FC vs. Sitc
	h FC</h3>Plus d'info : <a href="https://www.golnetwork.com/game/v/26113/">#
	436</a>\n\n</BODY>\n</HTML>
STATUS:CONFIRMED
CLASS:PUBLIC
URL:https://www.golnetwork.com/game/v/26113/
X-MICROSOFT-CDO-BUSYSTATUS:BUSY
X-MICROSOFT-CDO-IMPORTANCE:1
END:VEVENT
BEGIN:VEVENT
UID:g2ka4@games.golnetwork.com
LOCATION:MetroGolf Dome
GEO:43.793932;-79.223587
CREATED:20130225T172652Z
DTSTART:20130412T023000Z
DTEND:20130412T033000Z
DTSTAMP:20260421T203132Z
SUMMARY:Sitch FC vs. XTSC Red Bulls
DESCRIPTION:XTSC Red Bulls vs. Sitch FCPlus d'info : #419
X-ALT-DESC;FMTTYPE=text/html:<!DOCTYPE HTML PUBLIC "-//W3C//DTD HTML 3.2//E
	N">\n<HTML>\n<HEAD>\n<TITLE></TITLE>\n</HEAD>\n<BODY>\n<h3>XTSC Red Bulls v
	s. Sitch FC</h3>Plus d'info : <a href="https://www.golnetwork.com/game/v/26
	111/">#419</a>\n\n</BODY>\n</HTML>
STATUS:CONFIRMED
CLASS:PUBLIC
URL:https://www.golnetwork.com/game/v/26111/
X-MICROSOFT-CDO-BUSYSTATUS:BUSY
X-MICROSOFT-CDO-IMPORTANCE:1
END:VEVENT
BEGIN:VEVENT
UID:g2ka0@games.golnetwork.com
LOCATION:MetroGolf Dome
GEO:43.793932;-79.223587
CREATED:20130225T172652Z
DTSTART:20130405T023000Z
DTEND:20130405T033000Z
DTSTAMP:20260421T203132Z
SUMMARY:XTSC Red Bulls vs. Sitch FC
DESCRIPTION:Sitch FC vs. XTSC Red BullsPlus d'info : #403
X-ALT-DESC;FMTTYPE=text/html:<!DOCTYPE HTML PUBLIC "-//W3C//DTD HTML 3.2//E
	N">\n<HTML>\n<HEAD>\n<TITLE></TITLE>\n</HEAD>\n<BODY>\n<h3>Sitch FC vs. XTS
	C Red Bulls</h3>Plus d'info : <a href="https://www.golnetwork.com/game/v/26
	109/">#403</a>\n\n</BODY>\n</HTML>
STATUS:CONFIRMED
CLASS:PUBLIC
URL:https://www.golnetwork.com/game/v/26109/
X-MICROSOFT-CDO-BUSYSTATUS:BUSY
X-MICROSOFT-CDO-IMPORTANCE:1
END:VEVENT
BEGIN:VEVENT
UID:g2k9n@games.golnetwork.com
LOCATION:MetroGolf Dome
GEO:43.793932;-79.223587
CREATED:20130225T172652Z
DTSTART:20130329T023000Z
DTEND:20130329T033000Z
DTSTAMP:20260421T203132Z
SUMMARY:Sitch FC vs. TOCA FC
DESCRIPTION:TOCA FC vs. Sitch FCPlus d'info : #393
X-ALT-DESC;FMTTYPE=text/html:<!DOCTYPE HTML PUBLIC "-//W3C//DTD HTML 3.2//E
	N">\n<HTML>\n<HEAD>\n<TITLE></TITLE>\n</HEAD>\n<BODY>\n<h3>TOCA FC vs. Sitc
	h FC</h3>Plus d'info : <a href="https://www.golnetwork.com/game/v/26107/">#
	393</a>\n\n</BODY>\n</HTML>
STATUS:CONFIRMED
CLASS:PUBLIC
URL:https://www.golnetwork.com/game/v/26107/
X-MICROSOFT-CDO-BUSYSTATUS:BUSY
X-MICROSOFT-CDO-IMPORTANCE:1
END:VEVENT
BEGIN:VEVENT
UID:g2k9j@games.golnetwork.com
LOCATION:MetroGolf Dome
GEO:43.793932;-79.223587
CREATED:20130225T172652Z
DTSTART:20130322T023000Z
DTEND:20130322T033000Z
DTSTAMP:20260421T203132Z
SUMMARY:Hot Shots  vs. Sitch FC
DESCRIPTION:Sitch FC vs. Hot Shots Plus d'info : #368
X-ALT-DESC;FMTTYPE=text/html:<!DOCTYPE HTML PUBLIC "-//W3C//DTD HTML 3.2//E
	N">\n<HTML>\n<HEAD>\n<TITLE></TITLE>\n</HEAD>\n<BODY>\n<h3>Sitch FC vs. Hot
	 Shots </h3>Plus d'info : <a href="https://www.golnetwork.com/game/v/26105/
	">#368</a>\n\n</BODY>\n</HTML>
STATUS:CONFIRMED
CLASS:PUBLIC
URL:https://www.golnetwork.com/game/v/26105/
X-MICROSOFT-CDO-BUSYSTATUS:BUSY
X-MICROSOFT-CDO-IMPORTANCE:1
END:VEVENT
BEGIN:VEVENT
UID:g2k9d@games.golnetwork.com
LOCATION:MetroGolf Dome
GEO:43.793932;-79.223587
CREATED:20130225T172652Z
DTSTART:20130315T013000Z
DTEND:20130315T023000Z
DTSTAMP:20260421T203132Z
SUMMARY:XTSC Red Bulls vs. Sitch FC
DESCRIPTION:Sitch FC vs. XTSC Red BullsPlus d'info : #343
X-ALT-DESC;FMTTYPE=text/html:<!DOCTYPE HTML PUBLIC "-//W3C//DTD HTML 3.2//E
	N">\n<HTML>\n<HEAD>\n<TITLE></TITLE>\n</HEAD>\n<BODY>\n<h3>Sitch FC vs. XTS
	C Red Bulls</h3>Plus d'info : <a href="https://www.golnetwork.com/game/v/26
	102/">#343</a>\n\n</BODY>\n</HTML>
STATUS:CONFIRMED
CLASS:PUBLIC
URL:https://www.golnetwork.com/game/v/26102/
X-MICROSOFT-CDO-BUSYSTATUS:BUSY
X-MICROSOFT-CDO-IMPORTANCE:1
END:VEVENT
BEGIN:VEVENT
UID:g2k9b@games.golnetwork.com
LOCATION:MetroGolf Dome
GEO:43.793932;-79.223587
CREATED:20130225T172652Z
DTSTART:20130308T033000Z
DTEND:20130308T043000Z
DTSTAMP:20260421T203132Z
SUMMARY:Sitch FC vs. Hot Shots 
DESCRIPTION:Hot Shots  vs. Sitch FCPlus d'info : #339
X-ALT-DESC;FMTTYPE=text/html:<!DOCTYPE HTML PUBLIC "-//W3C//DTD HTML 3.2//E
	N">\n<HTML>\n<HEAD>\n<TITLE></TITLE>\n</HEAD>\n<BODY>\n<h3>Hot Shots  vs. S
	itch FC</h3>Plus d'info : <a href="https://www.golnetwork.com/game/v/26101/
	">#339</a>\n\n</BODY>\n</HTML>
STATUS:CONFIRMED
CLASS:PUBLIC
URL:https://www.golnetwork.com/game/v/26101/
X-MICROSOFT-CDO-BUSYSTATUS:BUSY
X-MICROSOFT-CDO-IMPORTANCE:1
END:VEVENT
BEGIN:VEVENT
UID:g2k97@games.golnetwork.com
LOCATION:MetroGolf Dome
GEO:43.793932;-79.223587
CREATED:20130225T172652Z
DTSTART:20130301T033000Z
DTEND:20130301T043000Z
DTSTAMP:20260421T203132Z
SUMMARY:Sitch FC vs. TOCA FC
DESCRIPTION:TOCA FC vs. Sitch FCPlus d'info : #314
X-ALT-DESC;FMTTYPE=text/html:<!DOCTYPE HTML PUBLIC "-//W3C//DTD HTML 3.2//E
	N">\n<HTML>\n<HEAD>\n<TITLE></TITLE>\n</HEAD>\n<BODY>\n<h3>TOCA FC vs. Sitc
	h FC</h3>Plus d'info : <a href="https://www.golnetwork.com/game/v/26099/">#
	314</a>\n\n</BODY>\n</HTML>
STATUS:CONFIRMED
CLASS:PUBLIC
URL:https://www.golnetwork.com/game/v/26099/
X-MICROSOFT-CDO-BUSYSTATUS:BUSY
X-MICROSOFT-CDO-IMPORTANCE:1
END:VEVENT
END:VCALENDAR
