BEGIN:VCALENDAR
PRODID:-//gdesolutions.com//MV Framework 1.0.0.1607 Calendar//EN
VERSION:2.0
METHOD:PUBLISH
CALSCALE:GREGORIAN
BEGIN:VEVENT
UID:g1kc3@games.golnetwork.com
LOCATION:Westwood Sports Centre
GEO:45.456199645996;-73.764801025391
CREATED:20120530T212602Z
DTSTART:20120804T003000Z
DTEND:20120804T013000Z
DTSTAMP:20260421T230022Z
SUMMARY:Beauties and Beasts vs. Killer Beez
DESCRIPTION:Killer Beez vs. Beauties and BeastsPlus d'info : X-13-1
X-ALT-DESC;FMTTYPE=text/html:<!DOCTYPE HTML PUBLIC "-//W3C//DTD HTML 3.2//E
	N">\n<HTML>\n<HEAD>\n<TITLE></TITLE>\n</HEAD>\n<BODY>\n<h3>Killer Beez vs. 
	Beauties and Beasts</h3>Plus d'info : <a href="https://www.golnetwork.com/g
	ame/v/16296/">X-13-1</a>\n\n</BODY>\n</HTML>
STATUS:CONFIRMED
CLASS:PUBLIC
URL:https://www.golnetwork.com/game/v/16296/
X-MICROSOFT-CDO-BUSYSTATUS:BUSY
X-MICROSOFT-CDO-IMPORTANCE:1
END:VEVENT
BEGIN:VEVENT
UID:g1k87@games.golnetwork.com
LOCATION:Westwood Sports Centre
GEO:45.456199645996;-73.764801025391
CREATED:20120530T201859Z
DTSTART:20120728T023000Z
DTEND:20120728T033000Z
DTSTAMP:20260421T230022Z
SUMMARY:Beauties and Beasts vs. Bon Gars Bad Girls
DESCRIPTION:Bon Gars Bad Girls vs. Beauties and BeastsPlus d'info : X-12-2
X-ALT-DESC;FMTTYPE=text/html:<!DOCTYPE HTML PUBLIC "-//W3C//DTD HTML 3.2//E
	N">\n<HTML>\n<HEAD>\n<TITLE></TITLE>\n</HEAD>\n<BODY>\n<h3>Bon Gars Bad Gir
	ls vs. Beauties and Beasts</h3>Plus d'info : <a href="https://www.golnetwor
	k.com/game/v/16244/">X-12-2</a>\n\n</BODY>\n</HTML>
STATUS:CONFIRMED
CLASS:PUBLIC
URL:https://www.golnetwork.com/game/v/16244/
X-MICROSOFT-CDO-BUSYSTATUS:BUSY
X-MICROSOFT-CDO-IMPORTANCE:1
END:VEVENT
BEGIN:VEVENT
UID:g1k7q@games.golnetwork.com
LOCATION:Westwood Sports Centre
GEO:45.456199645996;-73.764801025391
CREATED:20120530T201856Z
DTSTART:20120721T003000Z
DTEND:20120721T013000Z
DTSTAMP:20260421T230022Z
SUMMARY:Wild Ride vs. Beauties and Beasts
DESCRIPTION:Beauties and Beasts vs. Wild RidePlus d'info : X-11-1
X-ALT-DESC;FMTTYPE=text/html:<!DOCTYPE HTML PUBLIC "-//W3C//DTD HTML 3.2//E
	N">\n<HTML>\n<HEAD>\n<TITLE></TITLE>\n</HEAD>\n<BODY>\n<h3>Beauties and Bea
	sts vs. Wild Ride</h3>Plus d'info : <a href="https://www.golnetwork.com/gam
	e/v/16240/">X-11-1</a>\n\n</BODY>\n</HTML>
STATUS:CONFIRMED
CLASS:PUBLIC
URL:https://www.golnetwork.com/game/v/16240/
X-MICROSOFT-CDO-BUSYSTATUS:BUSY
X-MICROSOFT-CDO-IMPORTANCE:1
END:VEVENT
BEGIN:VEVENT
UID:g1k7m@games.golnetwork.com
LOCATION:Le Club West Island
GEO:45.4370221;-73.8439915
CREATED:20120530T201855Z
DTSTART:20120716T000000Z
DTEND:20120716T010000Z
DTSTAMP:20260421T230022Z
SUMMARY:Beauties and Beasts vs. Wild Ride
DESCRIPTION:Wild Ride vs. Beauties and BeastsPlus d'info : X-4-3
X-ALT-DESC;FMTTYPE=text/html:<!DOCTYPE HTML PUBLIC "-//W3C//DTD HTML 3.2//E
	N">\n<HTML>\n<HEAD>\n<TITLE></TITLE>\n</HEAD>\n<BODY>\n<h3>Wild Ride vs. Be
	auties and Beasts</h3>Plus d'info : <a href="https://www.golnetwork.com/gam
	e/v/16238/">X-4-3</a>\n\n</BODY>\n</HTML>
STATUS:CONFIRMED
CLASS:PUBLIC
URL:https://www.golnetwork.com/game/v/16238/
X-MICROSOFT-CDO-BUSYSTATUS:BUSY
X-MICROSOFT-CDO-IMPORTANCE:1
END:VEVENT
BEGIN:VEVENT
UID:g1k7i@games.golnetwork.com
LOCATION:Westwood Sports Centre
GEO:45.456199645996;-73.764801025391
CREATED:20120530T201854Z
DTSTART:20120714T023000Z
DTEND:20120714T033000Z
DTSTAMP:20260421T230022Z
SUMMARY:The Incredibles vs. Beauties and Beasts
DESCRIPTION:Beauties and Beasts vs. The IncrediblesPlus d'info : X-10-1
X-ALT-DESC;FMTTYPE=text/html:<!DOCTYPE HTML PUBLIC "-//W3C//DTD HTML 3.2//E
	N">\n<HTML>\n<HEAD>\n<TITLE></TITLE>\n</HEAD>\n<BODY>\n<h3>Beauties and Bea
	sts vs. The Incredibles</h3>Plus d'info : <a href="https://www.golnetwork.c
	om/game/v/16236/">X-10-1</a>\n\n</BODY>\n</HTML>
STATUS:CONFIRMED
CLASS:PUBLIC
URL:https://www.golnetwork.com/game/v/16236/
X-MICROSOFT-CDO-BUSYSTATUS:BUSY
X-MICROSOFT-CDO-IMPORTANCE:1
END:VEVENT
BEGIN:VEVENT
UID:g1kbq@games.golnetwork.com
LOCATION:Westwood Sports Centre
GEO:45.456199645996;-73.764801025391
CREATED:20120530T212559Z
DTSTART:20120707T023000Z
DTEND:20120707T033000Z
DTSTAMP:20260421T230022Z
SUMMARY:Hackers vs. Beauties and Beasts
DESCRIPTION:Beauties and Beasts vs. HackersPlus d'info : X-9-1
X-ALT-DESC;FMTTYPE=text/html:<!DOCTYPE HTML PUBLIC "-//W3C//DTD HTML 3.2//E
	N">\n<HTML>\n<HEAD>\n<TITLE></TITLE>\n</HEAD>\n<BODY>\n<h3>Beauties and Bea
	sts vs. Hackers</h3>Plus d'info : <a href="https://www.golnetwork.com/game/
	v/16294/">X-9-1</a>\n\n</BODY>\n</HTML>
STATUS:CONFIRMED
CLASS:PUBLIC
URL:https://www.golnetwork.com/game/v/16294/
X-MICROSOFT-CDO-BUSYSTATUS:BUSY
X-MICROSOFT-CDO-IMPORTANCE:1
END:VEVENT
BEGIN:VEVENT
UID:g1k76@games.golnetwork.com
LOCATION:Le Club West Island
GEO:45.4370221;-73.8439915
CREATED:20120530T201851Z
DTSTART:20120630T023000Z
DTEND:20120630T033000Z
DTSTAMP:20260421T230022Z
SUMMARY:Killer Beez vs. Beauties and Beasts
DESCRIPTION:Beauties and Beasts vs. Killer BeezPlus d'info : X-8-1
X-ALT-DESC;FMTTYPE=text/html:<!DOCTYPE HTML PUBLIC "-//W3C//DTD HTML 3.2//E
	N">\n<HTML>\n<HEAD>\n<TITLE></TITLE>\n</HEAD>\n<BODY>\n<h3>Beauties and Bea
	sts vs. Killer Beez</h3>Plus d'info : <a href="https://www.golnetwork.com/g
	ame/v/16230/">X-8-1</a>\n\n</BODY>\n</HTML>
STATUS:CONFIRMED
CLASS:PUBLIC
URL:https://www.golnetwork.com/game/v/16230/
X-MICROSOFT-CDO-BUSYSTATUS:BUSY
X-MICROSOFT-CDO-IMPORTANCE:1
END:VEVENT
BEGIN:VEVENT
UID:g1k6n@games.golnetwork.com
LOCATION:Westwood Sports Centre
GEO:45.456199645996;-73.764801025391
CREATED:20120530T201849Z
DTSTART:20120622T223000Z
DTEND:20120622T233000Z
DTSTAMP:20260421T230022Z
SUMMARY:Hackers vs. Beauties and Beasts
DESCRIPTION:Beauties and Beasts vs. HackersPlus d'info : X-7-2
X-ALT-DESC;FMTTYPE=text/html:<!DOCTYPE HTML PUBLIC "-//W3C//DTD HTML 3.2//E
	N">\n<HTML>\n<HEAD>\n<TITLE></TITLE>\n</HEAD>\n<BODY>\n<h3>Beauties and Bea
	sts vs. Hackers</h3>Plus d'info : <a href="https://www.golnetwork.com/game/
	v/16225/">X-7-2</a>\n\n</BODY>\n</HTML>
STATUS:CONFIRMED
CLASS:PUBLIC
URL:https://www.golnetwork.com/game/v/16225/
X-MICROSOFT-CDO-BUSYSTATUS:BUSY
X-MICROSOFT-CDO-IMPORTANCE:1
END:VEVENT
BEGIN:VEVENT
UID:g1k6j@games.golnetwork.com
LOCATION:Aréna Raymond-Bourque
GEO:45.507900238037;-73.700996398926
CREATED:20120530T201849Z
DTSTART:20120616T003000Z
DTEND:20120616T013000Z
DTSTAMP:20260421T230022Z
SUMMARY:Beauties and Beasts vs. The Incredibles
DESCRIPTION:The Incredibles vs. Beauties and BeastsPlus d'info : X-6-1
X-ALT-DESC;FMTTYPE=text/html:<!DOCTYPE HTML PUBLIC "-//W3C//DTD HTML 3.2//E
	N">\n<HTML>\n<HEAD>\n<TITLE></TITLE>\n</HEAD>\n<BODY>\n<h3>The Incredibles 
	vs. Beauties and Beasts</h3>Plus d'info : <a href="https://www.golnetwork.c
	om/game/v/16223/">X-6-1</a>\n\n</BODY>\n</HTML>
STATUS:CONFIRMED
CLASS:PUBLIC
URL:https://www.golnetwork.com/game/v/16223/
X-MICROSOFT-CDO-BUSYSTATUS:BUSY
X-MICROSOFT-CDO-IMPORTANCE:1
END:VEVENT
BEGIN:VEVENT
UID:g1kbi@games.golnetwork.com
LOCATION:Aréna Raymond-Bourque
GEO:45.507900238037;-73.700996398926
CREATED:20120530T212554Z
DTSTART:20120609T003000Z
DTEND:20120609T013000Z
DTSTAMP:20260421T230022Z
SUMMARY:Bon Gars Bad Girls vs. Beauties and Beasts
DESCRIPTION:Beauties and Beasts vs. Bon Gars Bad GirlsPlus d'info : X-5-3
X-ALT-DESC;FMTTYPE=text/html:<!DOCTYPE HTML PUBLIC "-//W3C//DTD HTML 3.2//E
	N">\n<HTML>\n<HEAD>\n<TITLE></TITLE>\n</HEAD>\n<BODY>\n<h3>Beauties and Bea
	sts vs. Bon Gars Bad Girls</h3>Plus d'info : <a href="https://www.golnetwor
	k.com/game/v/16290/">X-5-3</a>\n\n</BODY>\n</HTML>
STATUS:CONFIRMED
CLASS:PUBLIC
URL:https://www.golnetwork.com/game/v/16290/
X-MICROSOFT-CDO-BUSYSTATUS:BUSY
X-MICROSOFT-CDO-IMPORTANCE:1
END:VEVENT
BEGIN:VEVENT
UID:g1kbc@games.golnetwork.com
LOCATION:Aréna Marcelin-Wilson
GEO:45.53630065918;-73.683898925781
CREATED:20120530T212552Z
DTSTART:20120601T233000Z
DTEND:20120602T003000Z
DTSTAMP:20260421T230022Z
SUMMARY:Killer Beez vs. Beauties and Beasts
DESCRIPTION:Beauties and Beasts vs. Killer BeezPlus d'info : X-3-1
X-ALT-DESC;FMTTYPE=text/html:<!DOCTYPE HTML PUBLIC "-//W3C//DTD HTML 3.2//E
	N">\n<HTML>\n<HEAD>\n<TITLE></TITLE>\n</HEAD>\n<BODY>\n<h3>Beauties and Bea
	sts vs. Killer Beez</h3>Plus d'info : <a href="https://www.golnetwork.com/g
	ame/v/16287/">X-3-1</a>\n\n</BODY>\n</HTML>
STATUS:CONFIRMED
CLASS:PUBLIC
URL:https://www.golnetwork.com/game/v/16287/
X-MICROSOFT-CDO-BUSYSTATUS:BUSY
X-MICROSOFT-CDO-IMPORTANCE:1
END:VEVENT
BEGIN:VEVENT
UID:g1k5o@games.golnetwork.com
LOCATION:Le Club West Island
GEO:45.4370221;-73.8439915
CREATED:20120530T201553Z
DTSTART:20120518T233000Z
DTEND:20120519T003000Z
DTSTAMP:20260421T230022Z
SUMMARY:Beauties and Beasts vs. Hackers
DESCRIPTION:Hackers vs. Beauties and BeastsPlus d'info : X-2-2
X-ALT-DESC;FMTTYPE=text/html:<!DOCTYPE HTML PUBLIC "-//W3C//DTD HTML 3.2//E
	N">\n<HTML>\n<HEAD>\n<TITLE></TITLE>\n</HEAD>\n<BODY>\n<h3>Hackers vs. Beau
	ties and Beasts</h3>Plus d'info : <a href="https://www.golnetwork.com/game/
	v/16212/">X-2-2</a>\n\n</BODY>\n</HTML>
STATUS:CONFIRMED
CLASS:PUBLIC
URL:https://www.golnetwork.com/game/v/16212/
X-MICROSOFT-CDO-BUSYSTATUS:BUSY
X-MICROSOFT-CDO-IMPORTANCE:1
END:VEVENT
BEGIN:VEVENT
UID:g1k5k@games.golnetwork.com
LOCATION:Aréna Marcelin-Wilson
GEO:45.53630065918;-73.683898925781
CREATED:20120530T201551Z
DTSTART:20120512T000000Z
DTEND:20120512T010000Z
DTSTAMP:20260421T230022Z
SUMMARY:Beauties and Beasts vs. The Incredibles
DESCRIPTION:The Incredibles vs. Beauties and BeastsPlus d'info : X-1-1
X-ALT-DESC;FMTTYPE=text/html:<!DOCTYPE HTML PUBLIC "-//W3C//DTD HTML 3.2//E
	N">\n<HTML>\n<HEAD>\n<TITLE></TITLE>\n</HEAD>\n<BODY>\n<h3>The Incredibles 
	vs. Beauties and Beasts</h3>Plus d'info : <a href="https://www.golnetwork.c
	om/game/v/16210/">X-1-1</a>\n\n</BODY>\n</HTML>
STATUS:CONFIRMED
CLASS:PUBLIC
URL:https://www.golnetwork.com/game/v/16210/
X-MICROSOFT-CDO-BUSYSTATUS:BUSY
X-MICROSOFT-CDO-IMPORTANCE:1
END:VEVENT
END:VCALENDAR
