BEGIN:VCALENDAR
PRODID:-//gdesolutions.com//MV Framework 1.0.0.1607 Calendar//EN
VERSION:2.0
METHOD:PUBLISH
CALSCALE:GREGORIAN
BEGIN:VEVENT
UID:ga1di@games.golnetwork.com
LOCATION:Louis Riel #1
GEO:45.4410208;-75.5715394
CREATED:20161104T082418Z
DTSTART:20161106T210000Z
DTEND:20161106T220000Z
DTSTAMP:20260426T043213Z
SUMMARY:Picante Pelotas vs. Hot Tub Time Machine
DESCRIPTION:Hot Tub Time Machine vs. Picante PelotasPlus d'info : #61
X-ALT-DESC;FMTTYPE=text/html:<!DOCTYPE HTML PUBLIC "-//W3C//DTD HTML 3.2//E
	N">\n<HTML>\n<HEAD>\n<TITLE></TITLE>\n</HEAD>\n<BODY>\n<h3>Hot Tub Time Mac
	hine vs. Picante Pelotas</h3>Plus d'info : <a href="https://www.golnetwork.
	com/game/v/97965/">#61</a>\n\n</BODY>\n</HTML>
STATUS:CONFIRMED
CLASS:PUBLIC
URL:https://www.golnetwork.com/game/v/97965/
X-MICROSOFT-CDO-BUSYSTATUS:BUSY
X-MICROSOFT-CDO-IMPORTANCE:1
END:VEVENT
BEGIN:VEVENT
UID:ga048@games.golnetwork.com
LOCATION:Louis Riel #1
GEO:45.4410208;-75.5715394
CREATED:20161025T190752Z
DTSTART:20161030T200000Z
DTEND:20161030T210000Z
DTSTAMP:20260426T043213Z
SUMMARY:Winded FC vs. Hot Tub Time Machine
DESCRIPTION:Hot Tub Time Machine vs. Winded FCPlus d'info : #4
X-ALT-DESC;FMTTYPE=text/html:<!DOCTYPE HTML PUBLIC "-//W3C//DTD HTML 3.2//E
	N">\n<HTML>\n<HEAD>\n<TITLE></TITLE>\n</HEAD>\n<BODY>\n<h3>Hot Tub Time Mac
	hine vs. Winded FC</h3>Plus d'info : <a href="https://www.golnetwork.com/ga
	me/v/97474/">#4</a>\n\n</BODY>\n</HTML>
STATUS:CONFIRMED
CLASS:PUBLIC
URL:https://www.golnetwork.com/game/v/97474/
X-MICROSOFT-CDO-BUSYSTATUS:BUSY
X-MICROSOFT-CDO-IMPORTANCE:1
END:VEVENT
BEGIN:VEVENT
UID:g9q8l@games.golnetwork.com
LOCATION:Louis Riel #1
GEO:45.4410208;-75.5715394
CREATED:20161020T062707Z
DTSTART:20161023T210000Z
DTEND:20161023T220000Z
DTSTAMP:20260426T043213Z
SUMMARY:Mambas FC vs. Hot Tub Time Machine
DESCRIPTION:Hot Tub Time Machine vs. Mambas FCPlus d'info : #4
X-ALT-DESC;FMTTYPE=text/html:<!DOCTYPE HTML PUBLIC "-//W3C//DTD HTML 3.2//E
	N">\n<HTML>\n<HEAD>\n<TITLE></TITLE>\n</HEAD>\n<BODY>\n<h3>Hot Tub Time Mac
	hine vs. Mambas FC</h3>Plus d'info : <a href="https://www.golnetwork.com/ga
	me/v/97170/">#4</a>\n\n</BODY>\n</HTML>
STATUS:CONFIRMED
CLASS:PUBLIC
URL:https://www.golnetwork.com/game/v/97170/
X-MICROSOFT-CDO-BUSYSTATUS:BUSY
X-MICROSOFT-CDO-IMPORTANCE:1
END:VEVENT
BEGIN:VEVENT
UID:g9nmk@games.golnetwork.com
LOCATION:Louis Riel #1
GEO:45.4410208;-75.5715394
CREATED:20161012T214627Z
DTSTART:20161016T200000Z
DTEND:20161016T210000Z
DTSTAMP:20260426T043213Z
SUMMARY:Hot Tub Time Machine vs. Picante Pelotas
DESCRIPTION:Picante Pelotas vs. Hot Tub Time MachinePlus d'info : #3
X-ALT-DESC;FMTTYPE=text/html:<!DOCTYPE HTML PUBLIC "-//W3C//DTD HTML 3.2//E
	N">\n<HTML>\n<HEAD>\n<TITLE></TITLE>\n</HEAD>\n<BODY>\n<h3>Picante Pelotas 
	vs. Hot Tub Time Machine</h3>Plus d'info : <a href="https://www.golnetwork.
	com/game/v/96265/">#3</a>\n\n</BODY>\n</HTML>
STATUS:CONFIRMED
CLASS:PUBLIC
URL:https://www.golnetwork.com/game/v/96265/
X-MICROSOFT-CDO-BUSYSTATUS:BUSY
X-MICROSOFT-CDO-IMPORTANCE:1
END:VEVENT
BEGIN:VEVENT
UID:g9hb7@games.golnetwork.com
LOCATION:Louis Riel #2
GEO:45.4410208;-75.5715394
CREATED:20160921T165500Z
DTSTART:20161002T183000Z
DTEND:20161002T193000Z
DTSTAMP:20260426T043213Z
SUMMARY:Hot Tub Time Machine vs. Game of Throw Ins
DESCRIPTION:Game of Throw Ins vs. Hot Tub Time MachinePlus d'info : #25
X-ALT-DESC;FMTTYPE=text/html:<!DOCTYPE HTML PUBLIC "-//W3C//DTD HTML 3.2//E
	N">\n<HTML>\n<HEAD>\n<TITLE></TITLE>\n</HEAD>\n<BODY>\n<h3>Game of Throw In
	s vs. Hot Tub Time Machine</h3>Plus d'info : <a href="https://www.golnetwor
	k.com/game/v/93923/">#25</a>\n\n</BODY>\n</HTML>
STATUS:CONFIRMED
CLASS:PUBLIC
URL:https://www.golnetwork.com/game/v/93923/
X-MICROSOFT-CDO-BUSYSTATUS:BUSY
X-MICROSOFT-CDO-IMPORTANCE:1
END:VEVENT
BEGIN:VEVENT
UID:g9h7p@games.golnetwork.com
LOCATION:Louis Riel #2
GEO:45.4410208;-75.5715394
CREATED:20160921T072431Z
DTSTART:20160925T193000Z
DTEND:20160925T203000Z
DTSTAMP:20260426T043213Z
SUMMARY:Hot Tub Time Machine vs. LifeDNA
DESCRIPTION:LifeDNA vs. Hot Tub Time MachinePlus d'info : #17
X-ALT-DESC;FMTTYPE=text/html:<!DOCTYPE HTML PUBLIC "-//W3C//DTD HTML 3.2//E
	N">\n<HTML>\n<HEAD>\n<TITLE></TITLE>\n</HEAD>\n<BODY>\n<h3>LifeDNA vs. Hot 
	Tub Time Machine</h3>Plus d'info : <a href="https://www.golnetwork.com/game
	/v/93878/">#17</a>\n\n</BODY>\n</HTML>
STATUS:CONFIRMED
CLASS:PUBLIC
URL:https://www.golnetwork.com/game/v/93878/
X-MICROSOFT-CDO-BUSYSTATUS:BUSY
X-MICROSOFT-CDO-IMPORTANCE:1
END:VEVENT
BEGIN:VEVENT
UID:g9fa2@games.golnetwork.com
LOCATION:Louis Riel #2
GEO:45.4410208;-75.5715394
CREATED:20160914T205951Z
DTSTART:20160918T203000Z
DTEND:20160918T213000Z
DTSTAMP:20260426T043213Z
SUMMARY:Wild Ninja Missile-toe-fu vs. Hot Tub Time Machine
DESCRIPTION:Hot Tub Time Machine vs. Wild Ninja Missile-toe-fuPlus d'info :
	 #10
X-ALT-DESC;FMTTYPE=text/html:<!DOCTYPE HTML PUBLIC "-//W3C//DTD HTML 3.2//E
	N">\n<HTML>\n<HEAD>\n<TITLE></TITLE>\n</HEAD>\n<BODY>\n<h3>Hot Tub Time Mac
	hine vs. Wild Ninja Missile-toe-fu</h3>Plus d'info : <a href="https://www.g
	olnetwork.com/game/v/93178/">#10</a>\n\n</BODY>\n</HTML>
STATUS:CONFIRMED
CLASS:PUBLIC
URL:https://www.golnetwork.com/game/v/93178/
X-MICROSOFT-CDO-BUSYSTATUS:BUSY
X-MICROSOFT-CDO-IMPORTANCE:1
END:VEVENT
BEGIN:VEVENT
UID:g9cb4@games.golnetwork.com
LOCATION:Louis Riel #2
GEO:45.4410208;-75.5715394
CREATED:20160909T040033Z
DTSTART:20160911T193000Z
DTEND:20160911T203000Z
DTSTAMP:20260426T043213Z
SUMMARY:Winded FC vs. Hot Tub Time Machine
DESCRIPTION:Hot Tub Time Machine vs. Winded FCPlus d'info : #1
X-ALT-DESC;FMTTYPE=text/html:<!DOCTYPE HTML PUBLIC "-//W3C//DTD HTML 3.2//E
	N">\n<HTML>\n<HEAD>\n<TITLE></TITLE>\n</HEAD>\n<BODY>\n<h3>Hot Tub Time Mac
	hine vs. Winded FC</h3>Plus d'info : <a href="https://www.golnetwork.com/ga
	me/v/92099/">#1</a>\n\n</BODY>\n</HTML>
STATUS:CONFIRMED
CLASS:PUBLIC
URL:https://www.golnetwork.com/game/v/92099/
X-MICROSOFT-CDO-BUSYSTATUS:BUSY
X-MICROSOFT-CDO-IMPORTANCE:1
END:VEVENT
END:VCALENDAR
