BEGIN:VCALENDAR
PRODID:-//gdesolutions.com//MV Framework 1.0.0.1607 Calendar//EN
VERSION:2.0
METHOD:PUBLISH
CALSCALE:GREGORIAN
BEGIN:VEVENT
UID:g2b1q@games.golnetwork.com
LOCATION:Hornet's Nest #3
GEO:45.4428309;-75.575268
CREATED:20121105T092848Z
DTSTART:20130203T173000Z
DTEND:20130203T183000Z
DTSTAMP:20260421T210632Z
SUMMARY:Dirty Mike & The Boys vs. Missile-toe
DESCRIPTION:Missile-toe vs. Dirty Mike & The BoysPlus d'info : #71
X-ALT-DESC;FMTTYPE=text/html:<!DOCTYPE HTML PUBLIC "-//W3C//DTD HTML 3.2//E
	N">\n<HTML>\n<HEAD>\n<TITLE></TITLE>\n</HEAD>\n<BODY>\n<h3>Missile-toe vs. 
	Dirty Mike & The Boys</h3>Plus d'info : <a href="https://www.golnetwork.com
	/game/v/22720/">#71</a>\n\n</BODY>\n</HTML>
STATUS:CONFIRMED
CLASS:PUBLIC
URL:https://www.golnetwork.com/game/v/22720/
X-MICROSOFT-CDO-BUSYSTATUS:BUSY
X-MICROSOFT-CDO-IMPORTANCE:1
END:VEVENT
BEGIN:VEVENT
UID:g2b1c@games.golnetwork.com
LOCATION:Hornet's Nest #3
GEO:45.4428309;-75.575268
CREATED:20121105T092709Z
DTSTART:20130127T173000Z
DTEND:20130127T183000Z
DTSTAMP:20260421T210632Z
SUMMARY:GD United vs. Missile-toe
DESCRIPTION:Missile-toe vs. GD UnitedPlus d'info : #64
X-ALT-DESC;FMTTYPE=text/html:<!DOCTYPE HTML PUBLIC "-//W3C//DTD HTML 3.2//E
	N">\n<HTML>\n<HEAD>\n<TITLE></TITLE>\n</HEAD>\n<BODY>\n<h3>Missile-toe vs. 
	GD United</h3>Plus d'info : <a href="https://www.golnetwork.com/game/v/2271
	3/">#64</a>\n\n</BODY>\n</HTML>
STATUS:CONFIRMED
CLASS:PUBLIC
URL:https://www.golnetwork.com/game/v/22713/
X-MICROSOFT-CDO-BUSYSTATUS:BUSY
X-MICROSOFT-CDO-IMPORTANCE:1
END:VEVENT
BEGIN:VEVENT
UID:g2b1a@games.golnetwork.com
LOCATION:Louis Riel #3
GEO:45.4410208;-75.5715394
CREATED:20121105T092642Z
DTSTART:20130120T230000Z
DTEND:20130121T000000Z
DTSTAMP:20260421T210632Z
SUMMARY:FC Bars-will-owna vs. Missile-toe
DESCRIPTION:Missile-toe vs. FC Bars-will-ownaPlus d'info : #63
X-ALT-DESC;FMTTYPE=text/html:<!DOCTYPE HTML PUBLIC "-//W3C//DTD HTML 3.2//E
	N">\n<HTML>\n<HEAD>\n<TITLE></TITLE>\n</HEAD>\n<BODY>\n<h3>Missile-toe vs. 
	FC Bars-will-owna</h3>Plus d'info : <a href="https://www.golnetwork.com/gam
	e/v/22712/">#63</a>\n\n</BODY>\n</HTML>
STATUS:CONFIRMED
CLASS:PUBLIC
URL:https://www.golnetwork.com/game/v/22712/
X-MICROSOFT-CDO-BUSYSTATUS:BUSY
X-MICROSOFT-CDO-IMPORTANCE:1
END:VEVENT
BEGIN:VEVENT
UID:g2b0b@games.golnetwork.com
LOCATION:Hornet's Nest #3
GEO:45.4428309;-75.575268
CREATED:20121105T092407Z
DTSTART:20130113T173000Z
DTEND:20130113T183000Z
DTSTAMP:20260421T210632Z
SUMMARY:Missile-toe vs. Spartans FC
DESCRIPTION:Spartans FC vs. Missile-toePlus d'info : #50
X-ALT-DESC;FMTTYPE=text/html:<!DOCTYPE HTML PUBLIC "-//W3C//DTD HTML 3.2//E
	N">\n<HTML>\n<HEAD>\n<TITLE></TITLE>\n</HEAD>\n<BODY>\n<h3>Spartans FC vs. 
	Missile-toe</h3>Plus d'info : <a href="https://www.golnetwork.com/game/v/22
	699/">#50</a>\n\n</BODY>\n</HTML>
STATUS:CONFIRMED
CLASS:PUBLIC
URL:https://www.golnetwork.com/game/v/22699/
X-MICROSOFT-CDO-BUSYSTATUS:BUSY
X-MICROSOFT-CDO-IMPORTANCE:1
END:VEVENT
BEGIN:VEVENT
UID:g2b07@games.golnetwork.com
LOCATION:Louis Riel #3
GEO:45.4410208;-75.5715394
CREATED:20121105T092335Z
DTSTART:20130107T010000Z
DTEND:20130107T020000Z
DTSTAMP:20260421T210632Z
SUMMARY:Formerly In Shape All-Stars vs. Missile-toe
DESCRIPTION:Missile-toe vs. Formerly In Shape All-StarsPlus d'info : #48
X-ALT-DESC;FMTTYPE=text/html:<!DOCTYPE HTML PUBLIC "-//W3C//DTD HTML 3.2//E
	N">\n<HTML>\n<HEAD>\n<TITLE></TITLE>\n</HEAD>\n<BODY>\n<h3>Missile-toe vs. 
	Formerly In Shape All-Stars</h3>Plus d'info : <a href="https://www.golnetwo
	rk.com/game/v/22697/">#48</a>\n\n</BODY>\n</HTML>
STATUS:CONFIRMED
CLASS:PUBLIC
URL:https://www.golnetwork.com/game/v/22697/
X-MICROSOFT-CDO-BUSYSTATUS:BUSY
X-MICROSOFT-CDO-IMPORTANCE:1
END:VEVENT
BEGIN:VEVENT
UID:g2aqk@games.golnetwork.com
LOCATION:Louis Riel #3
GEO:45.4410208;-75.5715394
CREATED:20121105T091823Z
DTSTART:20121216T220000Z
DTEND:20121216T230000Z
DTSTAMP:20260421T210632Z
SUMMARY:Killer Cleats vs. Missile-toe
DESCRIPTION:Missile-toe vs. Killer CleatsPlus d'info : #41
X-ALT-DESC;FMTTYPE=text/html:<!DOCTYPE HTML PUBLIC "-//W3C//DTD HTML 3.2//E
	N">\n<HTML>\n<HEAD>\n<TITLE></TITLE>\n</HEAD>\n<BODY>\n<h3>Missile-toe vs. 
	Killer Cleats</h3>Plus d'info : <a href="https://www.golnetwork.com/game/v/
	22690/">#41</a>\n\n</BODY>\n</HTML>
STATUS:CONFIRMED
CLASS:PUBLIC
URL:https://www.golnetwork.com/game/v/22690/
X-MICROSOFT-CDO-BUSYSTATUS:BUSY
X-MICROSOFT-CDO-IMPORTANCE:1
END:VEVENT
BEGIN:VEVENT
UID:g2aq2@games.golnetwork.com
LOCATION:Louis Riel #3
GEO:45.4410208;-75.5715394
CREATED:20121105T091646Z
DTSTART:20121209T200000Z
DTEND:20121209T210000Z
DTSTAMP:20260421T210632Z
SUMMARY:The Dominators vs. Missile-toe
DESCRIPTION:Missile-toe vs. The DominatorsPlus d'info : #32
X-ALT-DESC;FMTTYPE=text/html:<!DOCTYPE HTML PUBLIC "-//W3C//DTD HTML 3.2//E
	N">\n<HTML>\n<HEAD>\n<TITLE></TITLE>\n</HEAD>\n<BODY>\n<h3>Missile-toe vs. 
	The Dominators</h3>Plus d'info : <a href="https://www.golnetwork.com/game/v
	/22681/">#32</a>\n\n</BODY>\n</HTML>
STATUS:CONFIRMED
CLASS:PUBLIC
URL:https://www.golnetwork.com/game/v/22681/
X-MICROSOFT-CDO-BUSYSTATUS:BUSY
X-MICROSOFT-CDO-IMPORTANCE:1
END:VEVENT
BEGIN:VEVENT
UID:g2apj@games.golnetwork.com
LOCATION:Louis Riel #3
GEO:45.4410208;-75.5715394
CREATED:20121105T091536Z
DTSTART:20121202T220000Z
DTEND:20121202T230000Z
DTSTAMP:20260421T210632Z
SUMMARY:Scoring Angels vs. Missile-toe
DESCRIPTION:Missile-toe vs. Scoring AngelsPlus d'info : #27
X-ALT-DESC;FMTTYPE=text/html:<!DOCTYPE HTML PUBLIC "-//W3C//DTD HTML 3.2//E
	N">\n<HTML>\n<HEAD>\n<TITLE></TITLE>\n</HEAD>\n<BODY>\n<h3>Missile-toe vs. 
	Scoring Angels</h3>Plus d'info : <a href="https://www.golnetwork.com/game/v
	/22676/">#27</a>\n\n</BODY>\n</HTML>
STATUS:CONFIRMED
CLASS:PUBLIC
URL:https://www.golnetwork.com/game/v/22676/
X-MICROSOFT-CDO-BUSYSTATUS:BUSY
X-MICROSOFT-CDO-IMPORTANCE:1
END:VEVENT
BEGIN:VEVENT
UID:g2ap3@games.golnetwork.com
LOCATION:Louis Riel #3
GEO:45.4410208;-75.5715394
CREATED:20121105T091157Z
DTSTART:20121125T210000Z
DTEND:20121125T220000Z
DTSTAMP:20260421T210632Z
SUMMARY:Screaming Beavers vs. Missile-toe
DESCRIPTION:Missile-toe vs. Screaming BeaversPlus d'info : #19
X-ALT-DESC;FMTTYPE=text/html:<!DOCTYPE HTML PUBLIC "-//W3C//DTD HTML 3.2//E
	N">\n<HTML>\n<HEAD>\n<TITLE></TITLE>\n</HEAD>\n<BODY>\n<h3>Missile-toe vs. 
	Screaming Beavers</h3>Plus d'info : <a href="https://www.golnetwork.com/gam
	e/v/22668/">#19</a>\n\n</BODY>\n</HTML>
STATUS:CONFIRMED
CLASS:PUBLIC
URL:https://www.golnetwork.com/game/v/22668/
X-MICROSOFT-CDO-BUSYSTATUS:BUSY
X-MICROSOFT-CDO-IMPORTANCE:1
END:VEVENT
BEGIN:VEVENT
UID:g2aoi@games.golnetwork.com
LOCATION:Louis Riel #3
GEO:45.4410208;-75.5715394
CREATED:20121105T091012Z
DTSTART:20121118T220000Z
DTEND:20121118T230000Z
DTSTAMP:20260421T210632Z
SUMMARY:Nandos Ottawa vs. Missile-toe
DESCRIPTION:Missile-toe vs. Nandos OttawaPlus d'info : #13
X-ALT-DESC;FMTTYPE=text/html:<!DOCTYPE HTML PUBLIC "-//W3C//DTD HTML 3.2//E
	N">\n<HTML>\n<HEAD>\n<TITLE></TITLE>\n</HEAD>\n<BODY>\n<h3>Missile-toe vs. 
	Nandos Ottawa</h3>Plus d'info : <a href="https://www.golnetwork.com/game/v/
	22662/">#13</a>\n\n</BODY>\n</HTML>
STATUS:CONFIRMED
CLASS:PUBLIC
URL:https://www.golnetwork.com/game/v/22662/
X-MICROSOFT-CDO-BUSYSTATUS:BUSY
X-MICROSOFT-CDO-IMPORTANCE:1
END:VEVENT
BEGIN:VEVENT
UID:g2anl@games.golnetwork.com
LOCATION:Hornet's Nest #3
GEO:45.4428309;-75.575268
CREATED:20121105T083426Z
DTSTART:20121111T173000Z
DTEND:20121111T183000Z
DTSTAMP:20260421T210632Z
SUMMARY:The Eagles vs. Missile-toe
DESCRIPTION:Missile-toe vs. The EaglesPlus d'info : #1
X-ALT-DESC;FMTTYPE=text/html:<!DOCTYPE HTML PUBLIC "-//W3C//DTD HTML 3.2//E
	N">\n<HTML>\n<HEAD>\n<TITLE></TITLE>\n</HEAD>\n<BODY>\n<h3>Missile-toe vs. 
	The Eagles</h3>Plus d'info : <a href="https://www.golnetwork.com/game/v/226
	50/">#1</a>\n\n</BODY>\n</HTML>
STATUS:CONFIRMED
CLASS:PUBLIC
URL:https://www.golnetwork.com/game/v/22650/
X-MICROSOFT-CDO-BUSYSTATUS:BUSY
X-MICROSOFT-CDO-IMPORTANCE:1
END:VEVENT
END:VCALENDAR
