BEGIN:VCALENDAR
PRODID:-//gdesolutions.com//MV Framework 1.0.0.1607 Calendar//EN
VERSION:2.0
METHOD:PUBLISH
CALSCALE:GREGORIAN
BEGIN:VEVENT
UID:g2k0g@games.golnetwork.com
LOCATION:Hornet's Nest #3
GEO:45.4428309;-75.575268
CREATED:20130218T173411Z
DTSTART:20130224T173000Z
DTEND:20130224T183000Z
DTSTAMP:20260426T013650Z
SUMMARY:The Dominators vs. Missile-toe
DESCRIPTION:Missile-toe vs. The DominatorsPlus d'info : #92
X-ALT-DESC;FMTTYPE=text/html:<!DOCTYPE HTML PUBLIC "-//W3C//DTD HTML 3.2//E
	N">\n<HTML>\n<HEAD>\n<TITLE></TITLE>\n</HEAD>\n<BODY>\n<h3>Missile-toe vs. 
	The Dominators</h3>Plus d'info : <a href="https://www.golnetwork.com/game/v
	/25982/">#92</a>\n\n</BODY>\n</HTML>
STATUS:CONFIRMED
CLASS:PUBLIC
URL:https://www.golnetwork.com/game/v/25982/
X-MICROSOFT-CDO-BUSYSTATUS:BUSY
X-MICROSOFT-CDO-IMPORTANCE:1
END:VEVENT
BEGIN:VEVENT
UID:g2j92@games.golnetwork.com
LOCATION:Louis Riel #2
GEO:45.4410208;-75.5715394
CREATED:20130211T042907Z
DTSTART:20130217T190000Z
DTEND:20130217T200000Z
DTSTAMP:20260426T013650Z
SUMMARY:Missile-toe vs. Screaming Beavers
DESCRIPTION:Screaming Beavers vs. Missile-toePlus d'info : #86
X-ALT-DESC;FMTTYPE=text/html:<!DOCTYPE HTML PUBLIC "-//W3C//DTD HTML 3.2//E
	N">\n<HTML>\n<HEAD>\n<TITLE></TITLE>\n</HEAD>\n<BODY>\n<h3>Screaming Beaver
	s vs. Missile-toe</h3>Plus d'info : <a href="https://www.golnetwork.com/gam
	e/v/25732/">#86</a>\n\n</BODY>\n</HTML>
STATUS:CONFIRMED
CLASS:PUBLIC
URL:https://www.golnetwork.com/game/v/25732/
X-MICROSOFT-CDO-BUSYSTATUS:BUSY
X-MICROSOFT-CDO-IMPORTANCE:1
END:VEVENT
BEGIN:VEVENT
UID:g2j3a@games.golnetwork.com
LOCATION:Louis Riel #3
GEO:45.4410208;-75.5715394
CREATED:20130206T083236Z
DTSTART:20130210T230000Z
DTEND:20130211T000000Z
DTSTAMP:20260426T013650Z
SUMMARY:Missile-toe vs. Kevin's Team
DESCRIPTION:Kevin's Team vs. Missile-toePlus d'info : #84
X-ALT-DESC;FMTTYPE=text/html:<!DOCTYPE HTML PUBLIC "-//W3C//DTD HTML 3.2//E
	N">\n<HTML>\n<HEAD>\n<TITLE></TITLE>\n</HEAD>\n<BODY>\n<h3>Kevin's Team vs.
	 Missile-toe</h3>Plus d'info : <a href="https://www.golnetwork.com/game/v/2
	5655/">#84</a>\n\n</BODY>\n</HTML>
STATUS:CONFIRMED
CLASS:PUBLIC
URL:https://www.golnetwork.com/game/v/25655/
X-MICROSOFT-CDO-BUSYSTATUS:BUSY
X-MICROSOFT-CDO-IMPORTANCE:1
END:VEVENT
END:VCALENDAR
