BEGIN:VCALENDAR
PRODID:-//gdesolutions.com//MV Framework 1.0.0.1607 Calendar//EN
VERSION:2.0
METHOD:PUBLISH
CALSCALE:GREGORIAN
BEGIN:VEVENT
UID:g990k@games.golnetwork.com
LOCATION:Louis Riel #2
GEO:45.4410208;-75.5715394
CREATED:20160726T075331Z
DTSTART:20160729T000000Z
DTEND:20160729T013000Z
DTSTAMP:20260422T055523Z
SUMMARY:Crowding Your Box vs. Missile-toe
DESCRIPTION:Missile-toe vs. Crowding Your BoxPlus d'info : #151
X-ALT-DESC;FMTTYPE=text/html:<!DOCTYPE HTML PUBLIC "-//W3C//DTD HTML 3.2//E
	N">\n<HTML>\n<HEAD>\n<TITLE></TITLE>\n</HEAD>\n<BODY>\n<h3>Missile-toe vs. 
	Crowding Your Box</h3>Plus d'info : <a href="https://www.golnetwork.com/gam
	e/v/90865/">#151</a>\n\n</BODY>\n</HTML>
STATUS:CONFIRMED
CLASS:PUBLIC
URL:https://www.golnetwork.com/game/v/90865/
X-MICROSOFT-CDO-BUSYSTATUS:BUSY
X-MICROSOFT-CDO-IMPORTANCE:1
END:VEVENT
BEGIN:VEVENT
UID:g97fl@games.golnetwork.com
LOCATION:Louis Riel #1
GEO:45.4410208;-75.5715394
CREATED:20160708T195455Z
DTSTART:20160722T013000Z
DTEND:20160722T030000Z
DTSTAMP:20260422T055523Z
SUMMARY:Missile-toe vs. Hammerheads
DESCRIPTION:Hammerheads vs. Missile-toePlus d'info : #24
X-ALT-DESC;FMTTYPE=text/html:<!DOCTYPE HTML PUBLIC "-//W3C//DTD HTML 3.2//E
	N">\n<HTML>\n<HEAD>\n<TITLE></TITLE>\n</HEAD>\n<BODY>\n<h3>Hammerheads vs. 
	Missile-toe</h3>Plus d'info : <a href="https://www.golnetwork.com/game/v/90
	339/">#24</a>\n\n</BODY>\n</HTML>
STATUS:CONFIRMED
CLASS:PUBLIC
URL:https://www.golnetwork.com/game/v/90339/
X-MICROSOFT-CDO-BUSYSTATUS:BUSY
X-MICROSOFT-CDO-IMPORTANCE:1
END:VEVENT
BEGIN:VEVENT
UID:g97em@games.golnetwork.com
LOCATION:McCarthy Park Field #2
GEO:45.3518541;-75.6719009
CREATED:20160708T195454Z
DTSTART:20160714T224500Z
DTEND:20160715T001500Z
DTSTAMP:20260422T055523Z
SUMMARY:Missile-toe vs. Cornerstone FC
DESCRIPTION:Cornerstone FC vs. Missile-toePlus d'info : #11
X-ALT-DESC;FMTTYPE=text/html:<!DOCTYPE HTML PUBLIC "-//W3C//DTD HTML 3.2//E
	N">\n<HTML>\n<HEAD>\n<TITLE></TITLE>\n</HEAD>\n<BODY>\n<h3>Cornerstone FC v
	s. Missile-toe</h3>Plus d'info : <a href="https://www.golnetwork.com/game/v
	/90326/">#11</a>\n\n</BODY>\n</HTML>
STATUS:CONFIRMED
CLASS:PUBLIC
URL:https://www.golnetwork.com/game/v/90326/
X-MICROSOFT-CDO-BUSYSTATUS:BUSY
X-MICROSOFT-CDO-IMPORTANCE:1
END:VEVENT
BEGIN:VEVENT
UID:g95ai@games.golnetwork.com
LOCATION:McCarthy Park Field #4
GEO:45.3518541;-75.6719009
CREATED:20160621T055044Z
DTSTART:20160707T224500Z
DTEND:20160708T001500Z
DTSTAMP:20260422T055523Z
SUMMARY:Missile-toe vs. Team Doug
DESCRIPTION:Team Doug vs. Missile-toePlus d'info : #45
X-ALT-DESC;FMTTYPE=text/html:<!DOCTYPE HTML PUBLIC "-//W3C//DTD HTML 3.2//E
	N">\n<HTML>\n<HEAD>\n<TITLE></TITLE>\n</HEAD>\n<BODY>\n<h3>Team Doug vs. Mi
	ssile-toe</h3>Plus d'info : <a href="https://www.golnetwork.com/game/v/8954
	1/">#45</a>\n\n</BODY>\n</HTML>
STATUS:CONFIRMED
CLASS:PUBLIC
URL:https://www.golnetwork.com/game/v/89541/
X-MICROSOFT-CDO-BUSYSTATUS:BUSY
X-MICROSOFT-CDO-IMPORTANCE:1
END:VEVENT
BEGIN:VEVENT
UID:g9588@games.golnetwork.com
LOCATION:McCarthy Park Field #5
GEO:45.3517739;-75.6718247
CREATED:20160621T055042Z
DTSTART:20160623T224500Z
DTEND:20160624T001500Z
DTSTAMP:20260422T055523Z
SUMMARY:Individuals 1 vs. Missile-toe
DESCRIPTION:Missile-toe vs. Individuals 1Plus d'info : #13
X-ALT-DESC;FMTTYPE=text/html:<!DOCTYPE HTML PUBLIC "-//W3C//DTD HTML 3.2//E
	N">\n<HTML>\n<HEAD>\n<TITLE></TITLE>\n</HEAD>\n<BODY>\n<h3>Missile-toe vs. 
	Individuals 1</h3>Plus d'info : <a href="https://www.golnetwork.com/game/v/
	89509/">#13</a>\n\n</BODY>\n</HTML>
STATUS:CONFIRMED
CLASS:PUBLIC
URL:https://www.golnetwork.com/game/v/89509/
X-MICROSOFT-CDO-BUSYSTATUS:BUSY
X-MICROSOFT-CDO-IMPORTANCE:1
END:VEVENT
BEGIN:VEVENT
UID:g94fa@games.golnetwork.com
LOCATION:McCarthy Park Field #2
GEO:45.3518541;-75.6719009
CREATED:20160530T033909Z
DTSTART:20160616T224500Z
DTEND:20160617T001500Z
DTSTAMP:20260422T055523Z
SUMMARY:Missile-toe vs. One Kick Wonders FC
DESCRIPTION:One Kick Wonders FC vs. Missile-toePlus d'info : #44
X-ALT-DESC;FMTTYPE=text/html:<!DOCTYPE HTML PUBLIC "-//W3C//DTD HTML 3.2//E
	N">\n<HTML>\n<HEAD>\n<TITLE></TITLE>\n</HEAD>\n<BODY>\n<h3>One Kick Wonders
	 FC vs. Missile-toe</h3>Plus d'info : <a href="https://www.golnetwork.com/g
	ame/v/89240/">#44</a>\n\n</BODY>\n</HTML>
STATUS:CONFIRMED
CLASS:PUBLIC
URL:https://www.golnetwork.com/game/v/89240/
X-MICROSOFT-CDO-BUSYSTATUS:BUSY
X-MICROSOFT-CDO-IMPORTANCE:1
END:VEVENT
BEGIN:VEVENT
UID:g94e5@games.golnetwork.com
LOCATION:McCarthy Park Field #2
GEO:45.3518541;-75.6719009
CREATED:20160530T033908Z
DTSTART:20160609T224500Z
DTEND:20160610T001500Z
DTSTAMP:20260422T055523Z
SUMMARY:Missile-toe vs. Mercury Man Dem
DESCRIPTION:Mercury Man Dem vs. Missile-toePlus d'info : #28
X-ALT-DESC;FMTTYPE=text/html:<!DOCTYPE HTML PUBLIC "-//W3C//DTD HTML 3.2//E
	N">\n<HTML>\n<HEAD>\n<TITLE></TITLE>\n</HEAD>\n<BODY>\n<h3>Mercury Man Dem 
	vs. Missile-toe</h3>Plus d'info : <a href="https://www.golnetwork.com/game/
	v/89224/">#28</a>\n\n</BODY>\n</HTML>
STATUS:CONFIRMED
CLASS:PUBLIC
URL:https://www.golnetwork.com/game/v/89224/
X-MICROSOFT-CDO-BUSYSTATUS:BUSY
X-MICROSOFT-CDO-IMPORTANCE:1
END:VEVENT
BEGIN:VEVENT
UID:g94cn@games.golnetwork.com
LOCATION:McCarthy Park Field #1
GEO:45.3518541;-75.6719009
CREATED:20160530T033907Z
DTSTART:20160602T224500Z
DTEND:20160603T001500Z
DTSTAMP:20260422T055523Z
SUMMARY:Missile-toe vs. The Miseducation
DESCRIPTION:The Miseducation vs. Missile-toePlus d'info : #10
X-ALT-DESC;FMTTYPE=text/html:<!DOCTYPE HTML PUBLIC "-//W3C//DTD HTML 3.2//E
	N">\n<HTML>\n<HEAD>\n<TITLE></TITLE>\n</HEAD>\n<BODY>\n<h3>The Miseducation
	 vs. Missile-toe</h3>Plus d'info : <a href="https://www.golnetwork.com/game
	/v/89206/">#10</a>\n\n</BODY>\n</HTML>
STATUS:CONFIRMED
CLASS:PUBLIC
URL:https://www.golnetwork.com/game/v/89206/
X-MICROSOFT-CDO-BUSYSTATUS:BUSY
X-MICROSOFT-CDO-IMPORTANCE:1
END:VEVENT
BEGIN:VEVENT
UID:g9227@games.golnetwork.com
LOCATION:Lester B. Pearson Field 1
GEO:45.4429892;-75.5963901
CREATED:20160516T202553Z
DTSTART:20160526T224500Z
DTEND:20160527T001500Z
DTSTAMP:20260422T055523Z
SUMMARY:SupportMyMac Attack vs. Missile-toe
DESCRIPTION:Missile-toe vs. SupportMyMac AttackPlus d'info : #9
X-ALT-DESC;FMTTYPE=text/html:<!DOCTYPE HTML PUBLIC "-//W3C//DTD HTML 3.2//E
	N">\n<HTML>\n<HEAD>\n<TITLE></TITLE>\n</HEAD>\n<BODY>\n<h3>Missile-toe vs. 
	SupportMyMac Attack</h3>Plus d'info : <a href="https://www.golnetwork.com/g
	ame/v/88334/">#9</a>\n\n</BODY>\n</HTML>
STATUS:CONFIRMED
CLASS:PUBLIC
URL:https://www.golnetwork.com/game/v/88334/
X-MICROSOFT-CDO-BUSYSTATUS:BUSY
X-MICROSOFT-CDO-IMPORTANCE:1
END:VEVENT
END:VCALENDAR
