BEGIN:VCALENDAR
PRODID:-//gdesolutions.com//MV Framework 1.0.0.1607 Calendar//EN
VERSION:2.0
METHOD:PUBLISH
CALSCALE:GREGORIAN
BEGIN:VEVENT
UID:g1q54@games.golnetwork.com
LOCATION:Danforth Tech field
CREATED:20120829T123016Z
DTSTART:20120829T231500Z
DTEND:20120830T003000Z
DTSTAMP:20260420T030736Z
SUMMARY:Aztecas vs. The Muppets
DESCRIPTION:The Muppets vs. AztecasPlus d'info : #382
X-ALT-DESC;FMTTYPE=text/html:<!DOCTYPE HTML PUBLIC "-//W3C//DTD HTML 3.2//E
	N">\n<HTML>\n<HEAD>\n<TITLE></TITLE>\n</HEAD>\n<BODY>\n<h3>The Muppets vs. 
	Aztecas</h3>Plus d'info : <a href="https://www.golnetwork.com/game/v/18389/
	">#382</a>\n\n</BODY>\n</HTML>
STATUS:CONFIRMED
CLASS:PUBLIC
URL:https://www.golnetwork.com/game/v/18389/
X-MICROSOFT-CDO-BUSYSTATUS:BUSY
X-MICROSOFT-CDO-IMPORTANCE:1
END:VEVENT
BEGIN:VEVENT
UID:g1nb1@games.golnetwork.com
LOCATION:Danforth Tech field
CREATED:20120706T210117Z
DTSTART:20120822T233500Z
DTEND:20120823T004000Z
DTSTAMP:20260420T030736Z
SUMMARY:Goonies (Green) vs. The Muppets
DESCRIPTION:The Muppets vs. Goonies (Green)Plus d'info : #335
X-ALT-DESC;FMTTYPE=text/html:<!DOCTYPE HTML PUBLIC "-//W3C//DTD HTML 3.2//E
	N">\n<HTML>\n<HEAD>\n<TITLE></TITLE>\n</HEAD>\n<BODY>\n<h3>The Muppets vs. 
	Goonies (Green)</h3>Plus d'info : <a href="https://www.golnetwork.com/game/
	v/17375/">#335</a>\n\n</BODY>\n</HTML>
STATUS:CONFIRMED
CLASS:PUBLIC
URL:https://www.golnetwork.com/game/v/17375/
X-MICROSOFT-CDO-BUSYSTATUS:BUSY
X-MICROSOFT-CDO-IMPORTANCE:1
END:VEVENT
BEGIN:VEVENT
UID:g1nai@games.golnetwork.com
LOCATION:Danforth Tech 2
CREATED:20120706T210117Z
DTSTART:20120815T223000Z
DTEND:20120815T233500Z
DTSTAMP:20260420T030736Z
SUMMARY:Marketwired FC vs. The Muppets
DESCRIPTION:The Muppets vs. Marketwired FCPlus d'info : #277
X-ALT-DESC;FMTTYPE=text/html:<!DOCTYPE HTML PUBLIC "-//W3C//DTD HTML 3.2//E
	N">\n<HTML>\n<HEAD>\n<TITLE></TITLE>\n</HEAD>\n<BODY>\n<h3>The Muppets vs. 
	Marketwired FC</h3>Plus d'info : <a href="https://www.golnetwork.com/game/v
	/17370/">#277</a>\n\n</BODY>\n</HTML>
STATUS:CONFIRMED
CLASS:PUBLIC
URL:https://www.golnetwork.com/game/v/17370/
X-MICROSOFT-CDO-BUSYSTATUS:BUSY
X-MICROSOFT-CDO-IMPORTANCE:1
END:VEVENT
BEGIN:VEVENT
UID:g1na8@games.golnetwork.com
LOCATION:Danforth Tech field
CREATED:20120706T210117Z
DTSTART:20120808T223000Z
DTEND:20120808T233500Z
DTSTAMP:20260420T030736Z
SUMMARY:Bumble Cleats (Yellow) vs. The Muppets
DESCRIPTION:The Muppets vs. Bumble Cleats (Yellow)Plus d'info : #224
X-ALT-DESC;FMTTYPE=text/html:<!DOCTYPE HTML PUBLIC "-//W3C//DTD HTML 3.2//E
	N">\n<HTML>\n<HEAD>\n<TITLE></TITLE>\n</HEAD>\n<BODY>\n<h3>The Muppets vs. 
	Bumble Cleats (Yellow)</h3>Plus d'info : <a href="https://www.golnetwork.co
	m/game/v/17365/">#224</a>\n\n</BODY>\n</HTML>
STATUS:CONFIRMED
CLASS:PUBLIC
URL:https://www.golnetwork.com/game/v/17365/
X-MICROSOFT-CDO-BUSYSTATUS:BUSY
X-MICROSOFT-CDO-IMPORTANCE:1
END:VEVENT
BEGIN:VEVENT
UID:g1na2@games.golnetwork.com
LOCATION:Danforth Tech 2
CREATED:20120706T210117Z
DTSTART:20120801T223000Z
DTEND:20120801T233500Z
DTSTAMP:20260420T030736Z
SUMMARY:The Muppets vs. The 1 and Onlys
DESCRIPTION:The 1 and Onlys vs. The MuppetsPlus d'info : #184
X-ALT-DESC;FMTTYPE=text/html:<!DOCTYPE HTML PUBLIC "-//W3C//DTD HTML 3.2//E
	N">\n<HTML>\n<HEAD>\n<TITLE></TITLE>\n</HEAD>\n<BODY>\n<h3>The 1 and Onlys 
	vs. The Muppets</h3>Plus d'info : <a href="https://www.golnetwork.com/game/
	v/17362/">#184</a>\n\n</BODY>\n</HTML>
STATUS:CONFIRMED
CLASS:PUBLIC
URL:https://www.golnetwork.com/game/v/17362/
X-MICROSOFT-CDO-BUSYSTATUS:BUSY
X-MICROSOFT-CDO-IMPORTANCE:1
END:VEVENT
BEGIN:VEVENT
UID:g1n9j@games.golnetwork.com
LOCATION:Danforth Tech field
CREATED:20120706T210117Z
DTSTART:20120725T223000Z
DTEND:20120725T233500Z
DTSTAMP:20260420T030736Z
SUMMARY:The Muppets vs. Lazy Pandas
DESCRIPTION:Lazy Pandas vs. The MuppetsPlus d'info : #127
X-ALT-DESC;FMTTYPE=text/html:<!DOCTYPE HTML PUBLIC "-//W3C//DTD HTML 3.2//E
	N">\n<HTML>\n<HEAD>\n<TITLE></TITLE>\n</HEAD>\n<BODY>\n<h3>Lazy Pandas vs. 
	The Muppets</h3>Plus d'info : <a href="https://www.golnetwork.com/game/v/17
	357/">#127</a>\n\n</BODY>\n</HTML>
STATUS:CONFIRMED
CLASS:PUBLIC
URL:https://www.golnetwork.com/game/v/17357/
X-MICROSOFT-CDO-BUSYSTATUS:BUSY
X-MICROSOFT-CDO-IMPORTANCE:1
END:VEVENT
BEGIN:VEVENT
UID:g1n9h@games.golnetwork.com
LOCATION:Danforth Tech 2
CREATED:20120706T210117Z
DTSTART:20120718T233500Z
DTEND:20120719T004000Z
DTSTAMP:20260420T030736Z
SUMMARY:The Muppets vs. Red Hot Cane Toads
DESCRIPTION:Red Hot Cane Toads vs. The MuppetsPlus d'info : #75
X-ALT-DESC;FMTTYPE=text/html:<!DOCTYPE HTML PUBLIC "-//W3C//DTD HTML 3.2//E
	N">\n<HTML>\n<HEAD>\n<TITLE></TITLE>\n</HEAD>\n<BODY>\n<h3>Red Hot Cane Toa
	ds vs. The Muppets</h3>Plus d'info : <a href="https://www.golnetwork.com/ga
	me/v/17356/">#75</a>\n\n</BODY>\n</HTML>
STATUS:CONFIRMED
CLASS:PUBLIC
URL:https://www.golnetwork.com/game/v/17356/
X-MICROSOFT-CDO-BUSYSTATUS:BUSY
X-MICROSOFT-CDO-IMPORTANCE:1
END:VEVENT
BEGIN:VEVENT
UID:g1n99@games.golnetwork.com
LOCATION:Danforth Tech 2
CREATED:20120706T210117Z
DTSTART:20120711T233500Z
DTEND:20120712T004000Z
DTSTAMP:20260420T030736Z
SUMMARY:Aztecas vs. The Muppets
DESCRIPTION:The Muppets vs. AztecasPlus d'info : #26
X-ALT-DESC;FMTTYPE=text/html:<!DOCTYPE HTML PUBLIC "-//W3C//DTD HTML 3.2//E
	N">\n<HTML>\n<HEAD>\n<TITLE></TITLE>\n</HEAD>\n<BODY>\n<h3>The Muppets vs. 
	Aztecas</h3>Plus d'info : <a href="https://www.golnetwork.com/game/v/17352/
	">#26</a>\n\n</BODY>\n</HTML>
STATUS:CONFIRMED
CLASS:PUBLIC
URL:https://www.golnetwork.com/game/v/17352/
X-MICROSOFT-CDO-BUSYSTATUS:BUSY
X-MICROSOFT-CDO-IMPORTANCE:1
END:VEVENT
END:VCALENDAR
