BEGIN:VCALENDAR
PRODID:-//gdesolutions.com//MV Framework 1.0.0.1607 Calendar//EN
VERSION:2.0
METHOD:PUBLISH
CALSCALE:GREGORIAN
BEGIN:VEVENT
UID:gblm8@games.golnetwork.com
LOCATION:CVM - Court #1
GEO:45.5146585;-73.5658635
CREATED:20171015T165030Z
DTSTART:20180306T023000Z
DTEND:20180306T033000Z
DTSTAMP:20260421T081751Z
SUMMARY:FLINT TROPICS vs. SHURIK'N
DESCRIPTION:SHURIK'N vs. FLINT TROPICSPlus d'info : #448
X-ALT-DESC;FMTTYPE=text/html:<!DOCTYPE HTML PUBLIC "-//W3C//DTD HTML 3.2//E
	N">\n<HTML>\n<HEAD>\n<TITLE></TITLE>\n</HEAD>\n<BODY>\n<h3>SHURIK'N vs. FLI
	NT TROPICS</h3>Plus d'info : <a href="https://www.golnetwork.com/game/v/115
	213/">#448</a>\n\n</BODY>\n</HTML>
STATUS:CONFIRMED
CLASS:PUBLIC
URL:https://www.golnetwork.com/game/v/115213/
X-MICROSOFT-CDO-BUSYSTATUS:BUSY
X-MICROSOFT-CDO-IMPORTANCE:1
END:VEVENT
BEGIN:VEVENT
UID:gbm0d@games.golnetwork.com
LOCATION:CVM - Court #1
GEO:45.5146585;-73.5658635
CREATED:20171015T165633Z
DTSTART:20180227T023000Z
DTEND:20180227T033000Z
DTSTAMP:20260421T081751Z
SUMMARY:SHURIK'N vs. DADOLLE
DESCRIPTION:DADOLLE vs. SHURIK'NPlus d'info : #413
X-ALT-DESC;FMTTYPE=text/html:<!DOCTYPE HTML PUBLIC "-//W3C//DTD HTML 3.2//E
	N">\n<HTML>\n<HEAD>\n<TITLE></TITLE>\n</HEAD>\n<BODY>\n<h3>DADOLLE vs. SHUR
	IK'N</h3>Plus d'info : <a href="https://www.golnetwork.com/game/v/115283/">
	#413</a>\n\n</BODY>\n</HTML>
STATUS:CONFIRMED
CLASS:PUBLIC
URL:https://www.golnetwork.com/game/v/115283/
X-MICROSOFT-CDO-BUSYSTATUS:BUSY
X-MICROSOFT-CDO-IMPORTANCE:1
END:VEVENT
BEGIN:VEVENT
UID:gblqi@games.golnetwork.com
LOCATION:CVM - Court #1
GEO:45.5146585;-73.5658635
CREATED:20171015T165031Z
DTSTART:20180221T013000Z
DTEND:20180221T023000Z
DTSTAMP:20260421T081751Z
SUMMARY:SHURIK'N vs. SPANK
DESCRIPTION:SPANK vs. SHURIK'NPlus d'info : #387
X-ALT-DESC;FMTTYPE=text/html:<!DOCTYPE HTML PUBLIC "-//W3C//DTD HTML 3.2//E
	N">\n<HTML>\n<HEAD>\n<TITLE></TITLE>\n</HEAD>\n<BODY>\n<h3>SPANK vs. SHURIK
	'N</h3>Plus d'info : <a href="https://www.golnetwork.com/game/v/115272/">#3
	87</a>\n\n</BODY>\n</HTML>
STATUS:CONFIRMED
CLASS:PUBLIC
URL:https://www.golnetwork.com/game/v/115272/
X-MICROSOFT-CDO-BUSYSTATUS:BUSY
X-MICROSOFT-CDO-IMPORTANCE:1
END:VEVENT
BEGIN:VEVENT
UID:gblpn@games.golnetwork.com
LOCATION:CVM - Court #1
GEO:45.5146585;-73.5658635
CREATED:20171015T165031Z
DTSTART:20180212T013000Z
DTEND:20180212T023000Z
DTSTAMP:20260421T081751Z
SUMMARY:MAULIN & BALLIN vs. SHURIK'N
DESCRIPTION:SHURIK'N vs. MAULIN & BALLINPlus d'info : #343
X-ALT-DESC;FMTTYPE=text/html:<!DOCTYPE HTML PUBLIC "-//W3C//DTD HTML 3.2//E
	N">\n<HTML>\n<HEAD>\n<TITLE></TITLE>\n</HEAD>\n<BODY>\n<h3>SHURIK'N vs. MAU
	LIN & BALLIN</h3>Plus d'info : <a href="https://www.golnetwork.com/game/v/1
	15261/">#343</a>\n\n</BODY>\n</HTML>
STATUS:CONFIRMED
CLASS:PUBLIC
URL:https://www.golnetwork.com/game/v/115261/
X-MICROSOFT-CDO-BUSYSTATUS:BUSY
X-MICROSOFT-CDO-IMPORTANCE:1
END:VEVENT
BEGIN:VEVENT
UID:gbloq@games.golnetwork.com
LOCATION:CVM - Court #1
GEO:45.5146585;-73.5658635
CREATED:20171015T165031Z
DTSTART:20180206T023000Z
DTEND:20180206T033000Z
DTSTAMP:20260421T081751Z
SUMMARY:MADNESS vs. SHURIK'N
DESCRIPTION:SHURIK'N vs. MADNESSPlus d'info : #313
X-ALT-DESC;FMTTYPE=text/html:<!DOCTYPE HTML PUBLIC "-//W3C//DTD HTML 3.2//E
	N">\n<HTML>\n<HEAD>\n<TITLE></TITLE>\n</HEAD>\n<BODY>\n<h3>SHURIK'N vs. MAD
	NESS</h3>Plus d'info : <a href="https://www.golnetwork.com/game/v/115249/">
	#313</a>\n\n</BODY>\n</HTML>
STATUS:CONFIRMED
CLASS:PUBLIC
URL:https://www.golnetwork.com/game/v/115249/
X-MICROSOFT-CDO-BUSYSTATUS:BUSY
X-MICROSOFT-CDO-IMPORTANCE:1
END:VEVENT
BEGIN:VEVENT
UID:gblo2@games.golnetwork.com
LOCATION:CVM - Court #1
GEO:45.5146585;-73.5658635
CREATED:20171015T165031Z
DTSTART:20180131T013000Z
DTEND:20180131T023000Z
DTSTAMP:20260421T081751Z
SUMMARY:SHOWTIME vs. SHURIK'N
DESCRIPTION:SHURIK'N vs. SHOWTIMEPlus d'info : #298
X-ALT-DESC;FMTTYPE=text/html:<!DOCTYPE HTML PUBLIC "-//W3C//DTD HTML 3.2//E
	N">\n<HTML>\n<HEAD>\n<TITLE></TITLE>\n</HEAD>\n<BODY>\n<h3>SHURIK'N vs. SHO
	WTIME</h3>Plus d'info : <a href="https://www.golnetwork.com/game/v/115237/"
	>#298</a>\n\n</BODY>\n</HTML>
STATUS:CONFIRMED
CLASS:PUBLIC
URL:https://www.golnetwork.com/game/v/115237/
X-MICROSOFT-CDO-BUSYSTATUS:BUSY
X-MICROSOFT-CDO-IMPORTANCE:1
END:VEVENT
BEGIN:VEVENT
UID:gbln5@games.golnetwork.com
LOCATION:CVM - Court #1
GEO:45.5146585;-73.5658635
CREATED:20171015T165031Z
DTSTART:20180123T023000Z
DTEND:20180123T033000Z
DTSTAMP:20260421T081751Z
SUMMARY:4 DA SQUAW vs. SHURIK'N
DESCRIPTION:SHURIK'N vs. 4 DA SQUAWPlus d'info : #266
X-ALT-DESC;FMTTYPE=text/html:<!DOCTYPE HTML PUBLIC "-//W3C//DTD HTML 3.2//E
	N">\n<HTML>\n<HEAD>\n<TITLE></TITLE>\n</HEAD>\n<BODY>\n<h3>SHURIK'N vs. 4 D
	A SQUAW</h3>Plus d'info : <a href="https://www.golnetwork.com/game/v/115225
	/">#266</a>\n\n</BODY>\n</HTML>
STATUS:CONFIRMED
CLASS:PUBLIC
URL:https://www.golnetwork.com/game/v/115225/
X-MICROSOFT-CDO-BUSYSTATUS:BUSY
X-MICROSOFT-CDO-IMPORTANCE:1
END:VEVENT
BEGIN:VEVENT
UID:gbllb@games.golnetwork.com
LOCATION:CVM - Court #1
GEO:45.5146585;-73.5658635
CREATED:20171015T165030Z
DTSTART:20171219T023000Z
DTEND:20171219T033000Z
DTSTAMP:20260421T081751Z
SUMMARY:CREAM TEAM vs. SHURIK'N
DESCRIPTION:SHURIK'N vs. CREAM TEAMPlus d'info : #244
X-ALT-DESC;FMTTYPE=text/html:<!DOCTYPE HTML PUBLIC "-//W3C//DTD HTML 3.2//E
	N">\n<HTML>\n<HEAD>\n<TITLE></TITLE>\n</HEAD>\n<BODY>\n<h3>SHURIK'N vs. CRE
	AM TEAM</h3>Plus d'info : <a href="https://www.golnetwork.com/game/v/115201
	/">#244</a>\n\n</BODY>\n</HTML>
STATUS:CONFIRMED
CLASS:PUBLIC
URL:https://www.golnetwork.com/game/v/115201/
X-MICROSOFT-CDO-BUSYSTATUS:BUSY
X-MICROSOFT-CDO-IMPORTANCE:1
END:VEVENT
BEGIN:VEVENT
UID:gblke@games.golnetwork.com
LOCATION:CVM - Court #1
GEO:45.5146585;-73.5658635
CREATED:20171015T165030Z
DTSTART:20171211T020000Z
DTEND:20171211T030000Z
DTSTAMP:20260421T081751Z
SUMMARY:NOTHING BUT NETS vs. SHURIK'N
DESCRIPTION:SHURIK'N vs. NOTHING BUT NETSPlus d'info : #206
X-ALT-DESC;FMTTYPE=text/html:<!DOCTYPE HTML PUBLIC "-//W3C//DTD HTML 3.2//E
	N">\n<HTML>\n<HEAD>\n<TITLE></TITLE>\n</HEAD>\n<BODY>\n<h3>SHURIK'N vs. NOT
	HING BUT NETS</h3>Plus d'info : <a href="https://www.golnetwork.com/game/v/
	115189/">#206</a>\n\n</BODY>\n</HTML>
STATUS:CONFIRMED
CLASS:PUBLIC
URL:https://www.golnetwork.com/game/v/115189/
X-MICROSOFT-CDO-BUSYSTATUS:BUSY
X-MICROSOFT-CDO-IMPORTANCE:1
END:VEVENT
BEGIN:VEVENT
UID:gbljh@games.golnetwork.com
LOCATION:CVM - Court #1
GEO:45.5146585;-73.5658635
CREATED:20171015T165030Z
DTSTART:20171206T023000Z
DTEND:20171206T033000Z
DTSTAMP:20260421T081751Z
SUMMARY:WARRIORS vs. SHURIK'N
DESCRIPTION:SHURIK'N vs. WARRIORSPlus d'info : #196
X-ALT-DESC;FMTTYPE=text/html:<!DOCTYPE HTML PUBLIC "-//W3C//DTD HTML 3.2//E
	N">\n<HTML>\n<HEAD>\n<TITLE></TITLE>\n</HEAD>\n<BODY>\n<h3>SHURIK'N vs. WAR
	RIORS</h3>Plus d'info : <a href="https://www.golnetwork.com/game/v/115177/"
	>#196</a>\n\n</BODY>\n</HTML>
STATUS:CONFIRMED
CLASS:PUBLIC
URL:https://www.golnetwork.com/game/v/115177/
X-MICROSOFT-CDO-BUSYSTATUS:BUSY
X-MICROSOFT-CDO-IMPORTANCE:1
END:VEVENT
BEGIN:VEVENT
UID:gblik@games.golnetwork.com
LOCATION:CVM - Court #1
GEO:45.5146585;-73.5658635
CREATED:20171015T165030Z
DTSTART:20171128T023000Z
DTEND:20171128T033000Z
DTSTAMP:20260421T081751Z
SUMMARY:FAST LANE vs. SHURIK'N
DESCRIPTION:SHURIK'N vs. FAST LANEPlus d'info : #164
X-ALT-DESC;FMTTYPE=text/html:<!DOCTYPE HTML PUBLIC "-//W3C//DTD HTML 3.2//E
	N">\n<HTML>\n<HEAD>\n<TITLE></TITLE>\n</HEAD>\n<BODY>\n<h3>SHURIK'N vs. FAS
	T LANE</h3>Plus d'info : <a href="https://www.golnetwork.com/game/v/115165/
	">#164</a>\n\n</BODY>\n</HTML>
STATUS:CONFIRMED
CLASS:PUBLIC
URL:https://www.golnetwork.com/game/v/115165/
X-MICROSOFT-CDO-BUSYSTATUS:BUSY
X-MICROSOFT-CDO-IMPORTANCE:1
END:VEVENT
BEGIN:VEVENT
UID:gblhn@games.golnetwork.com
LOCATION:CVM - Court #1
GEO:45.5146585;-73.5658635
CREATED:20171015T165030Z
DTSTART:20171121T023000Z
DTEND:20171121T033000Z
DTSTAMP:20260421T081751Z
SUMMARY:THE CHEMISTS vs. SHURIK'N
DESCRIPTION:SHURIK'N vs. THE CHEMISTSPlus d'info : #135
X-ALT-DESC;FMTTYPE=text/html:<!DOCTYPE HTML PUBLIC "-//W3C//DTD HTML 3.2//E
	N">\n<HTML>\n<HEAD>\n<TITLE></TITLE>\n</HEAD>\n<BODY>\n<h3>SHURIK'N vs. THE
	 CHEMISTS</h3>Plus d'info : <a href="https://www.golnetwork.com/game/v/1151
	53/">#135</a>\n\n</BODY>\n</HTML>
STATUS:CONFIRMED
CLASS:PUBLIC
URL:https://www.golnetwork.com/game/v/115153/
X-MICROSOFT-CDO-BUSYSTATUS:BUSY
X-MICROSOFT-CDO-IMPORTANCE:1
END:VEVENT
BEGIN:VEVENT
UID:gblgq@games.golnetwork.com
LOCATION:CVM - Court #1
GEO:45.5146585;-73.5658635
CREATED:20171015T165030Z
DTSTART:20171114T013000Z
DTEND:20171114T023000Z
DTSTAMP:20260421T081751Z
SUMMARY:SHURIK'N vs. LRM
DESCRIPTION:LRM vs. SHURIK'NPlus d'info : #102
X-ALT-DESC;FMTTYPE=text/html:<!DOCTYPE HTML PUBLIC "-//W3C//DTD HTML 3.2//E
	N">\n<HTML>\n<HEAD>\n<TITLE></TITLE>\n</HEAD>\n<BODY>\n<h3>LRM vs. SHURIK'N
	</h3>Plus d'info : <a href="https://www.golnetwork.com/game/v/115141/">#102
	</a>\n\n</BODY>\n</HTML>
STATUS:CONFIRMED
CLASS:PUBLIC
URL:https://www.golnetwork.com/game/v/115141/
X-MICROSOFT-CDO-BUSYSTATUS:BUSY
X-MICROSOFT-CDO-IMPORTANCE:1
END:VEVENT
BEGIN:VEVENT
UID:gblg6@games.golnetwork.com
LOCATION:CVM - Court #1
GEO:45.5146585;-73.5658635
CREATED:20171015T165030Z
DTSTART:20171108T003000Z
DTEND:20171108T013000Z
DTSTAMP:20260421T081751Z
SUMMARY:SHURIK'N vs. MIDTOWN
DESCRIPTION:MIDTOWN vs. SHURIK'NPlus d'info : #76
X-ALT-DESC;FMTTYPE=text/html:<!DOCTYPE HTML PUBLIC "-//W3C//DTD HTML 3.2//E
	N">\n<HTML>\n<HEAD>\n<TITLE></TITLE>\n</HEAD>\n<BODY>\n<h3>MIDTOWN vs. SHUR
	IK'N</h3>Plus d'info : <a href="https://www.golnetwork.com/game/v/115131/">
	#76</a>\n\n</BODY>\n</HTML>
STATUS:CONFIRMED
CLASS:PUBLIC
URL:https://www.golnetwork.com/game/v/115131/
X-MICROSOFT-CDO-BUSYSTATUS:BUSY
X-MICROSOFT-CDO-IMPORTANCE:1
END:VEVENT
BEGIN:VEVENT
UID:gblfd@games.golnetwork.com
LOCATION:CVM - Court #1
GEO:45.5146585;-73.5658635
CREATED:20171015T165030Z
DTSTART:20171031T003000Z
DTEND:20171031T013000Z
DTSTAMP:20260421T081751Z
SUMMARY:SHURIK'N vs. HOTSAUCE
DESCRIPTION:HOTSAUCE vs. SHURIK'NPlus d'info : #45
X-ALT-DESC;FMTTYPE=text/html:<!DOCTYPE HTML PUBLIC "-//W3C//DTD HTML 3.2//E
	N">\n<HTML>\n<HEAD>\n<TITLE></TITLE>\n</HEAD>\n<BODY>\n<h3>HOTSAUCE vs. SHU
	RIK'N</h3>Plus d'info : <a href="https://www.golnetwork.com/game/v/115121/"
	>#45</a>\n\n</BODY>\n</HTML>
STATUS:CONFIRMED
CLASS:PUBLIC
URL:https://www.golnetwork.com/game/v/115121/
X-MICROSOFT-CDO-BUSYSTATUS:BUSY
X-MICROSOFT-CDO-IMPORTANCE:1
END:VEVENT
BEGIN:VEVENT
UID:gblek@games.golnetwork.com
LOCATION:CVM - Court #1
GEO:45.5146585;-73.5658635
CREATED:20171015T165029Z
DTSTART:20171025T013000Z
DTEND:20171025T023000Z
DTSTAMP:20260421T081751Z
SUMMARY:SHURIK'N vs. KAWHI ME A RIVER
DESCRIPTION:KAWHI ME A RIVER vs. SHURIK'NPlus d'info : #24
X-ALT-DESC;FMTTYPE=text/html:<!DOCTYPE HTML PUBLIC "-//W3C//DTD HTML 3.2//E
	N">\n<HTML>\n<HEAD>\n<TITLE></TITLE>\n</HEAD>\n<BODY>\n<h3>KAWHI ME A RIVER
	 vs. SHURIK'N</h3>Plus d'info : <a href="https://www.golnetwork.com/game/v/
	115111/">#24</a>\n\n</BODY>\n</HTML>
STATUS:CONFIRMED
CLASS:PUBLIC
URL:https://www.golnetwork.com/game/v/115111/
X-MICROSOFT-CDO-BUSYSTATUS:BUSY
X-MICROSOFT-CDO-IMPORTANCE:1
END:VEVENT
END:VCALENDAR
