BEGIN:VCALENDAR
PRODID:-//gdesolutions.com//MV Framework 1.0.0.1607 Calendar//EN
VERSION:2.0
METHOD:PUBLISH
CALSCALE:GREGORIAN
BEGIN:VEVENT
UID:g2df0@games.golnetwork.com
LOCATION:Rosedale Heights 1
GEO:45.10662;-94.578209
CREATED:20121114T151436Z
DTSTART:20121204T013000Z
DTEND:20121204T023000Z
DTSTAMP:20260421T052714Z
SUMMARY:AAFC (Black) vs. Jerk Sauce
DESCRIPTION:Jerk Sauce vs. AAFC (Black)Plus d'info : #161
X-ALT-DESC;FMTTYPE=text/html:<!DOCTYPE HTML PUBLIC "-//W3C//DTD HTML 3.2//E
	N">\n<HTML>\n<HEAD>\n<TITLE></TITLE>\n</HEAD>\n<BODY>\n<h3>Jerk Sauce vs. A
	AFC (Black)</h3>Plus d'info : <a href="https://www.golnetwork.com/game/v/23
	625/">#161</a>\n\n</BODY>\n</HTML>
STATUS:CONFIRMED
CLASS:PUBLIC
URL:https://www.golnetwork.com/game/v/23625/
X-MICROSOFT-CDO-BUSYSTATUS:BUSY
X-MICROSOFT-CDO-IMPORTANCE:1
END:VEVENT
BEGIN:VEVENT
UID:g2del@games.golnetwork.com
LOCATION:Rosedale Heights 1
GEO:45.10662;-94.578209
CREATED:20121114T151417Z
DTSTART:20121126T233000Z
DTEND:20121127T003000Z
DTSTAMP:20260421T052714Z
SUMMARY:XTSC Scarlet Knights vs. Jerk Sauce
DESCRIPTION:Jerk Sauce vs. XTSC Scarlet KnightsPlus d'info : #137
X-ALT-DESC;FMTTYPE=text/html:<!DOCTYPE HTML PUBLIC "-//W3C//DTD HTML 3.2//E
	N">\n<HTML>\n<HEAD>\n<TITLE></TITLE>\n</HEAD>\n<BODY>\n<h3>Jerk Sauce vs. X
	TSC Scarlet Knights</h3>Plus d'info : <a href="https://www.golnetwork.com/g
	ame/v/23622/">#137</a>\n\n</BODY>\n</HTML>
STATUS:CONFIRMED
CLASS:PUBLIC
URL:https://www.golnetwork.com/game/v/23622/
X-MICROSOFT-CDO-BUSYSTATUS:BUSY
X-MICROSOFT-CDO-IMPORTANCE:1
END:VEVENT
BEGIN:VEVENT
UID:g220o@games.golnetwork.com
LOCATION:Rosedale Heights 1
GEO:45.10662;-94.578209
CREATED:20120920T000446Z
DTSTART:20121120T003000Z
DTEND:20121120T013000Z
DTSTAMP:20260421T052714Z
SUMMARY:Jerk Sauce vs. XTSC Scarlet Knights
DESCRIPTION:XTSC Scarlet Knights vs. Jerk SaucePlus d'info : #119
X-ALT-DESC;FMTTYPE=text/html:<!DOCTYPE HTML PUBLIC "-//W3C//DTD HTML 3.2//E
	N">\n<HTML>\n<HEAD>\n<TITLE></TITLE>\n</HEAD>\n<BODY>\n<h3>XTSC Scarlet Kni
	ghts vs. Jerk Sauce</h3>Plus d'info : <a href="https://www.golnetwork.com/g
	ame/v/19425/">#119</a>\n\n</BODY>\n</HTML>
STATUS:CONFIRMED
CLASS:PUBLIC
URL:https://www.golnetwork.com/game/v/19425/
X-MICROSOFT-CDO-BUSYSTATUS:BUSY
X-MICROSOFT-CDO-IMPORTANCE:1
END:VEVENT
BEGIN:VEVENT
UID:g21mp@games.golnetwork.com
LOCATION:Rosedale Heights 1
GEO:45.10662;-94.578209
CREATED:20120919T195303Z
DTSTART:20121113T013000Z
DTEND:20121113T023000Z
DTSTAMP:20260421T052714Z
SUMMARY:Jerk Sauce vs. The Royals
DESCRIPTION:The Royals vs. Jerk SaucePlus d'info : #107
X-ALT-DESC;FMTTYPE=text/html:<!DOCTYPE HTML PUBLIC "-//W3C//DTD HTML 3.2//E
	N">\n<HTML>\n<HEAD>\n<TITLE></TITLE>\n</HEAD>\n<BODY>\n<h3>The Royals vs. J
	erk Sauce</h3>Plus d'info : <a href="https://www.golnetwork.com/game/v/1935
	8/">#107</a>\n\n</BODY>\n</HTML>
STATUS:CONFIRMED
CLASS:PUBLIC
URL:https://www.golnetwork.com/game/v/19358/
X-MICROSOFT-CDO-BUSYSTATUS:BUSY
X-MICROSOFT-CDO-IMPORTANCE:1
END:VEVENT
BEGIN:VEVENT
UID:g21mj@games.golnetwork.com
LOCATION:Rosedale Heights 1
GEO:45.10662;-94.578209
CREATED:20120919T195303Z
DTSTART:20121106T013000Z
DTEND:20121106T023000Z
DTSTAMP:20260421T052714Z
SUMMARY:Bay N Blood (Blue) vs. Jerk Sauce
DESCRIPTION:Jerk Sauce vs. Bay N Blood (Blue)Plus d'info : #90
X-ALT-DESC;FMTTYPE=text/html:<!DOCTYPE HTML PUBLIC "-//W3C//DTD HTML 3.2//E
	N">\n<HTML>\n<HEAD>\n<TITLE></TITLE>\n</HEAD>\n<BODY>\n<h3>Jerk Sauce vs. B
	ay N Blood (Blue)</h3>Plus d'info : <a href="https://www.golnetwork.com/gam
	e/v/19355/">#90</a>\n\n</BODY>\n</HTML>
STATUS:CONFIRMED
CLASS:PUBLIC
URL:https://www.golnetwork.com/game/v/19355/
X-MICROSOFT-CDO-BUSYSTATUS:BUSY
X-MICROSOFT-CDO-IMPORTANCE:1
END:VEVENT
BEGIN:VEVENT
UID:g21mb@games.golnetwork.com
LOCATION:Rosedale Heights 1
GEO:45.10662;-94.578209
CREATED:20120919T195303Z
DTSTART:20121029T233000Z
DTEND:20121030T003000Z
DTSTAMP:20260421T052714Z
SUMMARY:Hard Working Manpants vs. Jerk Sauce
DESCRIPTION:Jerk Sauce vs. Hard Working ManpantsPlus d'info : #71
X-ALT-DESC;FMTTYPE=text/html:<!DOCTYPE HTML PUBLIC "-//W3C//DTD HTML 3.2//E
	N">\n<HTML>\n<HEAD>\n<TITLE></TITLE>\n</HEAD>\n<BODY>\n<h3>Jerk Sauce vs. H
	ard Working Manpants</h3>Plus d'info : <a href="https://www.golnetwork.com/
	game/v/19351/">#71</a>\n\n</BODY>\n</HTML>
STATUS:CONFIRMED
CLASS:PUBLIC
URL:https://www.golnetwork.com/game/v/19351/
X-MICROSOFT-CDO-BUSYSTATUS:BUSY
X-MICROSOFT-CDO-IMPORTANCE:1
END:VEVENT
BEGIN:VEVENT
UID:g21m5@games.golnetwork.com
LOCATION:Rosedale Heights 1
GEO:45.10662;-94.578209
CREATED:20120919T195303Z
DTSTART:20121022T233000Z
DTEND:20121023T003000Z
DTSTAMP:20260421T052714Z
SUMMARY:Jerk Sauce vs. XTSC Scarlet Knights
DESCRIPTION:XTSC Scarlet Knights vs. Jerk SaucePlus d'info : #54
X-ALT-DESC;FMTTYPE=text/html:<!DOCTYPE HTML PUBLIC "-//W3C//DTD HTML 3.2//E
	N">\n<HTML>\n<HEAD>\n<TITLE></TITLE>\n</HEAD>\n<BODY>\n<h3>XTSC Scarlet Kni
	ghts vs. Jerk Sauce</h3>Plus d'info : <a href="https://www.golnetwork.com/g
	ame/v/19348/">#54</a>\n\n</BODY>\n</HTML>
STATUS:CONFIRMED
CLASS:PUBLIC
URL:https://www.golnetwork.com/game/v/19348/
X-MICROSOFT-CDO-BUSYSTATUS:BUSY
X-MICROSOFT-CDO-IMPORTANCE:1
END:VEVENT
BEGIN:VEVENT
UID:g21m1@games.golnetwork.com
LOCATION:Rosedale Heights 1
GEO:45.10662;-94.578209
CREATED:20120919T195303Z
DTSTART:20121016T003000Z
DTEND:20121016T013000Z
DTSTAMP:20260421T052714Z
SUMMARY:Jerk Sauce vs. AAFC (Black)
DESCRIPTION:AAFC (Black) vs. Jerk SaucePlus d'info : #42
X-ALT-DESC;FMTTYPE=text/html:<!DOCTYPE HTML PUBLIC "-//W3C//DTD HTML 3.2//E
	N">\n<HTML>\n<HEAD>\n<TITLE></TITLE>\n</HEAD>\n<BODY>\n<h3>AAFC (Black) vs.
	 Jerk Sauce</h3>Plus d'info : <a href="https://www.golnetwork.com/game/v/19
	346/">#42</a>\n\n</BODY>\n</HTML>
STATUS:CONFIRMED
CLASS:PUBLIC
URL:https://www.golnetwork.com/game/v/19346/
X-MICROSOFT-CDO-BUSYSTATUS:BUSY
X-MICROSOFT-CDO-IMPORTANCE:1
END:VEVENT
BEGIN:VEVENT
UID:g21le@games.golnetwork.com
LOCATION:Rosedale Heights 1
GEO:45.10662;-94.578209
CREATED:20120919T195303Z
DTSTART:20121001T233000Z
DTEND:20121002T003000Z
DTSTAMP:20260421T052714Z
SUMMARY:The Royals vs. Jerk Sauce
DESCRIPTION:Jerk Sauce vs. The RoyalsPlus d'info : #18
X-ALT-DESC;FMTTYPE=text/html:<!DOCTYPE HTML PUBLIC "-//W3C//DTD HTML 3.2//E
	N">\n<HTML>\n<HEAD>\n<TITLE></TITLE>\n</HEAD>\n<BODY>\n<h3>Jerk Sauce vs. T
	he Royals</h3>Plus d'info : <a href="https://www.golnetwork.com/game/v/1933
	9/">#18</a>\n\n</BODY>\n</HTML>
STATUS:CONFIRMED
CLASS:PUBLIC
URL:https://www.golnetwork.com/game/v/19339/
X-MICROSOFT-CDO-BUSYSTATUS:BUSY
X-MICROSOFT-CDO-IMPORTANCE:1
END:VEVENT
BEGIN:VEVENT
UID:g21l6@games.golnetwork.com
LOCATION:Rosedale Heights 1
GEO:45.10662;-94.578209
CREATED:20120919T195303Z
DTSTART:20120924T223000Z
DTEND:20120924T233000Z
DTSTAMP:20260421T052714Z
SUMMARY:Bay N Blood (Blue) vs. Jerk Sauce
DESCRIPTION:Jerk Sauce vs. Bay N Blood (Blue)Plus d'info : #2
X-ALT-DESC;FMTTYPE=text/html:<!DOCTYPE HTML PUBLIC "-//W3C//DTD HTML 3.2//E
	N">\n<HTML>\n<HEAD>\n<TITLE></TITLE>\n</HEAD>\n<BODY>\n<h3>Jerk Sauce vs. B
	ay N Blood (Blue)</h3>Plus d'info : <a href="https://www.golnetwork.com/gam
	e/v/19335/">#2</a>\n\n</BODY>\n</HTML>
STATUS:CONFIRMED
CLASS:PUBLIC
URL:https://www.golnetwork.com/game/v/19335/
X-MICROSOFT-CDO-BUSYSTATUS:BUSY
X-MICROSOFT-CDO-IMPORTANCE:1
END:VEVENT
END:VCALENDAR
