BEGIN:VCALENDAR
PRODID:-//gdesolutions.com//MV Framework 1.0.0.1607 Calendar//EN
VERSION:2.0
METHOD:PUBLISH
CALSCALE:GREGORIAN
BEGIN:VEVENT
UID:g7ghq@games.golnetwork.com
LOCATION:McCarthy Park Field #5
GEO:45.3517739;-75.6718247
CREATED:20150817T175239Z
DTSTART:20150820T224500Z
DTEND:20150821T001500Z
DTSTAMP:20260421T052440Z
SUMMARY:Where's Josh vs. Manchesthair United
DESCRIPTION:Manchesthair United vs. Where's JoshPlus d'info : #183
X-ALT-DESC;FMTTYPE=text/html:<!DOCTYPE HTML PUBLIC "-//W3C//DTD HTML 3.2//E
	N">\n<HTML>\n<HEAD>\n<TITLE></TITLE>\n</HEAD>\n<BODY>\n<h3>Manchesthair Uni
	ted vs. Where's Josh</h3>Plus d'info : <a href="https://www.golnetwork.com/
	game/v/73966/">#183</a>\n\n</BODY>\n</HTML>
STATUS:CONFIRMED
CLASS:PUBLIC
URL:https://www.golnetwork.com/game/v/73966/
X-MICROSOFT-CDO-BUSYSTATUS:BUSY
X-MICROSOFT-CDO-IMPORTANCE:1
END:VEVENT
BEGIN:VEVENT
UID:g7eh4@games.golnetwork.com
LOCATION:McCarthy Park Field #5
GEO:45.3517739;-75.6718247
CREATED:20150727T195543Z
DTSTART:20150730T224500Z
DTEND:20150731T001500Z
DTSTAMP:20260421T052440Z
SUMMARY:Where's Josh vs. Fluorescent Platypuses
DESCRIPTION:Fluorescent Platypuses vs. Where's JoshPlus d'info : #143
X-ALT-DESC;FMTTYPE=text/html:<!DOCTYPE HTML PUBLIC "-//W3C//DTD HTML 3.2//E
	N">\n<HTML>\n<HEAD>\n<TITLE></TITLE>\n</HEAD>\n<BODY>\n<h3>Fluorescent Plat
	ypuses vs. Where's Josh</h3>Plus d'info : <a href="https://www.golnetwork.c
	om/game/v/73226/">#143</a>\n\n</BODY>\n</HTML>
STATUS:CONFIRMED
CLASS:PUBLIC
URL:https://www.golnetwork.com/game/v/73226/
X-MICROSOFT-CDO-BUSYSTATUS:BUSY
X-MICROSOFT-CDO-IMPORTANCE:1
END:VEVENT
BEGIN:VEVENT
UID:g7dqi@games.golnetwork.com
LOCATION:Lester B Pearson Field #3
GEO:45.4433016;-75.5957775
CREATED:20150715T182252Z
DTSTART:20150723T224500Z
DTEND:20150724T001500Z
DTSTAMP:20260421T052440Z
SUMMARY:TMNT vs. Where's Josh
DESCRIPTION:Where's Josh vs. TMNTPlus d'info : #18
X-ALT-DESC;FMTTYPE=text/html:<!DOCTYPE HTML PUBLIC "-//W3C//DTD HTML 3.2//E
	N">\n<HTML>\n<HEAD>\n<TITLE></TITLE>\n</HEAD>\n<BODY>\n<h3>Where's Josh vs.
	 TMNT</h3>Plus d'info : <a href="https://www.golnetwork.com/game/v/72990/">
	#18</a>\n\n</BODY>\n</HTML>
STATUS:CONFIRMED
CLASS:PUBLIC
URL:https://www.golnetwork.com/game/v/72990/
X-MICROSOFT-CDO-BUSYSTATUS:BUSY
X-MICROSOFT-CDO-IMPORTANCE:1
END:VEVENT
BEGIN:VEVENT
UID:g7b24@games.golnetwork.com
LOCATION:McCarthy Park Field #5
GEO:45.3517739;-75.6718247
CREATED:20150708T153123Z
DTSTART:20150716T224500Z
DTEND:20150717T001500Z
DTSTAMP:20260421T052440Z
SUMMARY:Where's Josh vs. The Yellow Devils
DESCRIPTION:The Yellow Devils vs. Where's JoshPlus d'info : #5
X-ALT-DESC;FMTTYPE=text/html:<!DOCTYPE HTML PUBLIC "-//W3C//DTD HTML 3.2//E
	N">\n<HTML>\n<HEAD>\n<TITLE></TITLE>\n</HEAD>\n<BODY>\n<h3>The Yellow Devil
	s vs. Where's Josh</h3>Plus d'info : <a href="https://www.golnetwork.com/ga
	me/v/71930/">#5</a>\n\n</BODY>\n</HTML>
STATUS:CONFIRMED
CLASS:PUBLIC
URL:https://www.golnetwork.com/game/v/71930/
X-MICROSOFT-CDO-BUSYSTATUS:BUSY
X-MICROSOFT-CDO-IMPORTANCE:1
END:VEVENT
BEGIN:VEVENT
UID:g7b1j@games.golnetwork.com
LOCATION:Louis Riel #2
GEO:45.4410208;-75.5715394
CREATED:20150708T053754Z
DTSTART:20150709T223000Z
DTEND:20150710T000000Z
DTSTAMP:20260421T052440Z
SUMMARY:Where's Josh vs. Picante Pelotas
DESCRIPTION:Picante Pelotas vs. Where's JoshPlus d'info : #95
X-ALT-DESC;FMTTYPE=text/html:<!DOCTYPE HTML PUBLIC "-//W3C//DTD HTML 3.2//E
	N">\n<HTML>\n<HEAD>\n<TITLE></TITLE>\n</HEAD>\n<BODY>\n<h3>Picante Pelotas 
	vs. Where's Josh</h3>Plus d'info : <a href="https://www.golnetwork.com/game
	/v/71924/">#95</a>\n\n</BODY>\n</HTML>
STATUS:CONFIRMED
CLASS:PUBLIC
URL:https://www.golnetwork.com/game/v/71924/
X-MICROSOFT-CDO-BUSYSTATUS:BUSY
X-MICROSOFT-CDO-IMPORTANCE:1
END:VEVENT
BEGIN:VEVENT
UID:g78o1@games.golnetwork.com
LOCATION:Louis Riel #1
GEO:45.4410208;-75.5715394
CREATED:20150622T201106Z
DTSTART:20150702T223000Z
DTEND:20150703T000000Z
DTSTAMP:20260421T052440Z
SUMMARY:The Kickers vs. Where's Josh
DESCRIPTION:Where's Josh vs. The KickersPlus d'info : #29
X-ALT-DESC;FMTTYPE=text/html:<!DOCTYPE HTML PUBLIC "-//W3C//DTD HTML 3.2//E
	N">\n<HTML>\n<HEAD>\n<TITLE></TITLE>\n</HEAD>\n<BODY>\n<h3>Where's Josh vs.
	 The Kickers</h3>Plus d'info : <a href="https://www.golnetwork.com/game/v/7
	1132/">#29</a>\n\n</BODY>\n</HTML>
STATUS:CONFIRMED
CLASS:PUBLIC
URL:https://www.golnetwork.com/game/v/71132/
X-MICROSOFT-CDO-BUSYSTATUS:BUSY
X-MICROSOFT-CDO-IMPORTANCE:1
END:VEVENT
BEGIN:VEVENT
UID:g78m7@games.golnetwork.com
LOCATION:McCarthy Park Field #4
GEO:45.3518541;-75.6719009
CREATED:20150622T201104Z
DTSTART:20150625T224500Z
DTEND:20150626T001500Z
DTSTAMP:20260421T052440Z
SUMMARY:Fusion vs. Where's Josh
DESCRIPTION:Where's Josh vs. FusionPlus d'info : #4
X-ALT-DESC;FMTTYPE=text/html:<!DOCTYPE HTML PUBLIC "-//W3C//DTD HTML 3.2//E
	N">\n<HTML>\n<HEAD>\n<TITLE></TITLE>\n</HEAD>\n<BODY>\n<h3>Where's Josh vs.
	 Fusion</h3>Plus d'info : <a href="https://www.golnetwork.com/game/v/71108/
	">#4</a>\n\n</BODY>\n</HTML>
STATUS:CONFIRMED
CLASS:PUBLIC
URL:https://www.golnetwork.com/game/v/71108/
X-MICROSOFT-CDO-BUSYSTATUS:BUSY
X-MICROSOFT-CDO-IMPORTANCE:1
END:VEVENT
BEGIN:VEVENT
UID:g779j@games.golnetwork.com
LOCATION:McCarthy Park Field #4
GEO:45.3518541;-75.6719009
CREATED:20150530T191930Z
DTSTART:20150618T224500Z
DTEND:20150619T001500Z
DTSTAMP:20260421T052440Z
SUMMARY:Where's Josh vs. Mamonas Miserables
DESCRIPTION:Mamonas Miserables vs. Where's JoshPlus d'info : #20
X-ALT-DESC;FMTTYPE=text/html:<!DOCTYPE HTML PUBLIC "-//W3C//DTD HTML 3.2//E
	N">\n<HTML>\n<HEAD>\n<TITLE></TITLE>\n</HEAD>\n<BODY>\n<h3>Mamonas Miserabl
	es vs. Where's Josh</h3>Plus d'info : <a href="https://www.golnetwork.com/g
	ame/v/70574/">#20</a>\n\n</BODY>\n</HTML>
STATUS:CONFIRMED
CLASS:PUBLIC
URL:https://www.golnetwork.com/game/v/70574/
X-MICROSOFT-CDO-BUSYSTATUS:BUSY
X-MICROSOFT-CDO-IMPORTANCE:1
END:VEVENT
BEGIN:VEVENT
UID:g7791@games.golnetwork.com
LOCATION:Louis Riel #3
GEO:45.4410208;-75.5715394
CREATED:20150530T191929Z
DTSTART:20150611T223000Z
DTEND:20150612T000000Z
DTSTAMP:20260421T052440Z
SUMMARY:Where's Josh vs. Flamingos
DESCRIPTION:Flamingos vs. Where's JoshPlus d'info : #10
X-ALT-DESC;FMTTYPE=text/html:<!DOCTYPE HTML PUBLIC "-//W3C//DTD HTML 3.2//E
	N">\n<HTML>\n<HEAD>\n<TITLE></TITLE>\n</HEAD>\n<BODY>\n<h3>Flamingos vs. Wh
	ere's Josh</h3>Plus d'info : <a href="https://www.golnetwork.com/game/v/705
	65/">#10</a>\n\n</BODY>\n</HTML>
STATUS:CONFIRMED
CLASS:PUBLIC
URL:https://www.golnetwork.com/game/v/70565/
X-MICROSOFT-CDO-BUSYSTATUS:BUSY
X-MICROSOFT-CDO-IMPORTANCE:1
END:VEVENT
BEGIN:VEVENT
UID:g777p@games.golnetwork.com
LOCATION:Louis Riel #2
GEO:45.4410208;-75.5715394
CREATED:20150529T221255Z
DTSTART:20150605T000000Z
DTEND:20150605T013000Z
DTSTAMP:20260421T052440Z
SUMMARY:Where's Josh vs. 50 Shades of Pink
DESCRIPTION:50 Shades of Pink vs. Where's JoshPlus d'info : #10
X-ALT-DESC;FMTTYPE=text/html:<!DOCTYPE HTML PUBLIC "-//W3C//DTD HTML 3.2//E
	N">\n<HTML>\n<HEAD>\n<TITLE></TITLE>\n</HEAD>\n<BODY>\n<h3>50 Shades of Pin
	k vs. Where's Josh</h3>Plus d'info : <a href="https://www.golnetwork.com/ga
	me/v/70550/">#10</a>\n\n</BODY>\n</HTML>
STATUS:CONFIRMED
CLASS:PUBLIC
URL:https://www.golnetwork.com/game/v/70550/
X-MICROSOFT-CDO-BUSYSTATUS:BUSY
X-MICROSOFT-CDO-IMPORTANCE:1
END:VEVENT
BEGIN:VEVENT
UID:g75cc@games.golnetwork.com
LOCATION:McCarthy Park Field #4
GEO:45.3518541;-75.6719009
CREATED:20150523T091649Z
DTSTART:20150528T224500Z
DTEND:20150529T001500Z
DTSTAMP:20260421T052440Z
SUMMARY:Where's Josh vs. Real Ale Madrid
DESCRIPTION:Real Ale Madrid vs. Where's JoshPlus d'info : #4
X-ALT-DESC;FMTTYPE=text/html:<!DOCTYPE HTML PUBLIC "-//W3C//DTD HTML 3.2//E
	N">\n<HTML>\n<HEAD>\n<TITLE></TITLE>\n</HEAD>\n<BODY>\n<h3>Real Ale Madrid 
	vs. Where's Josh</h3>Plus d'info : <a href="https://www.golnetwork.com/game
	/v/69882/">#4</a>\n\n</BODY>\n</HTML>
STATUS:CONFIRMED
CLASS:PUBLIC
URL:https://www.golnetwork.com/game/v/69882/
X-MICROSOFT-CDO-BUSYSTATUS:BUSY
X-MICROSOFT-CDO-IMPORTANCE:1
END:VEVENT
END:VCALENDAR
