BEGIN:VCALENDAR
PRODID:-//gdesolutions.com//MV Framework 1.0.0.1607 Calendar//EN
VERSION:2.0
METHOD:PUBLISH
CALSCALE:GREGORIAN
BEGIN:VEVENT
UID:g68eq@games.golnetwork.com
LOCATION:Louis Riel #3
GEO:45.4410208;-75.5715394
CREATED:20141107T192546Z
DTSTART:20141121T020000Z
DTEND:20141121T025000Z
DTSTAMP:20260421T042559Z
SUMMARY:Ineedasub FC vs. Fluorescent Platypuses
DESCRIPTION:Fluorescent Platypuses vs. Ineedasub FCPlus d'info : #6
X-ALT-DESC;FMTTYPE=text/html:<!DOCTYPE HTML PUBLIC "-//W3C//DTD HTML 3.2//E
	N">\n<HTML>\n<HEAD>\n<TITLE></TITLE>\n</HEAD>\n<BODY>\n<h3>Fluorescent Plat
	ypuses vs. Ineedasub FC</h3>Plus d'info : <a href="https://www.golnetwork.c
	om/game/v/61168/">#6</a>\n\n</BODY>\n</HTML>
STATUS:CONFIRMED
CLASS:PUBLIC
URL:https://www.golnetwork.com/game/v/61168/
X-MICROSOFT-CDO-BUSYSTATUS:BUSY
X-MICROSOFT-CDO-IMPORTANCE:1
END:VEVENT
BEGIN:VEVENT
UID:g688c@games.golnetwork.com
LOCATION:Louis Riel #3
GEO:45.4410208;-75.5715394
CREATED:20141105T175246Z
DTSTART:20141114T030000Z
DTEND:20141114T035000Z
DTSTAMP:20260421T042559Z
SUMMARY:TGIT vs. Ineedasub FC
DESCRIPTION:Ineedasub FC vs. TGITPlus d'info : #9
X-ALT-DESC;FMTTYPE=text/html:<!DOCTYPE HTML PUBLIC "-//W3C//DTD HTML 3.2//E
	N">\n<HTML>\n<HEAD>\n<TITLE></TITLE>\n</HEAD>\n<BODY>\n<h3>Ineedasub FC vs.
	 TGIT</h3>Plus d'info : <a href="https://www.golnetwork.com/game/v/61080/">
	#9</a>\n\n</BODY>\n</HTML>
STATUS:CONFIRMED
CLASS:PUBLIC
URL:https://www.golnetwork.com/game/v/61080/
X-MICROSOFT-CDO-BUSYSTATUS:BUSY
X-MICROSOFT-CDO-IMPORTANCE:1
END:VEVENT
BEGIN:VEVENT
UID:g6848@games.golnetwork.com
LOCATION:Louis Riel #1
GEO:45.4410208;-75.5715394
CREATED:20141104T211115Z
DTSTART:20141107T020000Z
DTEND:20141107T025000Z
DTSTAMP:20260421T042559Z
SUMMARY:Strikers FC vs. Ineedasub FC
DESCRIPTION:Ineedasub FC vs. Strikers FCPlus d'info : #122
X-ALT-DESC;FMTTYPE=text/html:<!DOCTYPE HTML PUBLIC "-//W3C//DTD HTML 3.2//E
	N">\n<HTML>\n<HEAD>\n<TITLE></TITLE>\n</HEAD>\n<BODY>\n<h3>Ineedasub FC vs.
	 Strikers FC</h3>Plus d'info : <a href="https://www.golnetwork.com/game/v/6
	1024/">#122</a>\n\n</BODY>\n</HTML>
STATUS:CONFIRMED
CLASS:PUBLIC
URL:https://www.golnetwork.com/game/v/61024/
X-MICROSOFT-CDO-BUSYSTATUS:BUSY
X-MICROSOFT-CDO-IMPORTANCE:1
END:VEVENT
BEGIN:VEVENT
UID:g65qb@games.golnetwork.com
LOCATION:Hornet's Nest #3
GEO:45.4428309;-75.575268
CREATED:20141020T174821Z
DTSTART:20141024T023000Z
DTEND:20141024T032000Z
DTSTAMP:20260421T042559Z
SUMMARY:Ineedasub FC vs. Dynamo FC
DESCRIPTION:Dynamo FC vs. Ineedasub FCPlus d'info : #8
X-ALT-DESC;FMTTYPE=text/html:<!DOCTYPE HTML PUBLIC "-//W3C//DTD HTML 3.2//E
	N">\n<HTML>\n<HEAD>\n<TITLE></TITLE>\n</HEAD>\n<BODY>\n<h3>Dynamo FC vs. In
	eedasub FC</h3>Plus d'info : <a href="https://www.golnetwork.com/game/v/602
	29/">#8</a>\n\n</BODY>\n</HTML>
STATUS:CONFIRMED
CLASS:PUBLIC
URL:https://www.golnetwork.com/game/v/60229/
X-MICROSOFT-CDO-BUSYSTATUS:BUSY
X-MICROSOFT-CDO-IMPORTANCE:1
END:VEVENT
BEGIN:VEVENT
UID:g63pm@games.golnetwork.com
LOCATION:Hornet's Nest #2
GEO:45.4428309;-75.575268
CREATED:20141011T190550Z
DTSTART:20141017T003000Z
DTEND:20141017T012000Z
DTSTAMP:20260421T042559Z
SUMMARY:UpRise FC vs. Ineedasub FC
DESCRIPTION:Ineedasub FC vs. UpRise FCPlus d'info : #7
X-ALT-DESC;FMTTYPE=text/html:<!DOCTYPE HTML PUBLIC "-//W3C//DTD HTML 3.2//E
	N">\n<HTML>\n<HEAD>\n<TITLE></TITLE>\n</HEAD>\n<BODY>\n<h3>Ineedasub FC vs.
	 UpRise FC</h3>Plus d'info : <a href="https://www.golnetwork.com/game/v/594
	92/">#7</a>\n\n</BODY>\n</HTML>
STATUS:CONFIRMED
CLASS:PUBLIC
URL:https://www.golnetwork.com/game/v/59492/
X-MICROSOFT-CDO-BUSYSTATUS:BUSY
X-MICROSOFT-CDO-IMPORTANCE:1
END:VEVENT
BEGIN:VEVENT
UID:g63gb@games.golnetwork.com
LOCATION:Louis Riel #1
GEO:45.4410208;-75.5715394
CREATED:20141006T214312Z
DTSTART:20141010T000000Z
DTEND:20141010T005000Z
DTSTAMP:20260421T042559Z
SUMMARY:Strikers FC vs. Ineedasub FC
DESCRIPTION:Ineedasub FC vs. Strikers FCPlus d'info : #5
X-ALT-DESC;FMTTYPE=text/html:<!DOCTYPE HTML PUBLIC "-//W3C//DTD HTML 3.2//E
	N">\n<HTML>\n<HEAD>\n<TITLE></TITLE>\n</HEAD>\n<BODY>\n<h3>Ineedasub FC vs.
	 Strikers FC</h3>Plus d'info : <a href="https://www.golnetwork.com/game/v/5
	9365/">#5</a>\n\n</BODY>\n</HTML>
STATUS:CONFIRMED
CLASS:PUBLIC
URL:https://www.golnetwork.com/game/v/59365/
X-MICROSOFT-CDO-BUSYSTATUS:BUSY
X-MICROSOFT-CDO-IMPORTANCE:1
END:VEVENT
BEGIN:VEVENT
UID:g5q8n@games.golnetwork.com
LOCATION:Louis Riel #3
GEO:45.4410208;-75.5715394
CREATED:20140926T210254Z
DTSTART:20141003T000000Z
DTEND:20141003T005000Z
DTSTAMP:20260421T042559Z
SUMMARY:TGIT vs. Ineedasub FC
DESCRIPTION:Ineedasub FC vs. TGITPlus d'info : #6
X-ALT-DESC;FMTTYPE=text/html:<!DOCTYPE HTML PUBLIC "-//W3C//DTD HTML 3.2//E
	N">\n<HTML>\n<HEAD>\n<TITLE></TITLE>\n</HEAD>\n<BODY>\n<h3>Ineedasub FC vs.
	 TGIT</h3>Plus d'info : <a href="https://www.golnetwork.com/game/v/57805/">
	#6</a>\n\n</BODY>\n</HTML>
STATUS:CONFIRMED
CLASS:PUBLIC
URL:https://www.golnetwork.com/game/v/57805/
X-MICROSOFT-CDO-BUSYSTATUS:BUSY
X-MICROSOFT-CDO-IMPORTANCE:1
END:VEVENT
BEGIN:VEVENT
UID:g5p6m@games.golnetwork.com
LOCATION:Louis Riel #1
GEO:45.4410208;-75.5715394
CREATED:20140922T145513Z
DTSTART:20140925T230000Z
DTEND:20140925T235000Z
DTSTAMP:20260421T042559Z
SUMMARY:Manchesthair United vs. Ineedasub FC
DESCRIPTION:Ineedasub FC vs. Manchesthair UnitedPlus d'info : #16
X-ALT-DESC;FMTTYPE=text/html:<!DOCTYPE HTML PUBLIC "-//W3C//DTD HTML 3.2//E
	N">\n<HTML>\n<HEAD>\n<TITLE></TITLE>\n</HEAD>\n<BODY>\n<h3>Ineedasub FC vs.
	 Manchesthair United</h3>Plus d'info : <a href="https://www.golnetwork.com/
	game/v/57413/">#16</a>\n\n</BODY>\n</HTML>
STATUS:CONFIRMED
CLASS:PUBLIC
URL:https://www.golnetwork.com/game/v/57413/
X-MICROSOFT-CDO-BUSYSTATUS:BUSY
X-MICROSOFT-CDO-IMPORTANCE:1
END:VEVENT
BEGIN:VEVENT
UID:g5ndl@games.golnetwork.com
LOCATION:Branchaud Briere Field #3
GEO:45.4982732;-75.6421544
CREATED:20140915T070559Z
DTSTART:20140919T000000Z
DTEND:20140919T005000Z
DTSTAMP:20260421T042559Z
SUMMARY:Mean Machine vs. Ineedasub FC
DESCRIPTION:Ineedasub FC vs. Mean MachinePlus d'info : #8
X-ALT-DESC;FMTTYPE=text/html:<!DOCTYPE HTML PUBLIC "-//W3C//DTD HTML 3.2//E
	N">\n<HTML>\n<HEAD>\n<TITLE></TITLE>\n</HEAD>\n<BODY>\n<h3>Ineedasub FC vs.
	 Mean Machine</h3>Plus d'info : <a href="https://www.golnetwork.com/game/v/
	56778/">#8</a>\n\n</BODY>\n</HTML>
STATUS:CONFIRMED
CLASS:PUBLIC
URL:https://www.golnetwork.com/game/v/56778/
X-MICROSOFT-CDO-BUSYSTATUS:BUSY
X-MICROSOFT-CDO-IMPORTANCE:1
END:VEVENT
END:VCALENDAR
