BEGIN:VCALENDAR
PRODID:-//gdesolutions.com//MV Framework 1.0.0.1607 Calendar//EN
VERSION:2.0
METHOD:PUBLISH
CALSCALE:GREGORIAN
BEGIN:VEVENT
UID:g4k11@games.golnetwork.com
LOCATION:Lamport Stadium - Field 3
GEO:43.6390028;-79.4232104
CREATED:20140131T150304Z
DTSTART:20140412T010000Z
DTEND:20140412T020000Z
DTSTAMP:20260421T052352Z
SUMMARY:Shooters vs. Cornuttos FC
DESCRIPTION:Cornuttos FC vs. ShootersPlus d'info : #366
X-ALT-DESC;FMTTYPE=text/html:<!DOCTYPE HTML PUBLIC "-//W3C//DTD HTML 3.2//E
	N">\n<HTML>\n<HEAD>\n<TITLE></TITLE>\n</HEAD>\n<BODY>\n<h3>Cornuttos FC vs.
	 Shooters</h3>Plus d'info : <a href="https://www.golnetwork.com/game/v/4567
	1/">#366</a>\n\n</BODY>\n</HTML>
STATUS:CONFIRMED
CLASS:PUBLIC
URL:https://www.golnetwork.com/game/v/45671/
X-MICROSOFT-CDO-BUSYSTATUS:BUSY
X-MICROSOFT-CDO-IMPORTANCE:1
END:VEVENT
BEGIN:VEVENT
UID:g4k0o@games.golnetwork.com
LOCATION:Lamport Stadium - Field 3
GEO:43.6390028;-79.4232104
CREATED:20140131T150304Z
DTSTART:20140405T030000Z
DTEND:20140405T040000Z
DTSTAMP:20260421T052352Z
SUMMARY:Cornuttos FC vs. SAS
DESCRIPTION:SAS vs. Cornuttos FCPlus d'info : #342
X-ALT-DESC;FMTTYPE=text/html:<!DOCTYPE HTML PUBLIC "-//W3C//DTD HTML 3.2//E
	N">\n<HTML>\n<HEAD>\n<TITLE></TITLE>\n</HEAD>\n<BODY>\n<h3>SAS vs. Cornutto
	s FC</h3>Plus d'info : <a href="https://www.golnetwork.com/game/v/45669/">#
	342</a>\n\n</BODY>\n</HTML>
STATUS:CONFIRMED
CLASS:PUBLIC
URL:https://www.golnetwork.com/game/v/45669/
X-MICROSOFT-CDO-BUSYSTATUS:BUSY
X-MICROSOFT-CDO-IMPORTANCE:1
END:VEVENT
BEGIN:VEVENT
UID:g4k0g@games.golnetwork.com
LOCATION:Lamport Stadium - Field 3
GEO:43.6390028;-79.4232104
CREATED:20140131T150304Z
DTSTART:20140329T030000Z
DTEND:20140329T040000Z
DTSTAMP:20260421T052352Z
SUMMARY:SAS vs. Cornuttos FC
DESCRIPTION:Cornuttos FC vs. SASPlus d'info : #312
X-ALT-DESC;FMTTYPE=text/html:<!DOCTYPE HTML PUBLIC "-//W3C//DTD HTML 3.2//E
	N">\n<HTML>\n<HEAD>\n<TITLE></TITLE>\n</HEAD>\n<BODY>\n<h3>Cornuttos FC vs.
	 SAS</h3>Plus d'info : <a href="https://www.golnetwork.com/game/v/45665/">#
	312</a>\n\n</BODY>\n</HTML>
STATUS:CONFIRMED
CLASS:PUBLIC
URL:https://www.golnetwork.com/game/v/45665/
X-MICROSOFT-CDO-BUSYSTATUS:BUSY
X-MICROSOFT-CDO-IMPORTANCE:1
END:VEVENT
BEGIN:VEVENT
UID:g4k06@games.golnetwork.com
LOCATION:Lamport Stadium - Field 3
GEO:43.6390028;-79.4232104
CREATED:20140131T150304Z
DTSTART:20140322T020000Z
DTEND:20140322T030000Z
DTSTAMP:20260421T052352Z
SUMMARY:Rent-A-Party vs. Cornuttos FC
DESCRIPTION:Cornuttos FC vs. Rent-A-PartyPlus d'info : #279
X-ALT-DESC;FMTTYPE=text/html:<!DOCTYPE HTML PUBLIC "-//W3C//DTD HTML 3.2//E
	N">\n<HTML>\n<HEAD>\n<TITLE></TITLE>\n</HEAD>\n<BODY>\n<h3>Cornuttos FC vs.
	 Rent-A-Party</h3>Plus d'info : <a href="https://www.golnetwork.com/game/v/
	45660/">#279</a>\n\n</BODY>\n</HTML>
STATUS:CONFIRMED
CLASS:PUBLIC
URL:https://www.golnetwork.com/game/v/45660/
X-MICROSOFT-CDO-BUSYSTATUS:BUSY
X-MICROSOFT-CDO-IMPORTANCE:1
END:VEVENT
BEGIN:VEVENT
UID:g4jqp@games.golnetwork.com
LOCATION:Lamport Stadium - Field 3
GEO:43.6390028;-79.4232104
CREATED:20140131T150304Z
DTSTART:20140315T020000Z
DTEND:20140315T030000Z
DTSTAMP:20260421T052352Z
SUMMARY:Team FC vs. Cornuttos FC
DESCRIPTION:Cornuttos FC vs. Team FCPlus d'info : #249
X-ALT-DESC;FMTTYPE=text/html:<!DOCTYPE HTML PUBLIC "-//W3C//DTD HTML 3.2//E
	N">\n<HTML>\n<HEAD>\n<TITLE></TITLE>\n</HEAD>\n<BODY>\n<h3>Cornuttos FC vs.
	 Team FC</h3>Plus d'info : <a href="https://www.golnetwork.com/game/v/45656
	/">#249</a>\n\n</BODY>\n</HTML>
STATUS:CONFIRMED
CLASS:PUBLIC
URL:https://www.golnetwork.com/game/v/45656/
X-MICROSOFT-CDO-BUSYSTATUS:BUSY
X-MICROSOFT-CDO-IMPORTANCE:1
END:VEVENT
BEGIN:VEVENT
UID:g4jqj@games.golnetwork.com
LOCATION:Lamport Stadium - Field 3
GEO:43.6390028;-79.4232104
CREATED:20140131T150304Z
DTSTART:20140308T040000Z
DTEND:20140308T050000Z
DTSTAMP:20260421T052352Z
SUMMARY:SAS vs. Cornuttos FC
DESCRIPTION:Cornuttos FC vs. SASPlus d'info : #222
X-ALT-DESC;FMTTYPE=text/html:<!DOCTYPE HTML PUBLIC "-//W3C//DTD HTML 3.2//E
	N">\n<HTML>\n<HEAD>\n<TITLE></TITLE>\n</HEAD>\n<BODY>\n<h3>Cornuttos FC vs.
	 SAS</h3>Plus d'info : <a href="https://www.golnetwork.com/game/v/45653/">#
	222</a>\n\n</BODY>\n</HTML>
STATUS:CONFIRMED
CLASS:PUBLIC
URL:https://www.golnetwork.com/game/v/45653/
X-MICROSOFT-CDO-BUSYSTATUS:BUSY
X-MICROSOFT-CDO-IMPORTANCE:1
END:VEVENT
BEGIN:VEVENT
UID:g4jq9@games.golnetwork.com
LOCATION:Lamport Stadium - Field 3
GEO:43.6390028;-79.4232104
CREATED:20140131T150304Z
DTSTART:20140301T030000Z
DTEND:20140301T040000Z
DTSTAMP:20260421T052352Z
SUMMARY:Tree FC vs. Cornuttos FC
DESCRIPTION:Cornuttos FC vs. Tree FCPlus d'info : #189
X-ALT-DESC;FMTTYPE=text/html:<!DOCTYPE HTML PUBLIC "-//W3C//DTD HTML 3.2//E
	N">\n<HTML>\n<HEAD>\n<TITLE></TITLE>\n</HEAD>\n<BODY>\n<h3>Cornuttos FC vs.
	 Tree FC</h3>Plus d'info : <a href="https://www.golnetwork.com/game/v/45648
	/">#189</a>\n\n</BODY>\n</HTML>
STATUS:CONFIRMED
CLASS:PUBLIC
URL:https://www.golnetwork.com/game/v/45648/
X-MICROSOFT-CDO-BUSYSTATUS:BUSY
X-MICROSOFT-CDO-IMPORTANCE:1
END:VEVENT
BEGIN:VEVENT
UID:g4jpo@games.golnetwork.com
LOCATION:Lamport Stadium - Field 3
GEO:43.6390028;-79.4232104
CREATED:20140131T150304Z
DTSTART:20140222T010000Z
DTEND:20140222T020000Z
DTSTAMP:20260421T052352Z
SUMMARY:Nice pASS vs. Cornuttos FC
DESCRIPTION:Cornuttos FC vs. Nice pASSPlus d'info : #144
X-ALT-DESC;FMTTYPE=text/html:<!DOCTYPE HTML PUBLIC "-//W3C//DTD HTML 3.2//E
	N">\n<HTML>\n<HEAD>\n<TITLE></TITLE>\n</HEAD>\n<BODY>\n<h3>Cornuttos FC vs.
	 Nice pASS</h3>Plus d'info : <a href="https://www.golnetwork.com/game/v/456
	42/">#144</a>\n\n</BODY>\n</HTML>
STATUS:CONFIRMED
CLASS:PUBLIC
URL:https://www.golnetwork.com/game/v/45642/
X-MICROSOFT-CDO-BUSYSTATUS:BUSY
X-MICROSOFT-CDO-IMPORTANCE:1
END:VEVENT
BEGIN:VEVENT
UID:g4jpm@games.golnetwork.com
LOCATION:Lamport Stadium - Field 3
GEO:43.6390028;-79.4232104
CREATED:20140131T150304Z
DTSTART:20140208T040000Z
DTEND:20140208T050000Z
DTSTAMP:20260421T052352Z
SUMMARY:Cornuttos FC vs. Shooters
DESCRIPTION:Shooters vs. Cornuttos FCPlus d'info : #94
X-ALT-DESC;FMTTYPE=text/html:<!DOCTYPE HTML PUBLIC "-//W3C//DTD HTML 3.2//E
	N">\n<HTML>\n<HEAD>\n<TITLE></TITLE>\n</HEAD>\n<BODY>\n<h3>Shooters vs. Cor
	nuttos FC</h3>Plus d'info : <a href="https://www.golnetwork.com/game/v/4564
	1/">#94</a>\n\n</BODY>\n</HTML>
STATUS:CONFIRMED
CLASS:PUBLIC
URL:https://www.golnetwork.com/game/v/45641/
X-MICROSOFT-CDO-BUSYSTATUS:BUSY
X-MICROSOFT-CDO-IMPORTANCE:1
END:VEVENT
BEGIN:VEVENT
UID:g4jpc@games.golnetwork.com
LOCATION:Lamport Stadium - Field 3
GEO:43.6390028;-79.4232104
CREATED:20140131T150304Z
DTSTART:20140201T030000Z
DTEND:20140201T040000Z
DTSTAMP:20260421T052352Z
SUMMARY:Cornuttos FC vs. XTSC Penalty Box Heroes
DESCRIPTION:XTSC Penalty Box Heroes vs. Cornuttos FCPlus d'info : #50
X-ALT-DESC;FMTTYPE=text/html:<!DOCTYPE HTML PUBLIC "-//W3C//DTD HTML 3.2//E
	N">\n<HTML>\n<HEAD>\n<TITLE></TITLE>\n</HEAD>\n<BODY>\n<h3>XTSC Penalty Box
	 Heroes vs. Cornuttos FC</h3>Plus d'info : <a href="https://www.golnetwork.
	com/game/v/45636/">#50</a>\n\n</BODY>\n</HTML>
STATUS:CONFIRMED
CLASS:PUBLIC
URL:https://www.golnetwork.com/game/v/45636/
X-MICROSOFT-CDO-BUSYSTATUS:BUSY
X-MICROSOFT-CDO-IMPORTANCE:1
END:VEVENT
END:VCALENDAR
