BEGIN:VCALENDAR
PRODID:-//gdesolutions.com//MV Framework 1.0.0.1607 Calendar//EN
VERSION:2.0
METHOD:PUBLISH
CALSCALE:GREGORIAN
BEGIN:VEVENT
UID:g5gfo@games.golnetwork.com
LOCATION:Cherry Beach West 2
CREATED:20140714T212609Z
DTSTART:20140912T030000Z
DTEND:20140912T040000Z
DTSTAMP:20260420T004530Z
SUMMARY:The Cheatin Refs vs. Hangover FC
DESCRIPTION:Hangover FC vs. The Cheatin RefsPlus d'info : #471
X-ALT-DESC;FMTTYPE=text/html:<!DOCTYPE HTML PUBLIC "-//W3C//DTD HTML 3.2//E
	N">\n<HTML>\n<HEAD>\n<TITLE></TITLE>\n</HEAD>\n<BODY>\n<h3>Hangover FC vs. 
	The Cheatin Refs</h3>Plus d'info : <a href="https://www.golnetwork.com/game
	/v/54255/">#471</a>\n\n</BODY>\n</HTML>
STATUS:CONFIRMED
CLASS:PUBLIC
URL:https://www.golnetwork.com/game/v/54255/
X-MICROSOFT-CDO-BUSYSTATUS:BUSY
X-MICROSOFT-CDO-IMPORTANCE:1
END:VEVENT
BEGIN:VEVENT
UID:g5gfi@games.golnetwork.com
LOCATION:Cherry Beach East 2
CREATED:20140714T212609Z
DTSTART:20140905T030000Z
DTEND:20140905T040000Z
DTSTAMP:20260420T004530Z
SUMMARY:The Cheatin Refs vs. Power Puffs
DESCRIPTION:Power Puffs vs. The Cheatin RefsPlus d'info : #430
X-ALT-DESC;FMTTYPE=text/html:<!DOCTYPE HTML PUBLIC "-//W3C//DTD HTML 3.2//E
	N">\n<HTML>\n<HEAD>\n<TITLE></TITLE>\n</HEAD>\n<BODY>\n<h3>Power Puffs vs. 
	The Cheatin Refs</h3>Plus d'info : <a href="https://www.golnetwork.com/game
	/v/54252/">#430</a>\n\n</BODY>\n</HTML>
STATUS:CONFIRMED
CLASS:PUBLIC
URL:https://www.golnetwork.com/game/v/54252/
X-MICROSOFT-CDO-BUSYSTATUS:BUSY
X-MICROSOFT-CDO-IMPORTANCE:1
END:VEVENT
BEGIN:VEVENT
UID:g5gfc@games.golnetwork.com
LOCATION:Cherry Beach East 2
CREATED:20140714T212609Z
DTSTART:20140829T030000Z
DTEND:20140829T040000Z
DTSTAMP:20260420T004530Z
SUMMARY:The To Be Determineds vs. The Cheatin Refs
DESCRIPTION:The Cheatin Refs vs. The To Be DeterminedsPlus d'info : #405
X-ALT-DESC;FMTTYPE=text/html:<!DOCTYPE HTML PUBLIC "-//W3C//DTD HTML 3.2//E
	N">\n<HTML>\n<HEAD>\n<TITLE></TITLE>\n</HEAD>\n<BODY>\n<h3>The Cheatin Refs
	 vs. The To Be Determineds</h3>Plus d'info : <a href="https://www.golnetwor
	k.com/game/v/54249/">#405</a>\n\n</BODY>\n</HTML>
STATUS:CONFIRMED
CLASS:PUBLIC
URL:https://www.golnetwork.com/game/v/54249/
X-MICROSOFT-CDO-BUSYSTATUS:BUSY
X-MICROSOFT-CDO-IMPORTANCE:1
END:VEVENT
BEGIN:VEVENT
UID:g5gf6@games.golnetwork.com
LOCATION:Cherry Beach East 2
CREATED:20140714T212609Z
DTSTART:20140822T030000Z
DTEND:20140822T040000Z
DTSTAMP:20260420T004530Z
SUMMARY:Power Puffs vs. The Cheatin Refs
DESCRIPTION:The Cheatin Refs vs. Power PuffsPlus d'info : #346
X-ALT-DESC;FMTTYPE=text/html:<!DOCTYPE HTML PUBLIC "-//W3C//DTD HTML 3.2//E
	N">\n<HTML>\n<HEAD>\n<TITLE></TITLE>\n</HEAD>\n<BODY>\n<h3>The Cheatin Refs
	 vs. Power Puffs</h3>Plus d'info : <a href="https://www.golnetwork.com/game
	/v/54246/">#346</a>\n\n</BODY>\n</HTML>
STATUS:CONFIRMED
CLASS:PUBLIC
URL:https://www.golnetwork.com/game/v/54246/
X-MICROSOFT-CDO-BUSYSTATUS:BUSY
X-MICROSOFT-CDO-IMPORTANCE:1
END:VEVENT
BEGIN:VEVENT
UID:g5gf0@games.golnetwork.com
LOCATION:Cherry Beach East 2
CREATED:20140714T212609Z
DTSTART:20140815T030000Z
DTEND:20140815T040000Z
DTSTAMP:20260420T004530Z
SUMMARY:The Hot Shots vs. The Cheatin Refs
DESCRIPTION:The Cheatin Refs vs. The Hot ShotsPlus d'info : #281
X-ALT-DESC;FMTTYPE=text/html:<!DOCTYPE HTML PUBLIC "-//W3C//DTD HTML 3.2//E
	N">\n<HTML>\n<HEAD>\n<TITLE></TITLE>\n</HEAD>\n<BODY>\n<h3>The Cheatin Refs
	 vs. The Hot Shots</h3>Plus d'info : <a href="https://www.golnetwork.com/ga
	me/v/54243/">#281</a>\n\n</BODY>\n</HTML>
STATUS:CONFIRMED
CLASS:PUBLIC
URL:https://www.golnetwork.com/game/v/54243/
X-MICROSOFT-CDO-BUSYSTATUS:BUSY
X-MICROSOFT-CDO-IMPORTANCE:1
END:VEVENT
BEGIN:VEVENT
UID:g5gel@games.golnetwork.com
LOCATION:Cherry Beach East 2
CREATED:20140714T212609Z
DTSTART:20140808T030000Z
DTEND:20140808T040000Z
DTSTAMP:20260420T004530Z
SUMMARY:Power Puffs vs. The Cheatin Refs
DESCRIPTION:The Cheatin Refs vs. Power PuffsPlus d'info : #226
X-ALT-DESC;FMTTYPE=text/html:<!DOCTYPE HTML PUBLIC "-//W3C//DTD HTML 3.2//E
	N">\n<HTML>\n<HEAD>\n<TITLE></TITLE>\n</HEAD>\n<BODY>\n<h3>The Cheatin Refs
	 vs. Power Puffs</h3>Plus d'info : <a href="https://www.golnetwork.com/game
	/v/54240/">#226</a>\n\n</BODY>\n</HTML>
STATUS:CONFIRMED
CLASS:PUBLIC
URL:https://www.golnetwork.com/game/v/54240/
X-MICROSOFT-CDO-BUSYSTATUS:BUSY
X-MICROSOFT-CDO-IMPORTANCE:1
END:VEVENT
BEGIN:VEVENT
UID:g5gef@games.golnetwork.com
LOCATION:Cherry Beach East 2
CREATED:20140714T212609Z
DTSTART:20140801T030000Z
DTEND:20140801T040000Z
DTSTAMP:20260420T004530Z
SUMMARY:The Cheatin Refs vs. Sweet Muffins
DESCRIPTION:Sweet Muffins vs. The Cheatin RefsPlus d'info : #185
X-ALT-DESC;FMTTYPE=text/html:<!DOCTYPE HTML PUBLIC "-//W3C//DTD HTML 3.2//E
	N">\n<HTML>\n<HEAD>\n<TITLE></TITLE>\n</HEAD>\n<BODY>\n<h3>Sweet Muffins vs
	. The Cheatin Refs</h3>Plus d'info : <a href="https://www.golnetwork.com/ga
	me/v/54237/">#185</a>\n\n</BODY>\n</HTML>
STATUS:CONFIRMED
CLASS:PUBLIC
URL:https://www.golnetwork.com/game/v/54237/
X-MICROSOFT-CDO-BUSYSTATUS:BUSY
X-MICROSOFT-CDO-IMPORTANCE:1
END:VEVENT
BEGIN:VEVENT
UID:g5ge9@games.golnetwork.com
LOCATION:Cherry Beach East 2
CREATED:20140714T212609Z
DTSTART:20140725T030000Z
DTEND:20140725T040000Z
DTSTAMP:20260420T004530Z
SUMMARY:The Cheatin Refs vs. Hangover FC
DESCRIPTION:Hangover FC vs. The Cheatin RefsPlus d'info : #149
X-ALT-DESC;FMTTYPE=text/html:<!DOCTYPE HTML PUBLIC "-//W3C//DTD HTML 3.2//E
	N">\n<HTML>\n<HEAD>\n<TITLE></TITLE>\n</HEAD>\n<BODY>\n<h3>Hangover FC vs. 
	The Cheatin Refs</h3>Plus d'info : <a href="https://www.golnetwork.com/game
	/v/54234/">#149</a>\n\n</BODY>\n</HTML>
STATUS:CONFIRMED
CLASS:PUBLIC
URL:https://www.golnetwork.com/game/v/54234/
X-MICROSOFT-CDO-BUSYSTATUS:BUSY
X-MICROSOFT-CDO-IMPORTANCE:1
END:VEVENT
BEGIN:VEVENT
UID:g5ge3@games.golnetwork.com
LOCATION:Cherry Beach East 2
CREATED:20140714T212609Z
DTSTART:20140718T030000Z
DTEND:20140718T040000Z
DTSTAMP:20260420T004530Z
SUMMARY:The Cheatin Refs vs. The To Be Determineds
DESCRIPTION:The To Be Determineds vs. The Cheatin RefsPlus d'info : #92
X-ALT-DESC;FMTTYPE=text/html:<!DOCTYPE HTML PUBLIC "-//W3C//DTD HTML 3.2//E
	N">\n<HTML>\n<HEAD>\n<TITLE></TITLE>\n</HEAD>\n<BODY>\n<h3>The To Be Determ
	ineds vs. The Cheatin Refs</h3>Plus d'info : <a href="https://www.golnetwor
	k.com/game/v/54231/">#92</a>\n\n</BODY>\n</HTML>
STATUS:CONFIRMED
CLASS:PUBLIC
URL:https://www.golnetwork.com/game/v/54231/
X-MICROSOFT-CDO-BUSYSTATUS:BUSY
X-MICROSOFT-CDO-IMPORTANCE:1
END:VEVENT
END:VCALENDAR
