BEGIN:VCALENDAR
PRODID:-//gdesolutions.com//MV Framework 1.0.0.1607 Calendar//EN
VERSION:2.0
METHOD:PUBLISH
CALSCALE:GREGORIAN
BEGIN:VEVENT
UID:g2khf@games.golnetwork.com
LOCATION:Central Technical School
GEO:43.6637272;-79.4087613
CREATED:20130228T193502Z
DTSTART:20130415T220500Z
DTEND:20130415T230000Z
DTSTAMP:20260421T052457Z
SUMMARY:Blue Steel Ballers vs. XTSC Timbits
DESCRIPTION:XTSC Timbits vs. Blue Steel BallersPlus d'info : #423
X-ALT-DESC;FMTTYPE=text/html:<!DOCTYPE HTML PUBLIC "-//W3C//DTD HTML 3.2//E
	N">\n<HTML>\n<HEAD>\n<TITLE></TITLE>\n</HEAD>\n<BODY>\n<h3>XTSC Timbits vs.
	 Blue Steel Ballers</h3>Plus d'info : <a href="https://www.golnetwork.com/g
	ame/v/26211/">#423</a>\n\n</BODY>\n</HTML>
STATUS:CONFIRMED
CLASS:PUBLIC
URL:https://www.golnetwork.com/game/v/26211/
X-MICROSOFT-CDO-BUSYSTATUS:BUSY
X-MICROSOFT-CDO-IMPORTANCE:1
END:VEVENT
BEGIN:VEVENT
UID:g2kh7@games.golnetwork.com
LOCATION:Central Technical School
GEO:43.6637272;-79.4087613
CREATED:20130228T193502Z
DTSTART:20130408T220500Z
DTEND:20130408T230000Z
DTSTAMP:20260421T052457Z
SUMMARY:XTSC Timbits vs. Let's Just Have Some Fun (White)
DESCRIPTION:Let's Just Have Some Fun (White) vs. XTSC TimbitsPlus d'info : 
	#406
X-ALT-DESC;FMTTYPE=text/html:<!DOCTYPE HTML PUBLIC "-//W3C//DTD HTML 3.2//E
	N">\n<HTML>\n<HEAD>\n<TITLE></TITLE>\n</HEAD>\n<BODY>\n<h3>Let's Just Have 
	Some Fun (White) vs. XTSC Timbits</h3>Plus d'info : <a href="https://www.go
	lnetwork.com/game/v/26207/">#406</a>\n\n</BODY>\n</HTML>
STATUS:CONFIRMED
CLASS:PUBLIC
URL:https://www.golnetwork.com/game/v/26207/
X-MICROSOFT-CDO-BUSYSTATUS:BUSY
X-MICROSOFT-CDO-IMPORTANCE:1
END:VEVENT
BEGIN:VEVENT
UID:g2fqp@games.golnetwork.com
LOCATION:Central Technical School
GEO:43.6637272;-79.4087613
CREATED:20130110T154509Z
DTSTART:20130325T230000Z
DTEND:20130325T235500Z
DTSTAMP:20260421T052457Z
SUMMARY:XTSC Timbits vs. Cheap Feelers FC
DESCRIPTION:Cheap Feelers FC vs. XTSC TimbitsPlus d'info : #374
X-ALT-DESC;FMTTYPE=text/html:<!DOCTYPE HTML PUBLIC "-//W3C//DTD HTML 3.2//E
	N">\n<HTML>\n<HEAD>\n<TITLE></TITLE>\n</HEAD>\n<BODY>\n<h3>Cheap Feelers FC
	 vs. XTSC Timbits</h3>Plus d'info : <a href="https://www.golnetwork.com/gam
	e/v/24515/">#374</a>\n\n</BODY>\n</HTML>
STATUS:CONFIRMED
CLASS:PUBLIC
URL:https://www.golnetwork.com/game/v/24515/
X-MICROSOFT-CDO-BUSYSTATUS:BUSY
X-MICROSOFT-CDO-IMPORTANCE:1
END:VEVENT
BEGIN:VEVENT
UID:g2fqh@games.golnetwork.com
LOCATION:Central Technical School
GEO:43.6637272;-79.4087613
CREATED:20130110T154509Z
DTSTART:20130318T230000Z
DTEND:20130318T235500Z
DTSTAMP:20260421T052457Z
SUMMARY:XTSC Timbits vs. Gravy Train
DESCRIPTION:Gravy Train vs. XTSC TimbitsPlus d'info : #349
X-ALT-DESC;FMTTYPE=text/html:<!DOCTYPE HTML PUBLIC "-//W3C//DTD HTML 3.2//E
	N">\n<HTML>\n<HEAD>\n<TITLE></TITLE>\n</HEAD>\n<BODY>\n<h3>Gravy Train vs. 
	XTSC Timbits</h3>Plus d'info : <a href="https://www.golnetwork.com/game/v/2
	4511/">#349</a>\n\n</BODY>\n</HTML>
STATUS:CONFIRMED
CLASS:PUBLIC
URL:https://www.golnetwork.com/game/v/24511/
X-MICROSOFT-CDO-BUSYSTATUS:BUSY
X-MICROSOFT-CDO-IMPORTANCE:1
END:VEVENT
BEGIN:VEVENT
UID:g2fqb@games.golnetwork.com
LOCATION:Central Technical School
GEO:43.6637272;-79.4087613
CREATED:20130110T154327Z
DTSTART:20130305T005500Z
DTEND:20130305T015000Z
DTSTAMP:20260421T052457Z
SUMMARY:XTSC Timbits vs. Chimmichurris
DESCRIPTION:Chimmichurris vs. XTSC TimbitsPlus d'info : #322
X-ALT-DESC;FMTTYPE=text/html:<!DOCTYPE HTML PUBLIC "-//W3C//DTD HTML 3.2//E
	N">\n<HTML>\n<HEAD>\n<TITLE></TITLE>\n</HEAD>\n<BODY>\n<h3>Chimmichurris vs
	. XTSC Timbits</h3>Plus d'info : <a href="https://www.golnetwork.com/game/v
	/24508/">#322</a>\n\n</BODY>\n</HTML>
STATUS:CONFIRMED
CLASS:PUBLIC
URL:https://www.golnetwork.com/game/v/24508/
X-MICROSOFT-CDO-BUSYSTATUS:BUSY
X-MICROSOFT-CDO-IMPORTANCE:1
END:VEVENT
BEGIN:VEVENT
UID:g2fq5@games.golnetwork.com
LOCATION:Central Technical School
GEO:43.6637272;-79.4087613
CREATED:20130110T154327Z
DTSTART:20130226T015000Z
DTEND:20130226T024500Z
DTSTAMP:20260421T052457Z
SUMMARY:XTSC Timbits vs. Chimmichurris
DESCRIPTION:Chimmichurris vs. XTSC TimbitsPlus d'info : #299
X-ALT-DESC;FMTTYPE=text/html:<!DOCTYPE HTML PUBLIC "-//W3C//DTD HTML 3.2//E
	N">\n<HTML>\n<HEAD>\n<TITLE></TITLE>\n</HEAD>\n<BODY>\n<h3>Chimmichurris vs
	. XTSC Timbits</h3>Plus d'info : <a href="https://www.golnetwork.com/game/v
	/24505/">#299</a>\n\n</BODY>\n</HTML>
STATUS:CONFIRMED
CLASS:PUBLIC
URL:https://www.golnetwork.com/game/v/24505/
X-MICROSOFT-CDO-BUSYSTATUS:BUSY
X-MICROSOFT-CDO-IMPORTANCE:1
END:VEVENT
BEGIN:VEVENT
UID:g2fpi@games.golnetwork.com
LOCATION:Central Technical School
GEO:43.6637272;-79.4087613
CREATED:20130110T154327Z
DTSTART:20130211T230500Z
DTEND:20130212T000000Z
DTSTAMP:20260421T052457Z
SUMMARY:Team United (Pink) vs. XTSC Timbits
DESCRIPTION:XTSC Timbits vs. Team United (Pink)Plus d'info : #256
X-ALT-DESC;FMTTYPE=text/html:<!DOCTYPE HTML PUBLIC "-//W3C//DTD HTML 3.2//E
	N">\n<HTML>\n<HEAD>\n<TITLE></TITLE>\n</HEAD>\n<BODY>\n<h3>XTSC Timbits vs.
	 Team United (Pink)</h3>Plus d'info : <a href="https://www.golnetwork.com/g
	ame/v/24498/">#256</a>\n\n</BODY>\n</HTML>
STATUS:CONFIRMED
CLASS:PUBLIC
URL:https://www.golnetwork.com/game/v/24498/
X-MICROSOFT-CDO-BUSYSTATUS:BUSY
X-MICROSOFT-CDO-IMPORTANCE:1
END:VEVENT
BEGIN:VEVENT
UID:g2fpa@games.golnetwork.com
LOCATION:Central Technical School
GEO:43.6637272;-79.4087613
CREATED:20130110T154327Z
DTSTART:20130204T230500Z
DTEND:20130205T000000Z
DTSTAMP:20260421T052457Z
SUMMARY:Let's Just Have Some Fun (White) vs. XTSC Timbits
DESCRIPTION:XTSC Timbits vs. Let's Just Have Some Fun (White)Plus d'info : 
	#231
X-ALT-DESC;FMTTYPE=text/html:<!DOCTYPE HTML PUBLIC "-//W3C//DTD HTML 3.2//E
	N">\n<HTML>\n<HEAD>\n<TITLE></TITLE>\n</HEAD>\n<BODY>\n<h3>XTSC Timbits vs.
	 Let's Just Have Some Fun (White)</h3>Plus d'info : <a href="https://www.go
	lnetwork.com/game/v/24494/">#231</a>\n\n</BODY>\n</HTML>
STATUS:CONFIRMED
CLASS:PUBLIC
URL:https://www.golnetwork.com/game/v/24494/
X-MICROSOFT-CDO-BUSYSTATUS:BUSY
X-MICROSOFT-CDO-IMPORTANCE:1
END:VEVENT
BEGIN:VEVENT
UID:g2fp8@games.golnetwork.com
LOCATION:Central Technical School
GEO:43.6637272;-79.4087613
CREATED:20130110T154327Z
DTSTART:20130129T015000Z
DTEND:20130129T024500Z
DTSTAMP:20260421T052457Z
SUMMARY:Clarence (Blue) vs. XTSC Timbits
DESCRIPTION:XTSC Timbits vs. Clarence (Blue)Plus d'info : #212
X-ALT-DESC;FMTTYPE=text/html:<!DOCTYPE HTML PUBLIC "-//W3C//DTD HTML 3.2//E
	N">\n<HTML>\n<HEAD>\n<TITLE></TITLE>\n</HEAD>\n<BODY>\n<h3>XTSC Timbits vs.
	 Clarence (Blue)</h3>Plus d'info : <a href="https://www.golnetwork.com/game
	/v/24493/">#212</a>\n\n</BODY>\n</HTML>
STATUS:CONFIRMED
CLASS:PUBLIC
URL:https://www.golnetwork.com/game/v/24493/
X-MICROSOFT-CDO-BUSYSTATUS:BUSY
X-MICROSOFT-CDO-IMPORTANCE:1
END:VEVENT
BEGIN:VEVENT
UID:g2fop@games.golnetwork.com
LOCATION:Central Technical School
GEO:43.6637272;-79.4087613
CREATED:20130110T154327Z
DTSTART:20130122T005500Z
DTEND:20130122T015000Z
DTSTAMP:20260421T052457Z
SUMMARY:Blue Steel Ballers vs. XTSC Timbits
DESCRIPTION:XTSC Timbits vs. Blue Steel BallersPlus d'info : #186
X-ALT-DESC;FMTTYPE=text/html:<!DOCTYPE HTML PUBLIC "-//W3C//DTD HTML 3.2//E
	N">\n<HTML>\n<HEAD>\n<TITLE></TITLE>\n</HEAD>\n<BODY>\n<h3>XTSC Timbits vs.
	 Blue Steel Ballers</h3>Plus d'info : <a href="https://www.golnetwork.com/g
	ame/v/24488/">#186</a>\n\n</BODY>\n</HTML>
STATUS:CONFIRMED
CLASS:PUBLIC
URL:https://www.golnetwork.com/game/v/24488/
X-MICROSOFT-CDO-BUSYSTATUS:BUSY
X-MICROSOFT-CDO-IMPORTANCE:1
END:VEVENT
END:VCALENDAR
