BEGIN:VCALENDAR
PRODID:-//gdesolutions.com//MV Framework 1.0.0.1607 Calendar//EN
VERSION:2.0
METHOD:PUBLISH
CALSCALE:GREGORIAN
BEGIN:VEVENT
UID:g8dda@games.golnetwork.com
LOCATION:Lamport Stadium - Field 2
GEO:43.6390028;-79.4232104
CREATED:20160113T141701Z
DTSTART:20160319T200000Z
DTEND:20160319T210000Z
DTSTAMP:20260421T230056Z
SUMMARY:Best Team Potentially Ever (Sonic Youth) Blue Jays Part II vs. Las 
	Vacas
DESCRIPTION:Las Vacas vs. Best Team Potentially Ever (Sonic Youth) Blue Jay
	s Part IIPlus d'info : #449
X-ALT-DESC;FMTTYPE=text/html:<!DOCTYPE HTML PUBLIC "-//W3C//DTD HTML 3.2//E
	N">\n<HTML>\n<HEAD>\n<TITLE></TITLE>\n</HEAD>\n<BODY>\n<h3>Las Vacas vs. Be
	st Team Potentially Ever (Sonic Youth) Blue Jays Part II</h3>Plus d'info : 
	<a href="https://www.golnetwork.com/game/v/82652/">#449</a>\n\n</BODY>\n</H
	TML>
STATUS:CONFIRMED
CLASS:PUBLIC
URL:https://www.golnetwork.com/game/v/82652/
X-MICROSOFT-CDO-BUSYSTATUS:BUSY
X-MICROSOFT-CDO-IMPORTANCE:1
END:VEVENT
BEGIN:VEVENT
UID:g8dd2@games.golnetwork.com
LOCATION:Lamport Stadium - Field 2
GEO:43.6390028;-79.4232104
CREATED:20160113T141612Z
DTSTART:20160312T190000Z
DTEND:20160312T200000Z
DTSTAMP:20260421T230056Z
SUMMARY:Las Vacas vs. The Orange
DESCRIPTION:The Orange vs. Las VacasPlus d'info : #396
X-ALT-DESC;FMTTYPE=text/html:<!DOCTYPE HTML PUBLIC "-//W3C//DTD HTML 3.2//E
	N">\n<HTML>\n<HEAD>\n<TITLE></TITLE>\n</HEAD>\n<BODY>\n<h3>The Orange vs. L
	as Vacas</h3>Plus d'info : <a href="https://www.golnetwork.com/game/v/82648
	/">#396</a>\n\n</BODY>\n</HTML>
STATUS:CONFIRMED
CLASS:PUBLIC
URL:https://www.golnetwork.com/game/v/82648/
X-MICROSOFT-CDO-BUSYSTATUS:BUSY
X-MICROSOFT-CDO-IMPORTANCE:1
END:VEVENT
BEGIN:VEVENT
UID:g8dcl@games.golnetwork.com
LOCATION:Lamport Stadium - Field 2
GEO:43.6390028;-79.4232104
CREATED:20160113T141514Z
DTSTART:20160305T180000Z
DTEND:20160305T190000Z
DTSTAMP:20260421T230056Z
SUMMARY:Las Vacas vs. Island FC
DESCRIPTION:Island FC vs. Las VacasPlus d'info : #346
X-ALT-DESC;FMTTYPE=text/html:<!DOCTYPE HTML PUBLIC "-//W3C//DTD HTML 3.2//E
	N">\n<HTML>\n<HEAD>\n<TITLE></TITLE>\n</HEAD>\n<BODY>\n<h3>Island FC vs. La
	s Vacas</h3>Plus d'info : <a href="https://www.golnetwork.com/game/v/82644/
	">#346</a>\n\n</BODY>\n</HTML>
STATUS:CONFIRMED
CLASS:PUBLIC
URL:https://www.golnetwork.com/game/v/82644/
X-MICROSOFT-CDO-BUSYSTATUS:BUSY
X-MICROSOFT-CDO-IMPORTANCE:1
END:VEVENT
BEGIN:VEVENT
UID:g8dch@games.golnetwork.com
LOCATION:Lamport Stadium - Field 2
GEO:43.6390028;-79.4232104
CREATED:20160113T141443Z
DTSTART:20160227T200000Z
DTEND:20160227T210000Z
DTSTAMP:20260421T230056Z
SUMMARY:Las Vacas vs. Nighthawx
DESCRIPTION:Nighthawx vs. Las VacasPlus d'info : #304
X-ALT-DESC;FMTTYPE=text/html:<!DOCTYPE HTML PUBLIC "-//W3C//DTD HTML 3.2//E
	N">\n<HTML>\n<HEAD>\n<TITLE></TITLE>\n</HEAD>\n<BODY>\n<h3>Nighthawx vs. La
	s Vacas</h3>Plus d'info : <a href="https://www.golnetwork.com/game/v/82642/
	">#304</a>\n\n</BODY>\n</HTML>
STATUS:CONFIRMED
CLASS:PUBLIC
URL:https://www.golnetwork.com/game/v/82642/
X-MICROSOFT-CDO-BUSYSTATUS:BUSY
X-MICROSOFT-CDO-IMPORTANCE:1
END:VEVENT
BEGIN:VEVENT
UID:g8dc9@games.golnetwork.com
LOCATION:Lamport Stadium - Field 2
GEO:43.6390028;-79.4232104
CREATED:20160113T141258Z
DTSTART:20160220T180000Z
DTEND:20160220T190000Z
DTSTAMP:20260421T230056Z
SUMMARY:Magos vs. Las Vacas
DESCRIPTION:Las Vacas vs. MagosPlus d'info : #246
X-ALT-DESC;FMTTYPE=text/html:<!DOCTYPE HTML PUBLIC "-//W3C//DTD HTML 3.2//E
	N">\n<HTML>\n<HEAD>\n<TITLE></TITLE>\n</HEAD>\n<BODY>\n<h3>Las Vacas vs. Ma
	gos</h3>Plus d'info : <a href="https://www.golnetwork.com/game/v/82638/">#2
	46</a>\n\n</BODY>\n</HTML>
STATUS:CONFIRMED
CLASS:PUBLIC
URL:https://www.golnetwork.com/game/v/82638/
X-MICROSOFT-CDO-BUSYSTATUS:BUSY
X-MICROSOFT-CDO-IMPORTANCE:1
END:VEVENT
BEGIN:VEVENT
UID:g8dc7@games.golnetwork.com
LOCATION:Lamport Stadium - Field 2
GEO:43.6390028;-79.4232104
CREATED:20160113T141235Z
DTSTART:20160213T210000Z
DTEND:20160213T220000Z
DTSTAMP:20260421T230056Z
SUMMARY:Best Team Potentially Ever (Sonic Youth) Blue Jays Part II vs. Las 
	Vacas
DESCRIPTION:Las Vacas vs. Best Team Potentially Ever (Sonic Youth) Blue Jay
	s Part IIPlus d'info : #207
X-ALT-DESC;FMTTYPE=text/html:<!DOCTYPE HTML PUBLIC "-//W3C//DTD HTML 3.2//E
	N">\n<HTML>\n<HEAD>\n<TITLE></TITLE>\n</HEAD>\n<BODY>\n<h3>Las Vacas vs. Be
	st Team Potentially Ever (Sonic Youth) Blue Jays Part II</h3>Plus d'info : 
	<a href="https://www.golnetwork.com/game/v/82637/">#207</a>\n\n</BODY>\n</H
	TML>
STATUS:CONFIRMED
CLASS:PUBLIC
URL:https://www.golnetwork.com/game/v/82637/
X-MICROSOFT-CDO-BUSYSTATUS:BUSY
X-MICROSOFT-CDO-IMPORTANCE:1
END:VEVENT
BEGIN:VEVENT
UID:g8dbq@games.golnetwork.com
LOCATION:Lamport Stadium - Field 2
GEO:43.6390028;-79.4232104
CREATED:20160113T141138Z
DTSTART:20160206T180000Z
DTEND:20160206T190000Z
DTSTAMP:20260421T230056Z
SUMMARY:Las Vacas vs. The Orange
DESCRIPTION:The Orange vs. Las VacasPlus d'info : #146
X-ALT-DESC;FMTTYPE=text/html:<!DOCTYPE HTML PUBLIC "-//W3C//DTD HTML 3.2//E
	N">\n<HTML>\n<HEAD>\n<TITLE></TITLE>\n</HEAD>\n<BODY>\n<h3>The Orange vs. L
	as Vacas</h3>Plus d'info : <a href="https://www.golnetwork.com/game/v/82633
	/">#146</a>\n\n</BODY>\n</HTML>
STATUS:CONFIRMED
CLASS:PUBLIC
URL:https://www.golnetwork.com/game/v/82633/
X-MICROSOFT-CDO-BUSYSTATUS:BUSY
X-MICROSOFT-CDO-IMPORTANCE:1
END:VEVENT
BEGIN:VEVENT
UID:g8dbi@games.golnetwork.com
LOCATION:Lamport Stadium - Field 2
GEO:43.6390028;-79.4232104
CREATED:20160113T141045Z
DTSTART:20160130T190000Z
DTEND:20160130T200000Z
DTSTAMP:20260421T230056Z
SUMMARY:Las Vacas vs. Island FC
DESCRIPTION:Island FC vs. Las VacasPlus d'info : #95
X-ALT-DESC;FMTTYPE=text/html:<!DOCTYPE HTML PUBLIC "-//W3C//DTD HTML 3.2//E
	N">\n<HTML>\n<HEAD>\n<TITLE></TITLE>\n</HEAD>\n<BODY>\n<h3>Island FC vs. La
	s Vacas</h3>Plus d'info : <a href="https://www.golnetwork.com/game/v/82629/
	">#95</a>\n\n</BODY>\n</HTML>
STATUS:CONFIRMED
CLASS:PUBLIC
URL:https://www.golnetwork.com/game/v/82629/
X-MICROSOFT-CDO-BUSYSTATUS:BUSY
X-MICROSOFT-CDO-IMPORTANCE:1
END:VEVENT
END:VCALENDAR
