BEGIN:VCALENDAR
PRODID:-//gdesolutions.com//MV Framework 1.0.0.1607 Calendar//EN
VERSION:2.0
METHOD:PUBLISH
CALSCALE:GREGORIAN
BEGIN:VEVENT
UID:g6aee@games.golnetwork.com
LOCATION:Monarch Park Stadium - Field 2
GEO:43.6792789;-79.3234873
CREATED:20141201T163905Z
DTSTART:20150302T000000Z
DTEND:20150302T010000Z
DTSTAMP:20260420T004510Z
SUMMARY:Revolution vs. Emergency FC
DESCRIPTION:Emergency FC vs. RevolutionPlus d'info : #194
X-ALT-DESC;FMTTYPE=text/html:<!DOCTYPE HTML PUBLIC "-//W3C//DTD HTML 3.2//E
	N">\n<HTML>\n<HEAD>\n<TITLE></TITLE>\n</HEAD>\n<BODY>\n<h3>Emergency FC vs.
	 Revolution</h3>Plus d'info : <a href="https://www.golnetwork.com/game/v/61
	891/">#194</a>\n\n</BODY>\n</HTML>
STATUS:CONFIRMED
CLASS:PUBLIC
URL:https://www.golnetwork.com/game/v/61891/
X-MICROSOFT-CDO-BUSYSTATUS:BUSY
X-MICROSOFT-CDO-IMPORTANCE:1
END:VEVENT
BEGIN:VEVENT
UID:g6ae8@games.golnetwork.com
LOCATION:Monarch Park Stadium - Field 2
GEO:43.6792789;-79.3234873
CREATED:20141201T163905Z
DTSTART:20150223T030000Z
DTEND:20150223T040000Z
DTSTAMP:20260420T004510Z
SUMMARY:Revolution vs. Les Foufounes
DESCRIPTION:Les Foufounes vs. RevolutionPlus d'info : #157
X-ALT-DESC;FMTTYPE=text/html:<!DOCTYPE HTML PUBLIC "-//W3C//DTD HTML 3.2//E
	N">\n<HTML>\n<HEAD>\n<TITLE></TITLE>\n</HEAD>\n<BODY>\n<h3>Les Foufounes vs
	. Revolution</h3>Plus d'info : <a href="https://www.golnetwork.com/game/v/6
	1888/">#157</a>\n\n</BODY>\n</HTML>
STATUS:CONFIRMED
CLASS:PUBLIC
URL:https://www.golnetwork.com/game/v/61888/
X-MICROSOFT-CDO-BUSYSTATUS:BUSY
X-MICROSOFT-CDO-IMPORTANCE:1
END:VEVENT
BEGIN:VEVENT
UID:g6adp@games.golnetwork.com
LOCATION:Monarch Park Stadium - Field 2
GEO:43.6792789;-79.3234873
CREATED:20141201T163905Z
DTSTART:20150209T020000Z
DTEND:20150209T030000Z
DTSTAMP:20260420T004510Z
SUMMARY:Revolution vs. Les Foufounes
DESCRIPTION:Les Foufounes vs. RevolutionPlus d'info : #81
X-ALT-DESC;FMTTYPE=text/html:<!DOCTYPE HTML PUBLIC "-//W3C//DTD HTML 3.2//E
	N">\n<HTML>\n<HEAD>\n<TITLE></TITLE>\n</HEAD>\n<BODY>\n<h3>Les Foufounes vs
	. Revolution</h3>Plus d'info : <a href="https://www.golnetwork.com/game/v/6
	1883/">#81</a>\n\n</BODY>\n</HTML>
STATUS:CONFIRMED
CLASS:PUBLIC
URL:https://www.golnetwork.com/game/v/61883/
X-MICROSOFT-CDO-BUSYSTATUS:BUSY
X-MICROSOFT-CDO-IMPORTANCE:1
END:VEVENT
BEGIN:VEVENT
UID:g6adj@games.golnetwork.com
LOCATION:Monarch Park Stadium - Field 2
GEO:43.6792789;-79.3234873
CREATED:20141201T163905Z
DTSTART:20150202T000000Z
DTEND:20150202T010000Z
DTSTAMP:20260420T004510Z
SUMMARY:Revolution vs. Space Jam
DESCRIPTION:Space Jam vs. RevolutionPlus d'info : #46
X-ALT-DESC;FMTTYPE=text/html:<!DOCTYPE HTML PUBLIC "-//W3C//DTD HTML 3.2//E
	N">\n<HTML>\n<HEAD>\n<TITLE></TITLE>\n</HEAD>\n<BODY>\n<h3>Space Jam vs. Re
	volution</h3>Plus d'info : <a href="https://www.golnetwork.com/game/v/61880
	/">#46</a>\n\n</BODY>\n</HTML>
STATUS:CONFIRMED
CLASS:PUBLIC
URL:https://www.golnetwork.com/game/v/61880/
X-MICROSOFT-CDO-BUSYSTATUS:BUSY
X-MICROSOFT-CDO-IMPORTANCE:1
END:VEVENT
BEGIN:VEVENT
UID:g6add@games.golnetwork.com
LOCATION:Monarch Park Stadium - Field 2
GEO:43.6792789;-79.3234873
CREATED:20141201T163905Z
DTSTART:20150126T030000Z
DTEND:20150126T040000Z
DTSTAMP:20260420T004510Z
SUMMARY:Revolution vs. The Cheatin Refs
DESCRIPTION:The Cheatin Refs vs. RevolutionPlus d'info : #39
X-ALT-DESC;FMTTYPE=text/html:<!DOCTYPE HTML PUBLIC "-//W3C//DTD HTML 3.2//E
	N">\n<HTML>\n<HEAD>\n<TITLE></TITLE>\n</HEAD>\n<BODY>\n<h3>The Cheatin Refs
	 vs. Revolution</h3>Plus d'info : <a href="https://www.golnetwork.com/game/
	v/61877/">#39</a>\n\n</BODY>\n</HTML>
STATUS:CONFIRMED
CLASS:PUBLIC
URL:https://www.golnetwork.com/game/v/61877/
X-MICROSOFT-CDO-BUSYSTATUS:BUSY
X-MICROSOFT-CDO-IMPORTANCE:1
END:VEVENT
BEGIN:VEVENT
UID:g6ad7@games.golnetwork.com
LOCATION:Monarch Park Stadium - Field 2
GEO:43.6792789;-79.3234873
CREATED:20141201T163905Z
DTSTART:20150119T010000Z
DTEND:20150119T020000Z
DTSTAMP:20260420T004510Z
SUMMARY:Revolution vs. Diaby Does Dallas
DESCRIPTION:Diaby Does Dallas vs. RevolutionPlus d'info : #26
X-ALT-DESC;FMTTYPE=text/html:<!DOCTYPE HTML PUBLIC "-//W3C//DTD HTML 3.2//E
	N">\n<HTML>\n<HEAD>\n<TITLE></TITLE>\n</HEAD>\n<BODY>\n<h3>Diaby Does Dalla
	s vs. Revolution</h3>Plus d'info : <a href="https://www.golnetwork.com/game
	/v/61874/">#26</a>\n\n</BODY>\n</HTML>
STATUS:CONFIRMED
CLASS:PUBLIC
URL:https://www.golnetwork.com/game/v/61874/
X-MICROSOFT-CDO-BUSYSTATUS:BUSY
X-MICROSOFT-CDO-IMPORTANCE:1
END:VEVENT
BEGIN:VEVENT
UID:g6acq@games.golnetwork.com
LOCATION:Monarch Park Stadium - Field 2
GEO:43.6792789;-79.3234873
CREATED:20141201T163905Z
DTSTART:20150112T000000Z
DTEND:20150112T010000Z
DTSTAMP:20260420T004510Z
SUMMARY:Emergency FC vs. Revolution
DESCRIPTION:Revolution vs. Emergency FCPlus d'info : #13
X-ALT-DESC;FMTTYPE=text/html:<!DOCTYPE HTML PUBLIC "-//W3C//DTD HTML 3.2//E
	N">\n<HTML>\n<HEAD>\n<TITLE></TITLE>\n</HEAD>\n<BODY>\n<h3>Revolution vs. E
	mergency FC</h3>Plus d'info : <a href="https://www.golnetwork.com/game/v/61
	870/">#13</a>\n\n</BODY>\n</HTML>
STATUS:CONFIRMED
CLASS:PUBLIC
URL:https://www.golnetwork.com/game/v/61870/
X-MICROSOFT-CDO-BUSYSTATUS:BUSY
X-MICROSOFT-CDO-IMPORTANCE:1
END:VEVENT
BEGIN:VEVENT
UID:g6acg@games.golnetwork.com
LOCATION:Monarch Park Stadium - Field 2
GEO:43.6792789;-79.3234873
CREATED:20141201T163905Z
DTSTART:20150105T020000Z
DTEND:20150105T030000Z
DTSTAMP:20260420T004510Z
SUMMARY:Wildcats vs. Revolution
DESCRIPTION:Revolution vs. WildcatsPlus d'info : #5
X-ALT-DESC;FMTTYPE=text/html:<!DOCTYPE HTML PUBLIC "-//W3C//DTD HTML 3.2//E
	N">\n<HTML>\n<HEAD>\n<TITLE></TITLE>\n</HEAD>\n<BODY>\n<h3>Revolution vs. W
	ildcats</h3>Plus d'info : <a href="https://www.golnetwork.com/game/v/61865/
	">#5</a>\n\n</BODY>\n</HTML>
STATUS:CONFIRMED
CLASS:PUBLIC
URL:https://www.golnetwork.com/game/v/61865/
X-MICROSOFT-CDO-BUSYSTATUS:BUSY
X-MICROSOFT-CDO-IMPORTANCE:1
END:VEVENT
END:VCALENDAR
