BEGIN:VCALENDAR
PRODID:-//gdesolutions.com//MV Framework 1.0.0.1607 Calendar//EN
VERSION:2.0
METHOD:PUBLISH
CALSCALE:GREGORIAN
BEGIN:VEVENT
UID:g2m5p@games.golnetwork.com
LOCATION:Louis Riel #3
GEO:45.4410208;-75.5715394
CREATED:20130327T050416Z
DTSTART:20130502T230000Z
DTEND:20130502T235000Z
DTSTAMP:20260421T052830Z
SUMMARY:Where's Josh vs. The Juggernauts
DESCRIPTION:The Juggernauts vs. Where's JoshPlus d'info : #46
X-ALT-DESC;FMTTYPE=text/html:<!DOCTYPE HTML PUBLIC "-//W3C//DTD HTML 3.2//E
	N">\n<HTML>\n<HEAD>\n<TITLE></TITLE>\n</HEAD>\n<BODY>\n<h3>The Juggernauts 
	vs. Where's Josh</h3>Plus d'info : <a href="https://www.golnetwork.com/game
	/v/26783/">#46</a>\n\n</BODY>\n</HTML>
STATUS:CONFIRMED
CLASS:PUBLIC
URL:https://www.golnetwork.com/game/v/26783/
X-MICROSOFT-CDO-BUSYSTATUS:BUSY
X-MICROSOFT-CDO-IMPORTANCE:1
END:VEVENT
BEGIN:VEVENT
UID:g2n3m@games.golnetwork.com
LOCATION:Louis Riel #2
GEO:45.4410208;-75.5715394
CREATED:20130410T172817Z
DTSTART:20130426T010000Z
DTEND:20130426T015000Z
DTSTAMP:20260421T052830Z
SUMMARY:The Juggernauts vs. Ladies N Gents FC
DESCRIPTION:Ladies N Gents FC vs. The JuggernautsPlus d'info : #41
X-ALT-DESC;FMTTYPE=text/html:<!DOCTYPE HTML PUBLIC "-//W3C//DTD HTML 3.2//E
	N">\n<HTML>\n<HEAD>\n<TITLE></TITLE>\n</HEAD>\n<BODY>\n<h3>Ladies N Gents F
	C vs. The Juggernauts</h3>Plus d'info : <a href="https://www.golnetwork.com
	/game/v/27119/">#41</a>\n\n</BODY>\n</HTML>
STATUS:CONFIRMED
CLASS:PUBLIC
URL:https://www.golnetwork.com/game/v/27119/
X-MICROSOFT-CDO-BUSYSTATUS:BUSY
X-MICROSOFT-CDO-IMPORTANCE:1
END:VEVENT
BEGIN:VEVENT
UID:g2m4a@games.golnetwork.com
LOCATION:Louis Riel #3
GEO:45.4410208;-75.5715394
CREATED:20130327T045805Z
DTSTART:20130419T000000Z
DTEND:20130419T005000Z
DTSTAMP:20260421T052830Z
SUMMARY:Balls N' Dolls vs. The Juggernauts
DESCRIPTION:The Juggernauts vs. Balls N' DollsPlus d'info : #27
X-ALT-DESC;FMTTYPE=text/html:<!DOCTYPE HTML PUBLIC "-//W3C//DTD HTML 3.2//E
	N">\n<HTML>\n<HEAD>\n<TITLE></TITLE>\n</HEAD>\n<BODY>\n<h3>The Juggernauts 
	vs. Balls N' Dolls</h3>Plus d'info : <a href="https://www.golnetwork.com/ga
	me/v/26762/">#27</a>\n\n</BODY>\n</HTML>
STATUS:CONFIRMED
CLASS:PUBLIC
URL:https://www.golnetwork.com/game/v/26762/
X-MICROSOFT-CDO-BUSYSTATUS:BUSY
X-MICROSOFT-CDO-IMPORTANCE:1
END:VEVENT
BEGIN:VEVENT
UID:g2m3h@games.golnetwork.com
LOCATION:Louis Riel #2
GEO:45.4410208;-75.5715394
CREATED:20130327T045458Z
DTSTART:20130412T010000Z
DTEND:20130412T015000Z
DTSTAMP:20260421T052830Z
SUMMARY:The Juggernauts vs. Missile-toe
DESCRIPTION:Missile-toe vs. The JuggernautsPlus d'info : #18
X-ALT-DESC;FMTTYPE=text/html:<!DOCTYPE HTML PUBLIC "-//W3C//DTD HTML 3.2//E
	N">\n<HTML>\n<HEAD>\n<TITLE></TITLE>\n</HEAD>\n<BODY>\n<h3>Missile-toe vs. 
	The Juggernauts</h3>Plus d'info : <a href="https://www.golnetwork.com/game/
	v/26752/">#18</a>\n\n</BODY>\n</HTML>
STATUS:CONFIRMED
CLASS:PUBLIC
URL:https://www.golnetwork.com/game/v/26752/
X-MICROSOFT-CDO-BUSYSTATUS:BUSY
X-MICROSOFT-CDO-IMPORTANCE:1
END:VEVENT
BEGIN:VEVENT
UID:g2m2q@games.golnetwork.com
LOCATION:Louis Riel #3
GEO:45.4410208;-75.5715394
CREATED:20130327T045243Z
DTSTART:20130404T230000Z
DTEND:20130404T235000Z
DTSTAMP:20260421T052830Z
SUMMARY:Los Amigos vs. The Juggernauts
DESCRIPTION:The Juggernauts vs. Los AmigosPlus d'info : #2
X-ALT-DESC;FMTTYPE=text/html:<!DOCTYPE HTML PUBLIC "-//W3C//DTD HTML 3.2//E
	N">\n<HTML>\n<HEAD>\n<TITLE></TITLE>\n</HEAD>\n<BODY>\n<h3>The Juggernauts 
	vs. Los Amigos</h3>Plus d'info : <a href="https://www.golnetwork.com/game/v
	/26743/">#2</a>\n\n</BODY>\n</HTML>
STATUS:CONFIRMED
CLASS:PUBLIC
URL:https://www.golnetwork.com/game/v/26743/
X-MICROSOFT-CDO-BUSYSTATUS:BUSY
X-MICROSOFT-CDO-IMPORTANCE:1
END:VEVENT
END:VCALENDAR
