BEGIN:VCALENDAR
PRODID:-//gdesolutions.com//MV Framework 1.0.0.1607 Calendar//EN
VERSION:2.0
METHOD:PUBLISH
CALSCALE:GREGORIAN
BEGIN:VEVENT
UID:g288i@games.golnetwork.com
LOCATION:Lamport Stadium Field 3
GEO:43.639337;-79.4248954
CREATED:20121017T135731Z
DTSTART:20121022T020000Z
DTEND:20121022T030000Z
DTSTAMP:20260422T022620Z
SUMMARY:Galo FC vs. FC Lady Killers
DESCRIPTION:FC Lady Killers vs. Galo FCPlus d'info : #285
X-ALT-DESC;FMTTYPE=text/html:<!DOCTYPE HTML PUBLIC "-//W3C//DTD HTML 3.2//E
	N">\n<HTML>\n<HEAD>\n<TITLE></TITLE>\n</HEAD>\n<BODY>\n<h3>FC Lady Killers 
	vs. Galo FC</h3>Plus d'info : <a href="https://www.golnetwork.com/game/v/21
	717/">#285</a>\n\n</BODY>\n</HTML>
STATUS:CONFIRMED
CLASS:PUBLIC
URL:https://www.golnetwork.com/game/v/21717/
X-MICROSOFT-CDO-BUSYSTATUS:BUSY
X-MICROSOFT-CDO-IMPORTANCE:1
END:VEVENT
BEGIN:VEVENT
UID:g27ib@games.golnetwork.com
LOCATION:Lamport Stadium Field 3
GEO:43.639337;-79.4248954
CREATED:20121008T174051Z
DTSTART:20121015T020000Z
DTEND:20121015T030000Z
DTSTAMP:20260422T022620Z
SUMMARY:XTSC Lean Mean Machine vs. FC Lady Killers
DESCRIPTION:FC Lady Killers vs. XTSC Lean Mean MachinePlus d'info : #274
X-ALT-DESC;FMTTYPE=text/html:<!DOCTYPE HTML PUBLIC "-//W3C//DTD HTML 3.2//E
	N">\n<HTML>\n<HEAD>\n<TITLE></TITLE>\n</HEAD>\n<BODY>\n<h3>FC Lady Killers 
	vs. XTSC Lean Mean Machine</h3>Plus d'info : <a href="https://www.golnetwor
	k.com/game/v/21484/">#274</a>\n\n</BODY>\n</HTML>
STATUS:CONFIRMED
CLASS:PUBLIC
URL:https://www.golnetwork.com/game/v/21484/
X-MICROSOFT-CDO-BUSYSTATUS:BUSY
X-MICROSOFT-CDO-IMPORTANCE:1
END:VEVENT
BEGIN:VEVENT
UID:g1p1l@games.golnetwork.com
LOCATION:Lamport Stadium Field 3
GEO:43.639337;-79.4248954
CREATED:20120719T182042Z
DTSTART:20121007T230000Z
DTEND:20121008T000000Z
DTSTAMP:20260422T022620Z
SUMMARY:FC Lady Killers vs. Tree FC
DESCRIPTION:Tree FC vs. FC Lady KillersPlus d'info : #256
X-ALT-DESC;FMTTYPE=text/html:<!DOCTYPE HTML PUBLIC "-//W3C//DTD HTML 3.2//E
	N">\n<HTML>\n<HEAD>\n<TITLE></TITLE>\n</HEAD>\n<BODY>\n<h3>Tree FC vs. FC L
	ady Killers</h3>Plus d'info : <a href="https://www.golnetwork.com/game/v/17
	979/">#256</a>\n\n</BODY>\n</HTML>
STATUS:CONFIRMED
CLASS:PUBLIC
URL:https://www.golnetwork.com/game/v/17979/
X-MICROSOFT-CDO-BUSYSTATUS:BUSY
X-MICROSOFT-CDO-IMPORTANCE:1
END:VEVENT
BEGIN:VEVENT
UID:g1p1d@games.golnetwork.com
LOCATION:Lamport Stadium Field 3
GEO:43.639337;-79.4248954
CREATED:20120719T182042Z
DTSTART:20120923T230000Z
DTEND:20120924T000000Z
DTSTAMP:20260422T022620Z
SUMMARY:FC Lady Killers vs. Los Luchadores
DESCRIPTION:Los Luchadores vs. FC Lady KillersPlus d'info : #240
X-ALT-DESC;FMTTYPE=text/html:<!DOCTYPE HTML PUBLIC "-//W3C//DTD HTML 3.2//E
	N">\n<HTML>\n<HEAD>\n<TITLE></TITLE>\n</HEAD>\n<BODY>\n<h3>Los Luchadores v
	s. FC Lady Killers</h3>Plus d'info : <a href="https://www.golnetwork.com/ga
	me/v/17975/">#240</a>\n\n</BODY>\n</HTML>
STATUS:CONFIRMED
CLASS:PUBLIC
URL:https://www.golnetwork.com/game/v/17975/
X-MICROSOFT-CDO-BUSYSTATUS:BUSY
X-MICROSOFT-CDO-IMPORTANCE:1
END:VEVENT
BEGIN:VEVENT
UID:g1p15@games.golnetwork.com
LOCATION:Lamport Stadium Field 3
GEO:43.639337;-79.4248954
CREATED:20120719T182042Z
DTSTART:20120916T230000Z
DTEND:20120917T000000Z
DTSTAMP:20260422T022620Z
SUMMARY:XTSC Lean Mean Machine vs. FC Lady Killers
DESCRIPTION:FC Lady Killers vs. XTSC Lean Mean MachinePlus d'info : #222
X-ALT-DESC;FMTTYPE=text/html:<!DOCTYPE HTML PUBLIC "-//W3C//DTD HTML 3.2//E
	N">\n<HTML>\n<HEAD>\n<TITLE></TITLE>\n</HEAD>\n<BODY>\n<h3>FC Lady Killers 
	vs. XTSC Lean Mean Machine</h3>Plus d'info : <a href="https://www.golnetwor
	k.com/game/v/17971/">#222</a>\n\n</BODY>\n</HTML>
STATUS:CONFIRMED
CLASS:PUBLIC
URL:https://www.golnetwork.com/game/v/17971/
X-MICROSOFT-CDO-BUSYSTATUS:BUSY
X-MICROSOFT-CDO-IMPORTANCE:1
END:VEVENT
BEGIN:VEVENT
UID:g1p0q@games.golnetwork.com
LOCATION:Lamport Stadium Field 3
GEO:43.639337;-79.4248954
CREATED:20120719T182042Z
DTSTART:20120910T000000Z
DTEND:20120910T010000Z
DTSTAMP:20260422T022620Z
SUMMARY:FC Lady Killers vs. XTSC Lean Mean Machine
DESCRIPTION:XTSC Lean Mean Machine vs. FC Lady KillersPlus d'info : #207
X-ALT-DESC;FMTTYPE=text/html:<!DOCTYPE HTML PUBLIC "-//W3C//DTD HTML 3.2//E
	N">\n<HTML>\n<HEAD>\n<TITLE></TITLE>\n</HEAD>\n<BODY>\n<h3>XTSC Lean Mean M
	achine vs. FC Lady Killers</h3>Plus d'info : <a href="https://www.golnetwor
	k.com/game/v/17968/">#207</a>\n\n</BODY>\n</HTML>
STATUS:CONFIRMED
CLASS:PUBLIC
URL:https://www.golnetwork.com/game/v/17968/
X-MICROSOFT-CDO-BUSYSTATUS:BUSY
X-MICROSOFT-CDO-IMPORTANCE:1
END:VEVENT
BEGIN:VEVENT
UID:g1p0g@games.golnetwork.com
LOCATION:Lamport Stadium Field 3
GEO:43.639337;-79.4248954
CREATED:20120719T182042Z
DTSTART:20120902T230000Z
DTEND:20120903T000000Z
DTSTAMP:20260422T022620Z
SUMMARY:Magos vs. FC Lady Killers
DESCRIPTION:FC Lady Killers vs. MagosPlus d'info : #178
X-ALT-DESC;FMTTYPE=text/html:<!DOCTYPE HTML PUBLIC "-//W3C//DTD HTML 3.2//E
	N">\n<HTML>\n<HEAD>\n<TITLE></TITLE>\n</HEAD>\n<BODY>\n<h3>FC Lady Killers 
	vs. Magos</h3>Plus d'info : <a href="https://www.golnetwork.com/game/v/1796
	3/">#178</a>\n\n</BODY>\n</HTML>
STATUS:CONFIRMED
CLASS:PUBLIC
URL:https://www.golnetwork.com/game/v/17963/
X-MICROSOFT-CDO-BUSYSTATUS:BUSY
X-MICROSOFT-CDO-IMPORTANCE:1
END:VEVENT
BEGIN:VEVENT
UID:g1p0e@games.golnetwork.com
LOCATION:Lamport Stadium Field 3
GEO:43.639337;-79.4248954
CREATED:20120719T182042Z
DTSTART:20120813T020000Z
DTEND:20120813T030000Z
DTSTAMP:20260422T022620Z
SUMMARY:FC Lady Killers vs. Tree FC
DESCRIPTION:Tree FC vs. FC Lady KillersPlus d'info : #122
X-ALT-DESC;FMTTYPE=text/html:<!DOCTYPE HTML PUBLIC "-//W3C//DTD HTML 3.2//E
	N">\n<HTML>\n<HEAD>\n<TITLE></TITLE>\n</HEAD>\n<BODY>\n<h3>Tree FC vs. FC L
	ady Killers</h3>Plus d'info : <a href="https://www.golnetwork.com/game/v/17
	962/">#122</a>\n\n</BODY>\n</HTML>
STATUS:CONFIRMED
CLASS:PUBLIC
URL:https://www.golnetwork.com/game/v/17962/
X-MICROSOFT-CDO-BUSYSTATUS:BUSY
X-MICROSOFT-CDO-IMPORTANCE:1
END:VEVENT
BEGIN:VEVENT
UID:g1p02@games.golnetwork.com
LOCATION:Lamport Stadium Field 3
GEO:43.639337;-79.4248954
CREATED:20120719T182042Z
DTSTART:20120723T000000Z
DTEND:20120723T010000Z
DTSTAMP:20260422T022620Z
SUMMARY:Something FC (White) vs. FC Lady Killers
DESCRIPTION:FC Lady Killers vs. Something FC (White)Plus d'info : #35
X-ALT-DESC;FMTTYPE=text/html:<!DOCTYPE HTML PUBLIC "-//W3C//DTD HTML 3.2//E
	N">\n<HTML>\n<HEAD>\n<TITLE></TITLE>\n</HEAD>\n<BODY>\n<h3>FC Lady Killers 
	vs. Something FC (White)</h3>Plus d'info : <a href="https://www.golnetwork.
	com/game/v/17956/">#35</a>\n\n</BODY>\n</HTML>
STATUS:CONFIRMED
CLASS:PUBLIC
URL:https://www.golnetwork.com/game/v/17956/
X-MICROSOFT-CDO-BUSYSTATUS:BUSY
X-MICROSOFT-CDO-IMPORTANCE:1
END:VEVENT
END:VCALENDAR
