BEGIN:VCALENDAR
PRODID:-//gdesolutions.com//MV Framework 1.0.0.1607 Calendar//EN
VERSION:2.0
METHOD:PUBLISH
CALSCALE:GREGORIAN
BEGIN:VEVENT
UID:g478p@games.golnetwork.com
LOCATION:Lamport Stadium - Field 2
GEO:43.6390028;-79.4232104
CREATED:20131111T212319Z
DTSTART:20140125T190000Z
DTEND:20140125T200000Z
DTSTAMP:20260421T125524Z
SUMMARY:Magos vs. Not Sure Yet
DESCRIPTION:Not Sure Yet vs. MagosPlus d'info : #373
X-ALT-DESC;FMTTYPE=text/html:<!DOCTYPE HTML PUBLIC "-//W3C//DTD HTML 3.2//E
	N">\n<HTML>\n<HEAD>\n<TITLE></TITLE>\n</HEAD>\n<BODY>\n<h3>Not Sure Yet vs.
	 Magos</h3>Plus d'info : <a href="https://www.golnetwork.com/game/v/41039/"
	>#373</a>\n\n</BODY>\n</HTML>
STATUS:CONFIRMED
CLASS:PUBLIC
URL:https://www.golnetwork.com/game/v/41039/
X-MICROSOFT-CDO-BUSYSTATUS:BUSY
X-MICROSOFT-CDO-IMPORTANCE:1
END:VEVENT
BEGIN:VEVENT
UID:g478h@games.golnetwork.com
LOCATION:Lamport Stadium - Field 2
GEO:43.6390028;-79.4232104
CREATED:20131111T212319Z
DTSTART:20140118T180000Z
DTEND:20140118T190000Z
DTSTAMP:20260421T125524Z
SUMMARY:Not Sure Yet vs. The Worst Team Ever
DESCRIPTION:The Worst Team Ever vs. Not Sure YetPlus d'info : #340
X-ALT-DESC;FMTTYPE=text/html:<!DOCTYPE HTML PUBLIC "-//W3C//DTD HTML 3.2//E
	N">\n<HTML>\n<HEAD>\n<TITLE></TITLE>\n</HEAD>\n<BODY>\n<h3>The Worst Team E
	ver vs. Not Sure Yet</h3>Plus d'info : <a href="https://www.golnetwork.com/
	game/v/41035/">#340</a>\n\n</BODY>\n</HTML>
STATUS:CONFIRMED
CLASS:PUBLIC
URL:https://www.golnetwork.com/game/v/41035/
X-MICROSOFT-CDO-BUSYSTATUS:BUSY
X-MICROSOFT-CDO-IMPORTANCE:1
END:VEVENT
BEGIN:VEVENT
UID:g478d@games.golnetwork.com
LOCATION:Lamport Stadium - Field 2
GEO:43.6390028;-79.4232104
CREATED:20131111T212319Z
DTSTART:20140111T190000Z
DTEND:20140111T200000Z
DTSTAMP:20260421T125524Z
SUMMARY:Lokomotiv Bison FC 1873 vs. Not Sure Yet
DESCRIPTION:Not Sure Yet vs. Lokomotiv Bison FC 1873Plus d'info : #313
X-ALT-DESC;FMTTYPE=text/html:<!DOCTYPE HTML PUBLIC "-//W3C//DTD HTML 3.2//E
	N">\n<HTML>\n<HEAD>\n<TITLE></TITLE>\n</HEAD>\n<BODY>\n<h3>Not Sure Yet vs.
	 Lokomotiv Bison FC 1873</h3>Plus d'info : <a href="https://www.golnetwork.
	com/game/v/41033/">#313</a>\n\n</BODY>\n</HTML>
STATUS:CONFIRMED
CLASS:PUBLIC
URL:https://www.golnetwork.com/game/v/41033/
X-MICROSOFT-CDO-BUSYSTATUS:BUSY
X-MICROSOFT-CDO-IMPORTANCE:1
END:VEVENT
BEGIN:VEVENT
UID:g4789@games.golnetwork.com
LOCATION:Lamport Stadium - Field 2
GEO:43.6390028;-79.4232104
CREATED:20131111T212319Z
DTSTART:20140104T200000Z
DTEND:20140104T210000Z
DTSTAMP:20260421T125524Z
SUMMARY:Not Sure Yet vs. The Orange
DESCRIPTION:The Orange vs. Not Sure YetPlus d'info : #286
X-ALT-DESC;FMTTYPE=text/html:<!DOCTYPE HTML PUBLIC "-//W3C//DTD HTML 3.2//E
	N">\n<HTML>\n<HEAD>\n<TITLE></TITLE>\n</HEAD>\n<BODY>\n<h3>The Orange vs. N
	ot Sure Yet</h3>Plus d'info : <a href="https://www.golnetwork.com/game/v/41
	031/">#286</a>\n\n</BODY>\n</HTML>
STATUS:CONFIRMED
CLASS:PUBLIC
URL:https://www.golnetwork.com/game/v/41031/
X-MICROSOFT-CDO-BUSYSTATUS:BUSY
X-MICROSOFT-CDO-IMPORTANCE:1
END:VEVENT
BEGIN:VEVENT
UID:g4781@games.golnetwork.com
LOCATION:Lamport Stadium - Field 2
GEO:43.6390028;-79.4232104
CREATED:20131111T212319Z
DTSTART:20131221T190000Z
DTEND:20131221T200000Z
DTSTAMP:20260421T125524Z
SUMMARY:Not Sure Yet vs. Onetouchables FC
DESCRIPTION:Onetouchables FC vs. Not Sure YetPlus d'info : #262
X-ALT-DESC;FMTTYPE=text/html:<!DOCTYPE HTML PUBLIC "-//W3C//DTD HTML 3.2//E
	N">\n<HTML>\n<HEAD>\n<TITLE></TITLE>\n</HEAD>\n<BODY>\n<h3>Onetouchables FC
	 vs. Not Sure Yet</h3>Plus d'info : <a href="https://www.golnetwork.com/gam
	e/v/41027/">#262</a>\n\n</BODY>\n</HTML>
STATUS:CONFIRMED
CLASS:PUBLIC
URL:https://www.golnetwork.com/game/v/41027/
X-MICROSOFT-CDO-BUSYSTATUS:BUSY
X-MICROSOFT-CDO-IMPORTANCE:1
END:VEVENT
BEGIN:VEVENT
UID:g477k@games.golnetwork.com
LOCATION:Lamport Stadium - Field 2
GEO:43.6390028;-79.4232104
CREATED:20131111T212319Z
DTSTART:20131214T180000Z
DTEND:20131214T190000Z
DTSTAMP:20260421T125524Z
SUMMARY:Not Sure Yet vs. Onetouchables FC
DESCRIPTION:Onetouchables FC vs. Not Sure YetPlus d'info : #218
X-ALT-DESC;FMTTYPE=text/html:<!DOCTYPE HTML PUBLIC "-//W3C//DTD HTML 3.2//E
	N">\n<HTML>\n<HEAD>\n<TITLE></TITLE>\n</HEAD>\n<BODY>\n<h3>Onetouchables FC
	 vs. Not Sure Yet</h3>Plus d'info : <a href="https://www.golnetwork.com/gam
	e/v/41023/">#218</a>\n\n</BODY>\n</HTML>
STATUS:CONFIRMED
CLASS:PUBLIC
URL:https://www.golnetwork.com/game/v/41023/
X-MICROSOFT-CDO-BUSYSTATUS:BUSY
X-MICROSOFT-CDO-IMPORTANCE:1
END:VEVENT
BEGIN:VEVENT
UID:g477i@games.golnetwork.com
LOCATION:Lamport Stadium - Field 2
GEO:43.6390028;-79.4232104
CREATED:20131111T212319Z
DTSTART:20131207T200000Z
DTEND:20131207T210000Z
DTSTAMP:20260421T125524Z
SUMMARY:Lokomotiv Bison FC 1873 vs. Not Sure Yet
DESCRIPTION:Not Sure Yet vs. Lokomotiv Bison FC 1873Plus d'info : #183
X-ALT-DESC;FMTTYPE=text/html:<!DOCTYPE HTML PUBLIC "-//W3C//DTD HTML 3.2//E
	N">\n<HTML>\n<HEAD>\n<TITLE></TITLE>\n</HEAD>\n<BODY>\n<h3>Not Sure Yet vs.
	 Lokomotiv Bison FC 1873</h3>Plus d'info : <a href="https://www.golnetwork.
	com/game/v/41022/">#183</a>\n\n</BODY>\n</HTML>
STATUS:CONFIRMED
CLASS:PUBLIC
URL:https://www.golnetwork.com/game/v/41022/
X-MICROSOFT-CDO-BUSYSTATUS:BUSY
X-MICROSOFT-CDO-IMPORTANCE:1
END:VEVENT
BEGIN:VEVENT
UID:g477a@games.golnetwork.com
LOCATION:Lamport Stadium - Field 2
GEO:43.6390028;-79.4232104
CREATED:20131111T212319Z
DTSTART:20131130T190000Z
DTEND:20131130T200000Z
DTSTAMP:20260421T125524Z
SUMMARY:Not Sure Yet vs. The Worst Team Ever
DESCRIPTION:The Worst Team Ever vs. Not Sure YetPlus d'info : #139
X-ALT-DESC;FMTTYPE=text/html:<!DOCTYPE HTML PUBLIC "-//W3C//DTD HTML 3.2//E
	N">\n<HTML>\n<HEAD>\n<TITLE></TITLE>\n</HEAD>\n<BODY>\n<h3>The Worst Team E
	ver vs. Not Sure Yet</h3>Plus d'info : <a href="https://www.golnetwork.com/
	game/v/41018/">#139</a>\n\n</BODY>\n</HTML>
STATUS:CONFIRMED
CLASS:PUBLIC
URL:https://www.golnetwork.com/game/v/41018/
X-MICROSOFT-CDO-BUSYSTATUS:BUSY
X-MICROSOFT-CDO-IMPORTANCE:1
END:VEVENT
BEGIN:VEVENT
UID:g4776@games.golnetwork.com
LOCATION:Lamport Stadium - Field 2
GEO:43.6390028;-79.4232104
CREATED:20131111T212319Z
DTSTART:20131123T200000Z
DTEND:20131123T210000Z
DTSTAMP:20260421T125524Z
SUMMARY:Magos vs. Not Sure Yet
DESCRIPTION:Not Sure Yet vs. MagosPlus d'info : #101
X-ALT-DESC;FMTTYPE=text/html:<!DOCTYPE HTML PUBLIC "-//W3C//DTD HTML 3.2//E
	N">\n<HTML>\n<HEAD>\n<TITLE></TITLE>\n</HEAD>\n<BODY>\n<h3>Not Sure Yet vs.
	 Magos</h3>Plus d'info : <a href="https://www.golnetwork.com/game/v/41016/"
	>#101</a>\n\n</BODY>\n</HTML>
STATUS:CONFIRMED
CLASS:PUBLIC
URL:https://www.golnetwork.com/game/v/41016/
X-MICROSOFT-CDO-BUSYSTATUS:BUSY
X-MICROSOFT-CDO-IMPORTANCE:1
END:VEVENT
BEGIN:VEVENT
UID:g476n@games.golnetwork.com
LOCATION:Lamport Stadium - Field 2
GEO:43.6390028;-79.4232104
CREATED:20131111T212319Z
DTSTART:20131116T180000Z
DTEND:20131116T190000Z
DTSTAMP:20260421T125524Z
SUMMARY:Not Sure Yet vs. The Orange
DESCRIPTION:The Orange vs. Not Sure YetPlus d'info : #55
X-ALT-DESC;FMTTYPE=text/html:<!DOCTYPE HTML PUBLIC "-//W3C//DTD HTML 3.2//E
	N">\n<HTML>\n<HEAD>\n<TITLE></TITLE>\n</HEAD>\n<BODY>\n<h3>The Orange vs. N
	ot Sure Yet</h3>Plus d'info : <a href="https://www.golnetwork.com/game/v/41
	011/">#55</a>\n\n</BODY>\n</HTML>
STATUS:CONFIRMED
CLASS:PUBLIC
URL:https://www.golnetwork.com/game/v/41011/
X-MICROSOFT-CDO-BUSYSTATUS:BUSY
X-MICROSOFT-CDO-IMPORTANCE:1
END:VEVENT
END:VCALENDAR
