BEGIN:VCALENDAR
PRODID:-//gdesolutions.com//MV Framework 1.0.0.1607 Calendar//EN
VERSION:2.0
METHOD:PUBLISH
CALSCALE:GREGORIAN
BEGIN:VEVENT
UID:g8dbg@games.golnetwork.com
LOCATION:Lamport Stadium - Field 1
GEO:43.6390028;-79.4232104
CREATED:20160113T135540Z
DTSTART:20160409T180000Z
DTEND:20160409T190000Z
DTSTAMP:20260421T052754Z
SUMMARY:Not Sure Yet vs. Ball SO Hard
DESCRIPTION:Ball SO Hard vs. Not Sure YetPlus d'info : #561
X-ALT-DESC;FMTTYPE=text/html:<!DOCTYPE HTML PUBLIC "-//W3C//DTD HTML 3.2//E
	N">\n<HTML>\n<HEAD>\n<TITLE></TITLE>\n</HEAD>\n<BODY>\n<h3>Ball SO Hard vs.
	 Not Sure Yet</h3>Plus d'info : <a href="https://www.golnetwork.com/game/v/
	82628/">#561</a>\n\n</BODY>\n</HTML>
STATUS:CONFIRMED
CLASS:PUBLIC
URL:https://www.golnetwork.com/game/v/82628/
X-MICROSOFT-CDO-BUSYSTATUS:BUSY
X-MICROSOFT-CDO-IMPORTANCE:1
END:VEVENT
BEGIN:VEVENT
UID:g8dbe@games.golnetwork.com
LOCATION:Lamport Stadium - Field 1
GEO:43.6390028;-79.4232104
CREATED:20160113T135540Z
DTSTART:20160402T190000Z
DTEND:20160402T200000Z
DTSTAMP:20260421T052754Z
SUMMARY:Not Sure Yet vs. MilkWasABadChoice
DESCRIPTION:MilkWasABadChoice vs. Not Sure YetPlus d'info : #516
X-ALT-DESC;FMTTYPE=text/html:<!DOCTYPE HTML PUBLIC "-//W3C//DTD HTML 3.2//E
	N">\n<HTML>\n<HEAD>\n<TITLE></TITLE>\n</HEAD>\n<BODY>\n<h3>MilkWasABadChoic
	e vs. Not Sure Yet</h3>Plus d'info : <a href="https://www.golnetwork.com/ga
	me/v/82627/">#516</a>\n\n</BODY>\n</HTML>
STATUS:CONFIRMED
CLASS:PUBLIC
URL:https://www.golnetwork.com/game/v/82627/
X-MICROSOFT-CDO-BUSYSTATUS:BUSY
X-MICROSOFT-CDO-IMPORTANCE:1
END:VEVENT
END:VCALENDAR
