BEGIN:VCALENDAR
PRODID:-//gdesolutions.com//MV Framework 1.0.0.1607 Calendar//EN
VERSION:2.0
METHOD:PUBLISH
CALSCALE:GREGORIAN
BEGIN:VEVENT
UID:g39c2@games.golnetwork.com
LOCATION:Cherry Beach West 3
CREATED:20130717T142208Z
DTSTART:20130915T222500Z
DTEND:20130915T232500Z
DTSTAMP:20260421T104547Z
SUMMARY:BVB Honeybees vs. PSG
DESCRIPTION:PSG vs. BVB HoneybeesPlus d'info : #355
X-ALT-DESC;FMTTYPE=text/html:<!DOCTYPE HTML PUBLIC "-//W3C//DTD HTML 3.2//E
	N">\n<HTML>\n<HEAD>\n<TITLE></TITLE>\n</HEAD>\n<BODY>\n<h3>PSG vs. BVB Hone
	ybees</h3>Plus d'info : <a href="https://www.golnetwork.com/game/v/31969/">
	#355</a>\n\n</BODY>\n</HTML>
STATUS:CONFIRMED
CLASS:PUBLIC
URL:https://www.golnetwork.com/game/v/31969/
X-MICROSOFT-CDO-BUSYSTATUS:BUSY
X-MICROSOFT-CDO-IMPORTANCE:1
END:VEVENT
BEGIN:VEVENT
UID:g39bp@games.golnetwork.com
LOCATION:Cherry Beach West 1
CREATED:20130717T142208Z
DTSTART:20130908T232500Z
DTEND:20130909T002500Z
DTSTAMP:20260421T104547Z
SUMMARY:BVB Honeybees vs. F In Awful
DESCRIPTION:F In Awful vs. BVB HoneybeesPlus d'info : #324
X-ALT-DESC;FMTTYPE=text/html:<!DOCTYPE HTML PUBLIC "-//W3C//DTD HTML 3.2//E
	N">\n<HTML>\n<HEAD>\n<TITLE></TITLE>\n</HEAD>\n<BODY>\n<h3>F In Awful vs. B
	VB Honeybees</h3>Plus d'info : <a href="https://www.golnetwork.com/game/v/3
	1967/">#324</a>\n\n</BODY>\n</HTML>
STATUS:CONFIRMED
CLASS:PUBLIC
URL:https://www.golnetwork.com/game/v/31967/
X-MICROSOFT-CDO-BUSYSTATUS:BUSY
X-MICROSOFT-CDO-IMPORTANCE:1
END:VEVENT
BEGIN:VEVENT
UID:g39bf@games.golnetwork.com
LOCATION:Cherry Beach West 3
CREATED:20130717T142208Z
DTSTART:20130825T232500Z
DTEND:20130826T002500Z
DTSTAMP:20260421T104547Z
SUMMARY:BVB Honeybees vs. It's About To Get Messi
DESCRIPTION:It's About To Get Messi vs. BVB HoneybeesPlus d'info : #258
X-ALT-DESC;FMTTYPE=text/html:<!DOCTYPE HTML PUBLIC "-//W3C//DTD HTML 3.2//E
	N">\n<HTML>\n<HEAD>\n<TITLE></TITLE>\n</HEAD>\n<BODY>\n<h3>It's About To Ge
	t Messi vs. BVB Honeybees</h3>Plus d'info : <a href="https://www.golnetwork
	.com/game/v/31962/">#258</a>\n\n</BODY>\n</HTML>
STATUS:CONFIRMED
CLASS:PUBLIC
URL:https://www.golnetwork.com/game/v/31962/
X-MICROSOFT-CDO-BUSYSTATUS:BUSY
X-MICROSOFT-CDO-IMPORTANCE:1
END:VEVENT
BEGIN:VEVENT
UID:g39b9@games.golnetwork.com
LOCATION:Cherry Beach West 3
CREATED:20130717T142208Z
DTSTART:20130818T232500Z
DTEND:20130819T002500Z
DTSTAMP:20260421T104547Z
SUMMARY:Witness the Fitness vs. BVB Honeybees
DESCRIPTION:BVB Honeybees vs. Witness the FitnessPlus d'info : #215
X-ALT-DESC;FMTTYPE=text/html:<!DOCTYPE HTML PUBLIC "-//W3C//DTD HTML 3.2//E
	N">\n<HTML>\n<HEAD>\n<TITLE></TITLE>\n</HEAD>\n<BODY>\n<h3>BVB Honeybees vs
	. Witness the Fitness</h3>Plus d'info : <a href="https://www.golnetwork.com
	/game/v/31959/">#215</a>\n\n</BODY>\n</HTML>
STATUS:CONFIRMED
CLASS:PUBLIC
URL:https://www.golnetwork.com/game/v/31959/
X-MICROSOFT-CDO-BUSYSTATUS:BUSY
X-MICROSOFT-CDO-IMPORTANCE:1
END:VEVENT
BEGIN:VEVENT
UID:g39b1@games.golnetwork.com
LOCATION:Cherry Beach West 1
CREATED:20130717T142208Z
DTSTART:20130811T232500Z
DTEND:20130812T002500Z
DTSTAMP:20260421T104547Z
SUMMARY:F In Awful vs. BVB Honeybees
DESCRIPTION:BVB Honeybees vs. F In AwfulPlus d'info : #167
X-ALT-DESC;FMTTYPE=text/html:<!DOCTYPE HTML PUBLIC "-//W3C//DTD HTML 3.2//E
	N">\n<HTML>\n<HEAD>\n<TITLE></TITLE>\n</HEAD>\n<BODY>\n<h3>BVB Honeybees vs
	. F In Awful</h3>Plus d'info : <a href="https://www.golnetwork.com/game/v/3
	1955/">#167</a>\n\n</BODY>\n</HTML>
STATUS:CONFIRMED
CLASS:PUBLIC
URL:https://www.golnetwork.com/game/v/31955/
X-MICROSOFT-CDO-BUSYSTATUS:BUSY
X-MICROSOFT-CDO-IMPORTANCE:1
END:VEVENT
BEGIN:VEVENT
UID:g39ak@games.golnetwork.com
LOCATION:Cherry Beach West 3
CREATED:20130717T142208Z
DTSTART:20130804T222500Z
DTEND:20130804T232500Z
DTSTAMP:20260421T104547Z
SUMMARY:FC Dnipro vs. BVB Honeybees
DESCRIPTION:BVB Honeybees vs. FC DniproPlus d'info : #125
X-ALT-DESC;FMTTYPE=text/html:<!DOCTYPE HTML PUBLIC "-//W3C//DTD HTML 3.2//E
	N">\n<HTML>\n<HEAD>\n<TITLE></TITLE>\n</HEAD>\n<BODY>\n<h3>BVB Honeybees vs
	. FC Dnipro</h3>Plus d'info : <a href="https://www.golnetwork.com/game/v/31
	951/">#125</a>\n\n</BODY>\n</HTML>
STATUS:CONFIRMED
CLASS:PUBLIC
URL:https://www.golnetwork.com/game/v/31951/
X-MICROSOFT-CDO-BUSYSTATUS:BUSY
X-MICROSOFT-CDO-IMPORTANCE:1
END:VEVENT
BEGIN:VEVENT
UID:g39ag@games.golnetwork.com
LOCATION:Cherry Beach West 1
CREATED:20130717T142208Z
DTSTART:20130728T232500Z
DTEND:20130729T002500Z
DTSTAMP:20260421T104547Z
SUMMARY:BVB Honeybees vs. It's About To Get Messi
DESCRIPTION:It's About To Get Messi vs. BVB HoneybeesPlus d'info : #90
X-ALT-DESC;FMTTYPE=text/html:<!DOCTYPE HTML PUBLIC "-//W3C//DTD HTML 3.2//E
	N">\n<HTML>\n<HEAD>\n<TITLE></TITLE>\n</HEAD>\n<BODY>\n<h3>It's About To Ge
	t Messi vs. BVB Honeybees</h3>Plus d'info : <a href="https://www.golnetwork
	.com/game/v/31949/">#90</a>\n\n</BODY>\n</HTML>
STATUS:CONFIRMED
CLASS:PUBLIC
URL:https://www.golnetwork.com/game/v/31949/
X-MICROSOFT-CDO-BUSYSTATUS:BUSY
X-MICROSOFT-CDO-IMPORTANCE:1
END:VEVENT
BEGIN:VEVENT
UID:g39ac@games.golnetwork.com
LOCATION:Cherry Beach West 3
CREATED:20130717T142208Z
DTSTART:20130721T232500Z
DTEND:20130722T002500Z
DTSTAMP:20260421T104547Z
SUMMARY:BVB Honeybees vs. PSG
DESCRIPTION:PSG vs. BVB HoneybeesPlus d'info : #49
X-ALT-DESC;FMTTYPE=text/html:<!DOCTYPE HTML PUBLIC "-//W3C//DTD HTML 3.2//E
	N">\n<HTML>\n<HEAD>\n<TITLE></TITLE>\n</HEAD>\n<BODY>\n<h3>PSG vs. BVB Hone
	ybees</h3>Plus d'info : <a href="https://www.golnetwork.com/game/v/31947/">
	#49</a>\n\n</BODY>\n</HTML>
STATUS:CONFIRMED
CLASS:PUBLIC
URL:https://www.golnetwork.com/game/v/31947/
X-MICROSOFT-CDO-BUSYSTATUS:BUSY
X-MICROSOFT-CDO-IMPORTANCE:1
END:VEVENT
END:VCALENDAR
