BEGIN:VCALENDAR
PRODID:-//gdesolutions.com//MV Framework 1.0.0.1607 Calendar//EN
VERSION:2.0
METHOD:PUBLISH
CALSCALE:GREGORIAN
BEGIN:VEVENT
UID:g3aa5@games.golnetwork.com
LOCATION:Central Tech - Field 2
GEO:43.6637272;-79.4087613
CREATED:20130724T214154Z
DTSTART:20130910T220000Z
DTEND:20130910T230000Z
DTSTAMP:20260420T024758Z
SUMMARY:Molson FC vs. No Merci
DESCRIPTION:No Merci vs. Molson FCPlus d'info : R#75
X-ALT-DESC;FMTTYPE=text/html:<!DOCTYPE HTML PUBLIC "-//W3C//DTD HTML 3.2//E
	N">\n<HTML>\n<HEAD>\n<TITLE></TITLE>\n</HEAD>\n<BODY>\n<h3>No Merci vs. Mol
	son FC</h3>Plus d'info : <a href="https://www.golnetwork.com/game/v/32308/"
	>R#75</a>\n\n</BODY>\n</HTML>
STATUS:CONFIRMED
CLASS:PUBLIC
URL:https://www.golnetwork.com/game/v/32308/
X-MICROSOFT-CDO-BUSYSTATUS:BUSY
X-MICROSOFT-CDO-IMPORTANCE:1
END:VEVENT
BEGIN:VEVENT
UID:g39n5@games.golnetwork.com
LOCATION:Central Tech - Field 2
GEO:43.6637272;-79.4087613
CREATED:20130718T191130Z
DTSTART:20130903T230000Z
DTEND:20130904T000000Z
DTSTAMP:20260420T024758Z
SUMMARY:Molson FC vs. Red Menace FC
DESCRIPTION:Red Menace FC vs. Molson FCPlus d'info : #338
X-ALT-DESC;FMTTYPE=text/html:<!DOCTYPE HTML PUBLIC "-//W3C//DTD HTML 3.2//E
	N">\n<HTML>\n<HEAD>\n<TITLE></TITLE>\n</HEAD>\n<BODY>\n<h3>Red Menace FC vs
	. Molson FC</h3>Plus d'info : <a href="https://www.golnetwork.com/game/v/32
	119/">#338</a>\n\n</BODY>\n</HTML>
STATUS:CONFIRMED
CLASS:PUBLIC
URL:https://www.golnetwork.com/game/v/32119/
X-MICROSOFT-CDO-BUSYSTATUS:BUSY
X-MICROSOFT-CDO-IMPORTANCE:1
END:VEVENT
BEGIN:VEVENT
UID:g38ed@games.golnetwork.com
LOCATION:Central Tech - Field 1
GEO:43.6637272;-79.4087613
CREATED:20130711T192626Z
DTSTART:20130827T230000Z
DTEND:20130828T000000Z
DTSTAMP:20260420T024758Z
SUMMARY:Molson FC vs. Purple Haze
DESCRIPTION:Purple Haze vs. Molson FCPlus d'info : #309
X-ALT-DESC;FMTTYPE=text/html:<!DOCTYPE HTML PUBLIC "-//W3C//DTD HTML 3.2//E
	N">\n<HTML>\n<HEAD>\n<TITLE></TITLE>\n</HEAD>\n<BODY>\n<h3>Purple Haze vs. 
	Molson FC</h3>Plus d'info : <a href="https://www.golnetwork.com/game/v/3163
	7/">#309</a>\n\n</BODY>\n</HTML>
STATUS:CONFIRMED
CLASS:PUBLIC
URL:https://www.golnetwork.com/game/v/31637/
X-MICROSOFT-CDO-BUSYSTATUS:BUSY
X-MICROSOFT-CDO-IMPORTANCE:1
END:VEVENT
BEGIN:VEVENT
UID:g38e3@games.golnetwork.com
LOCATION:Central Tech - Field 1
GEO:43.6637272;-79.4087613
CREATED:20130711T192626Z
DTSTART:20130820T230000Z
DTEND:20130821T000000Z
DTSTAMP:20260420T024758Z
SUMMARY:Molson FC vs. FC Insurgency
DESCRIPTION:FC Insurgency vs. Molson FCPlus d'info : #267
X-ALT-DESC;FMTTYPE=text/html:<!DOCTYPE HTML PUBLIC "-//W3C//DTD HTML 3.2//E
	N">\n<HTML>\n<HEAD>\n<TITLE></TITLE>\n</HEAD>\n<BODY>\n<h3>FC Insurgency vs
	. Molson FC</h3>Plus d'info : <a href="https://www.golnetwork.com/game/v/31
	632/">#267</a>\n\n</BODY>\n</HTML>
STATUS:CONFIRMED
CLASS:PUBLIC
URL:https://www.golnetwork.com/game/v/31632/
X-MICROSOFT-CDO-BUSYSTATUS:BUSY
X-MICROSOFT-CDO-IMPORTANCE:1
END:VEVENT
BEGIN:VEVENT
UID:g39mc@games.golnetwork.com
LOCATION:Central Tech - Field 2
GEO:43.6637272;-79.4087613
CREATED:20130718T191042Z
DTSTART:20130813T230000Z
DTEND:20130814T000000Z
DTSTAMP:20260420T024758Z
SUMMARY:FUFC vs. Molson FC
DESCRIPTION:Molson FC vs. FUFCPlus d'info : #224
X-ALT-DESC;FMTTYPE=text/html:<!DOCTYPE HTML PUBLIC "-//W3C//DTD HTML 3.2//E
	N">\n<HTML>\n<HEAD>\n<TITLE></TITLE>\n</HEAD>\n<BODY>\n<h3>Molson FC vs. FU
	FC</h3>Plus d'info : <a href="https://www.golnetwork.com/game/v/32109/">#22
	4</a>\n\n</BODY>\n</HTML>
STATUS:CONFIRMED
CLASS:PUBLIC
URL:https://www.golnetwork.com/game/v/32109/
X-MICROSOFT-CDO-BUSYSTATUS:BUSY
X-MICROSOFT-CDO-IMPORTANCE:1
END:VEVENT
BEGIN:VEVENT
UID:g38dk@games.golnetwork.com
LOCATION:Central Tech - Field 1
GEO:43.6637272;-79.4087613
CREATED:20130711T192626Z
DTSTART:20130806T230000Z
DTEND:20130807T000000Z
DTSTAMP:20260420T024758Z
SUMMARY:Molson FC vs. FC Beercelona
DESCRIPTION:FC Beercelona vs. Molson FCPlus d'info : #172
X-ALT-DESC;FMTTYPE=text/html:<!DOCTYPE HTML PUBLIC "-//W3C//DTD HTML 3.2//E
	N">\n<HTML>\n<HEAD>\n<TITLE></TITLE>\n</HEAD>\n<BODY>\n<h3>FC Beercelona vs
	. Molson FC</h3>Plus d'info : <a href="https://www.golnetwork.com/game/v/31
	627/">#172</a>\n\n</BODY>\n</HTML>
STATUS:CONFIRMED
CLASS:PUBLIC
URL:https://www.golnetwork.com/game/v/31627/
X-MICROSOFT-CDO-BUSYSTATUS:BUSY
X-MICROSOFT-CDO-IMPORTANCE:1
END:VEVENT
BEGIN:VEVENT
UID:g39m0@games.golnetwork.com
LOCATION:Central Tech - Field 2
GEO:43.6637272;-79.4087613
CREATED:20130718T191017Z
DTSTART:20130731T000000Z
DTEND:20130731T010000Z
DTSTAMP:20260420T024758Z
SUMMARY:Molson FC vs. Papa Barone & the Good Time Gang
DESCRIPTION:Papa Barone & the Good Time Gang vs. Molson FCPlus d'info : #13
	1
X-ALT-DESC;FMTTYPE=text/html:<!DOCTYPE HTML PUBLIC "-//W3C//DTD HTML 3.2//E
	N">\n<HTML>\n<HEAD>\n<TITLE></TITLE>\n</HEAD>\n<BODY>\n<h3>Papa Barone & th
	e Good Time Gang vs. Molson FC</h3>Plus d'info : <a href="https://www.golne
	twork.com/game/v/32103/">#131</a>\n\n</BODY>\n</HTML>
STATUS:CONFIRMED
CLASS:PUBLIC
URL:https://www.golnetwork.com/game/v/32103/
X-MICROSOFT-CDO-BUSYSTATUS:BUSY
X-MICROSOFT-CDO-IMPORTANCE:1
END:VEVENT
BEGIN:VEVENT
UID:g39lp@games.golnetwork.com
LOCATION:Central Tech - Field 2
GEO:43.6637272;-79.4087613
CREATED:20130718T191013Z
DTSTART:20130724T000000Z
DTEND:20130724T010000Z
DTSTAMP:20260420T024758Z
SUMMARY:Molson FC vs. Purple Drank
DESCRIPTION:Purple Drank vs. Molson FCPlus d'info : #84
X-ALT-DESC;FMTTYPE=text/html:<!DOCTYPE HTML PUBLIC "-//W3C//DTD HTML 3.2//E
	N">\n<HTML>\n<HEAD>\n<TITLE></TITLE>\n</HEAD>\n<BODY>\n<h3>Purple Drank vs.
	 Molson FC</h3>Plus d'info : <a href="https://www.golnetwork.com/game/v/321
	02/">#84</a>\n\n</BODY>\n</HTML>
STATUS:CONFIRMED
CLASS:PUBLIC
URL:https://www.golnetwork.com/game/v/32102/
X-MICROSOFT-CDO-BUSYSTATUS:BUSY
X-MICROSOFT-CDO-IMPORTANCE:1
END:VEVENT
END:VCALENDAR
