BEGIN:VCALENDAR
PRODID:-//gdesolutions.com//MV Framework 1.0.0.1607 Calendar//EN
VERSION:2.0
METHOD:PUBLISH
CALSCALE:GREGORIAN
BEGIN:VEVENT
UID:g7gn2@games.golnetwork.com
LOCATION:McCarthy Park Field #3
GEO:45.3518541;-75.6719009
CREATED:20150824T142950Z
DTSTART:20150827T223000Z
DTEND:20150828T000000Z
DTSTAMP:20260420T030713Z
SUMMARY:Just For Kicks vs. Cleat Elite
DESCRIPTION:Cleat Elite vs. Just For KicksPlus d'info : #194
X-ALT-DESC;FMTTYPE=text/html:<!DOCTYPE HTML PUBLIC "-//W3C//DTD HTML 3.2//E
	N">\n<HTML>\n<HEAD>\n<TITLE></TITLE>\n</HEAD>\n<BODY>\n<h3>Cleat Elite vs. 
	Just For Kicks</h3>Plus d'info : <a href="https://www.golnetwork.com/game/v
	/74035/">#194</a>\n\n</BODY>\n</HTML>
STATUS:CONFIRMED
CLASS:PUBLIC
URL:https://www.golnetwork.com/game/v/74035/
X-MICROSOFT-CDO-BUSYSTATUS:BUSY
X-MICROSOFT-CDO-IMPORTANCE:1
END:VEVENT
BEGIN:VEVENT
UID:g7ghk@games.golnetwork.com
LOCATION:Lester B Pearson Field #3
GEO:45.4433016;-75.5957775
CREATED:20150817T175019Z
DTSTART:20150820T224500Z
DTEND:20150821T001500Z
DTSTAMP:20260420T030713Z
SUMMARY:Just For Kicks vs. Cleat Elite
DESCRIPTION:Cleat Elite vs. Just For KicksPlus d'info : #185
X-ALT-DESC;FMTTYPE=text/html:<!DOCTYPE HTML PUBLIC "-//W3C//DTD HTML 3.2//E
	N">\n<HTML>\n<HEAD>\n<TITLE></TITLE>\n</HEAD>\n<BODY>\n<h3>Cleat Elite vs. 
	Just For Kicks</h3>Plus d'info : <a href="https://www.golnetwork.com/game/v
	/73963/">#185</a>\n\n</BODY>\n</HTML>
STATUS:RESCHEDULED
CLASS:PUBLIC
URL:https://www.golnetwork.com/game/v/73963/
X-MICROSOFT-CDO-BUSYSTATUS:BUSY
X-MICROSOFT-CDO-IMPORTANCE:1
END:VEVENT
BEGIN:VEVENT
UID:g7dqg@games.golnetwork.com
LOCATION:Lester B Pearson Field 2
GEO:45.4429892;-75.5963901
CREATED:20150715T182252Z
DTSTART:20150723T224500Z
DTEND:20150724T001500Z
DTSTAMP:20260420T030713Z
SUMMARY:Just For Kicks vs. 50 Shades of Pink
DESCRIPTION:50 Shades of Pink vs. Just For KicksPlus d'info : #17
X-ALT-DESC;FMTTYPE=text/html:<!DOCTYPE HTML PUBLIC "-//W3C//DTD HTML 3.2//E
	N">\n<HTML>\n<HEAD>\n<TITLE></TITLE>\n</HEAD>\n<BODY>\n<h3>50 Shades of Pin
	k vs. Just For Kicks</h3>Plus d'info : <a href="https://www.golnetwork.com/
	game/v/72989/">#17</a>\n\n</BODY>\n</HTML>
STATUS:CONFIRMED
CLASS:PUBLIC
URL:https://www.golnetwork.com/game/v/72989/
X-MICROSOFT-CDO-BUSYSTATUS:BUSY
X-MICROSOFT-CDO-IMPORTANCE:1
END:VEVENT
BEGIN:VEVENT
UID:g7dlh@games.golnetwork.com
LOCATION:Louis Riel #3
GEO:45.4410208;-75.5715394
CREATED:20150714T185750Z
DTSTART:20150717T013000Z
DTEND:20150717T030000Z
DTSTAMP:20260420T030713Z
SUMMARY:The Kickers vs. Just For Kicks
DESCRIPTION:Just For Kicks vs. The KickersPlus d'info : #123
X-ALT-DESC;FMTTYPE=text/html:<!DOCTYPE HTML PUBLIC "-//W3C//DTD HTML 3.2//E
	N">\n<HTML>\n<HEAD>\n<TITLE></TITLE>\n</HEAD>\n<BODY>\n<h3>Just For Kicks v
	s. The Kickers</h3>Plus d'info : <a href="https://www.golnetwork.com/game/v
	/72922/">#123</a>\n\n</BODY>\n</HTML>
STATUS:CONFIRMED
CLASS:PUBLIC
URL:https://www.golnetwork.com/game/v/72922/
X-MICROSOFT-CDO-BUSYSTATUS:BUSY
X-MICROSOFT-CDO-IMPORTANCE:1
END:VEVENT
BEGIN:VEVENT
UID:g7b1l@games.golnetwork.com
LOCATION:Louis Riel #3
GEO:45.4410208;-75.5715394
CREATED:20150708T053816Z
DTSTART:20150710T000000Z
DTEND:20150710T013000Z
DTSTAMP:20260420T030713Z
SUMMARY:Just For Kicks vs. Accountants United
DESCRIPTION:Accountants United vs. Just For KicksPlus d'info : #105
X-ALT-DESC;FMTTYPE=text/html:<!DOCTYPE HTML PUBLIC "-//W3C//DTD HTML 3.2//E
	N">\n<HTML>\n<HEAD>\n<TITLE></TITLE>\n</HEAD>\n<BODY>\n<h3>Accountants Unit
	ed vs. Just For Kicks</h3>Plus d'info : <a href="https://www.golnetwork.com
	/game/v/71925/">#105</a>\n\n</BODY>\n</HTML>
STATUS:CONFIRMED
CLASS:PUBLIC
URL:https://www.golnetwork.com/game/v/71925/
X-MICROSOFT-CDO-BUSYSTATUS:BUSY
X-MICROSOFT-CDO-IMPORTANCE:1
END:VEVENT
BEGIN:VEVENT
UID:g78no@games.golnetwork.com
LOCATION:Louis Riel #2
GEO:45.4410208;-75.5715394
CREATED:20150622T201106Z
DTSTART:20150703T000000Z
DTEND:20150703T013000Z
DTSTAMP:20260420T030713Z
SUMMARY:Just For Kicks vs. Fusion
DESCRIPTION:Fusion vs. Just For KicksPlus d'info : #27
X-ALT-DESC;FMTTYPE=text/html:<!DOCTYPE HTML PUBLIC "-//W3C//DTD HTML 3.2//E
	N">\n<HTML>\n<HEAD>\n<TITLE></TITLE>\n</HEAD>\n<BODY>\n<h3>Fusion vs. Just 
	For Kicks</h3>Plus d'info : <a href="https://www.golnetwork.com/game/v/7113
	0/">#27</a>\n\n</BODY>\n</HTML>
STATUS:CONFIRMED
CLASS:PUBLIC
URL:https://www.golnetwork.com/game/v/71130/
X-MICROSOFT-CDO-BUSYSTATUS:BUSY
X-MICROSOFT-CDO-IMPORTANCE:1
END:VEVENT
BEGIN:VEVENT
UID:g78ni@games.golnetwork.com
LOCATION:Louis Riel #2
GEO:45.4410208;-75.5715394
CREATED:20150622T201106Z
DTSTART:20150702T223000Z
DTEND:20150703T000000Z
DTSTAMP:20260420T030713Z
SUMMARY:Just For Kicks vs. Fluorescent Platypuses
DESCRIPTION:Fluorescent Platypuses vs. Just For KicksPlus d'info : #24
X-ALT-DESC;FMTTYPE=text/html:<!DOCTYPE HTML PUBLIC "-//W3C//DTD HTML 3.2//E
	N">\n<HTML>\n<HEAD>\n<TITLE></TITLE>\n</HEAD>\n<BODY>\n<h3>Fluorescent Plat
	ypuses vs. Just For Kicks</h3>Plus d'info : <a href="https://www.golnetwork
	.com/game/v/71127/">#24</a>\n\n</BODY>\n</HTML>
STATUS:CONFIRMED
CLASS:PUBLIC
URL:https://www.golnetwork.com/game/v/71127/
X-MICROSOFT-CDO-BUSYSTATUS:BUSY
X-MICROSOFT-CDO-IMPORTANCE:1
END:VEVENT
BEGIN:VEVENT
UID:g78n4@games.golnetwork.com
LOCATION:Lester B Pearson Field 2
GEO:45.4429892;-75.5963901
CREATED:20150622T201105Z
DTSTART:20150625T224500Z
DTEND:20150626T001500Z
DTSTAMP:20260420T030713Z
SUMMARY:Just For Kicks vs. Real Ale Madrid
DESCRIPTION:Real Ale Madrid vs. Just For KicksPlus d'info : #17
X-ALT-DESC;FMTTYPE=text/html:<!DOCTYPE HTML PUBLIC "-//W3C//DTD HTML 3.2//E
	N">\n<HTML>\n<HEAD>\n<TITLE></TITLE>\n</HEAD>\n<BODY>\n<h3>Real Ale Madrid 
	vs. Just For Kicks</h3>Plus d'info : <a href="https://www.golnetwork.com/ga
	me/v/71120/">#17</a>\n\n</BODY>\n</HTML>
STATUS:CONFIRMED
CLASS:PUBLIC
URL:https://www.golnetwork.com/game/v/71120/
X-MICROSOFT-CDO-BUSYSTATUS:BUSY
X-MICROSOFT-CDO-IMPORTANCE:1
END:VEVENT
BEGIN:VEVENT
UID:g781m@games.golnetwork.com
LOCATION:Louis Riel #3
GEO:45.4410208;-75.5715394
CREATED:20150614T162937Z
DTSTART:20150619T013000Z
DTEND:20150619T030000Z
DTSTAMP:20260420T030713Z
SUMMARY:Junkyard Dogs vs. Just For Kicks
DESCRIPTION:Just For Kicks vs. Junkyard DogsPlus d'info : #61
X-ALT-DESC;FMTTYPE=text/html:<!DOCTYPE HTML PUBLIC "-//W3C//DTD HTML 3.2//E
	N">\n<HTML>\n<HEAD>\n<TITLE></TITLE>\n</HEAD>\n<BODY>\n<h3>Just For Kicks v
	s. Junkyard Dogs</h3>Plus d'info : <a href="https://www.golnetwork.com/game
	/v/70832/">#61</a>\n\n</BODY>\n</HTML>
STATUS:CONFIRMED
CLASS:PUBLIC
URL:https://www.golnetwork.com/game/v/70832/
X-MICROSOFT-CDO-BUSYSTATUS:BUSY
X-MICROSOFT-CDO-IMPORTANCE:1
END:VEVENT
BEGIN:VEVENT
UID:g77nj@games.golnetwork.com
LOCATION:Louis Riel #1
GEO:45.4410208;-75.5715394
CREATED:20150609T164043Z
DTSTART:20150612T000000Z
DTEND:20150612T013000Z
DTSTAMP:20260420T030713Z
SUMMARY:Just For Kicks vs. JFC
DESCRIPTION:JFC vs. Just For KicksPlus d'info : #41
X-ALT-DESC;FMTTYPE=text/html:<!DOCTYPE HTML PUBLIC "-//W3C//DTD HTML 3.2//E
	N">\n<HTML>\n<HEAD>\n<TITLE></TITLE>\n</HEAD>\n<BODY>\n<h3>JFC vs. Just For
	 Kicks</h3>Plus d'info : <a href="https://www.golnetwork.com/game/v/70763/"
	>#41</a>\n\n</BODY>\n</HTML>
STATUS:CONFIRMED
CLASS:PUBLIC
URL:https://www.golnetwork.com/game/v/70763/
X-MICROSOFT-CDO-BUSYSTATUS:BUSY
X-MICROSOFT-CDO-IMPORTANCE:1
END:VEVENT
BEGIN:VEVENT
UID:g77nf@games.golnetwork.com
LOCATION:Louis Riel #2
GEO:45.4410208;-75.5715394
CREATED:20150609T162402Z
DTSTART:20150611T223000Z
DTEND:20150612T000000Z
DTSTAMP:20260420T030713Z
SUMMARY:The Kickers vs. Just For Kicks
DESCRIPTION:Just For Kicks vs. The KickersPlus d'info : #32
X-ALT-DESC;FMTTYPE=text/html:<!DOCTYPE HTML PUBLIC "-//W3C//DTD HTML 3.2//E
	N">\n<HTML>\n<HEAD>\n<TITLE></TITLE>\n</HEAD>\n<BODY>\n<h3>Just For Kicks v
	s. The Kickers</h3>Plus d'info : <a href="https://www.golnetwork.com/game/v
	/70761/">#32</a>\n\n</BODY>\n</HTML>
STATUS:CONFIRMED
CLASS:PUBLIC
URL:https://www.golnetwork.com/game/v/70761/
X-MICROSOFT-CDO-BUSYSTATUS:BUSY
X-MICROSOFT-CDO-IMPORTANCE:1
END:VEVENT
END:VCALENDAR
