BEGIN:VCALENDAR
PRODID:-//gdesolutions.com//MV Framework 1.0.0.1607 Calendar//EN
VERSION:2.0
METHOD:PUBLISH
CALSCALE:GREGORIAN
BEGIN:VEVENT
UID:g9h75@games.golnetwork.com
LOCATION:Cherry Beach East 2
CREATED:20160920T174358Z
DTSTART:20161102T030000Z
DTEND:20161102T040000Z
DTSTAMP:20260422T173504Z
SUMMARY:Capybaras vs. Sharp Shooters
DESCRIPTION:Sharp Shooters vs. CapybarasPlus d'info : #149
X-ALT-DESC;FMTTYPE=text/html:<!DOCTYPE HTML PUBLIC "-//W3C//DTD HTML 3.2//E
	N">\n<HTML>\n<HEAD>\n<TITLE></TITLE>\n</HEAD>\n<BODY>\n<h3>Sharp Shooters v
	s. Capybaras</h3>Plus d'info : <a href="https://www.golnetwork.com/game/v/9
	3868/">#149</a>\n\n</BODY>\n</HTML>
STATUS:CONFIRMED
CLASS:PUBLIC
URL:https://www.golnetwork.com/game/v/93868/
X-MICROSOFT-CDO-BUSYSTATUS:BUSY
X-MICROSOFT-CDO-IMPORTANCE:1
END:VEVENT
BEGIN:VEVENT
UID:g9h6g@games.golnetwork.com
LOCATION:Cherry Beach East 2
CREATED:20160920T174358Z
DTSTART:20161026T010000Z
DTEND:20161026T020000Z
DTSTAMP:20260422T173504Z
SUMMARY:Sharp Shooters vs. Little Kickers FC
DESCRIPTION:Little Kickers FC vs. Sharp ShootersPlus d'info : #88
X-ALT-DESC;FMTTYPE=text/html:<!DOCTYPE HTML PUBLIC "-//W3C//DTD HTML 3.2//E
	N">\n<HTML>\n<HEAD>\n<TITLE></TITLE>\n</HEAD>\n<BODY>\n<h3>Little Kickers F
	C vs. Sharp Shooters</h3>Plus d'info : <a href="https://www.golnetwork.com/
	game/v/93860/">#88</a>\n\n</BODY>\n</HTML>
STATUS:CONFIRMED
CLASS:PUBLIC
URL:https://www.golnetwork.com/game/v/93860/
X-MICROSOFT-CDO-BUSYSTATUS:BUSY
X-MICROSOFT-CDO-IMPORTANCE:1
END:VEVENT
BEGIN:VEVENT
UID:g9h6o@games.golnetwork.com
LOCATION:Cherry Beach East 2
CREATED:20160920T174358Z
DTSTART:20161019T030000Z
DTEND:20161019T040000Z
DTSTAMP:20260422T173504Z
SUMMARY:Sharp Shooters vs. FC Habanero
DESCRIPTION:FC Habanero vs. Sharp ShootersPlus d'info : #65
X-ALT-DESC;FMTTYPE=text/html:<!DOCTYPE HTML PUBLIC "-//W3C//DTD HTML 3.2//E
	N">\n<HTML>\n<HEAD>\n<TITLE></TITLE>\n</HEAD>\n<BODY>\n<h3>FC Habanero vs. 
	Sharp Shooters</h3>Plus d'info : <a href="https://www.golnetwork.com/game/v
	/93864/">#65</a>\n\n</BODY>\n</HTML>
STATUS:CONFIRMED
CLASS:PUBLIC
URL:https://www.golnetwork.com/game/v/93864/
X-MICROSOFT-CDO-BUSYSTATUS:BUSY
X-MICROSOFT-CDO-IMPORTANCE:1
END:VEVENT
BEGIN:VEVENT
UID:g9h6c@games.golnetwork.com
LOCATION:Cherry Beach East 2
CREATED:20160920T174358Z
DTSTART:20161012T020000Z
DTEND:20161012T030000Z
DTSTAMP:20260422T173504Z
SUMMARY:Capybaras vs. Sharp Shooters
DESCRIPTION:Sharp Shooters vs. CapybarasPlus d'info : #40
X-ALT-DESC;FMTTYPE=text/html:<!DOCTYPE HTML PUBLIC "-//W3C//DTD HTML 3.2//E
	N">\n<HTML>\n<HEAD>\n<TITLE></TITLE>\n</HEAD>\n<BODY>\n<h3>Sharp Shooters v
	s. Capybaras</h3>Plus d'info : <a href="https://www.golnetwork.com/game/v/9
	3858/">#40</a>\n\n</BODY>\n</HTML>
STATUS:CONFIRMED
CLASS:PUBLIC
URL:https://www.golnetwork.com/game/v/93858/
X-MICROSOFT-CDO-BUSYSTATUS:BUSY
X-MICROSOFT-CDO-IMPORTANCE:1
END:VEVENT
BEGIN:VEVENT
UID:g9h6a@games.golnetwork.com
LOCATION:Cherry Beach East 2
CREATED:20160920T174358Z
DTSTART:20161012T010000Z
DTEND:20161012T020000Z
DTSTAMP:20260422T173504Z
SUMMARY:Radioactive Smurfs vs. Sharp Shooters
DESCRIPTION:Sharp Shooters vs. Radioactive SmurfsPlus d'info : #38
X-ALT-DESC;FMTTYPE=text/html:<!DOCTYPE HTML PUBLIC "-//W3C//DTD HTML 3.2//E
	N">\n<HTML>\n<HEAD>\n<TITLE></TITLE>\n</HEAD>\n<BODY>\n<h3>Sharp Shooters v
	s. Radioactive Smurfs</h3>Plus d'info : <a href="https://www.golnetwork.com
	/game/v/93857/">#38</a>\n\n</BODY>\n</HTML>
STATUS:CONFIRMED
CLASS:PUBLIC
URL:https://www.golnetwork.com/game/v/93857/
X-MICROSOFT-CDO-BUSYSTATUS:BUSY
X-MICROSOFT-CDO-IMPORTANCE:1
END:VEVENT
BEGIN:VEVENT
UID:g9h68@games.golnetwork.com
LOCATION:Cherry Beach East 2
CREATED:20160920T174358Z
DTSTART:20161005T010000Z
DTEND:20161005T020000Z
DTSTAMP:20260422T173504Z
SUMMARY:FC Habanero vs. Sharp Shooters
DESCRIPTION:Sharp Shooters vs. FC HabaneroPlus d'info : #26
X-ALT-DESC;FMTTYPE=text/html:<!DOCTYPE HTML PUBLIC "-//W3C//DTD HTML 3.2//E
	N">\n<HTML>\n<HEAD>\n<TITLE></TITLE>\n</HEAD>\n<BODY>\n<h3>Sharp Shooters v
	s. FC Habanero</h3>Plus d'info : <a href="https://www.golnetwork.com/game/v
	/93856/">#26</a>\n\n</BODY>\n</HTML>
STATUS:CONFIRMED
CLASS:PUBLIC
URL:https://www.golnetwork.com/game/v/93856/
X-MICROSOFT-CDO-BUSYSTATUS:BUSY
X-MICROSOFT-CDO-IMPORTANCE:1
END:VEVENT
BEGIN:VEVENT
UID:g9h60@games.golnetwork.com
LOCATION:Cherry Beach East 2
CREATED:20160920T174358Z
DTSTART:20160928T020000Z
DTEND:20160928T030000Z
DTSTAMP:20260422T173504Z
SUMMARY:Little Kickers FC vs. Sharp Shooters
DESCRIPTION:Sharp Shooters vs. Little Kickers FCPlus d'info : #16
X-ALT-DESC;FMTTYPE=text/html:<!DOCTYPE HTML PUBLIC "-//W3C//DTD HTML 3.2//E
	N">\n<HTML>\n<HEAD>\n<TITLE></TITLE>\n</HEAD>\n<BODY>\n<h3>Sharp Shooters v
	s. Little Kickers FC</h3>Plus d'info : <a href="https://www.golnetwork.com/
	game/v/93852/">#16</a>\n\n</BODY>\n</HTML>
STATUS:CONFIRMED
CLASS:PUBLIC
URL:https://www.golnetwork.com/game/v/93852/
X-MICROSOFT-CDO-BUSYSTATUS:BUSY
X-MICROSOFT-CDO-IMPORTANCE:1
END:VEVENT
END:VCALENDAR
