BEGIN:VCALENDAR
PRODID:-//gdesolutions.com//MV Framework 1.0.0.1607 Calendar//EN
VERSION:2.0
METHOD:PUBLISH
CALSCALE:GREGORIAN
BEGIN:VEVENT
UID:g8e35@games.golnetwork.com
LOCATION:Soccer Nation Field (Newmarket SoccerCentre)
GEO:44.0379318;-79.4421489
CREATED:20160115T021312Z
DTSTART:20160406T010000Z
DTEND:20160406T015500Z
DTSTAMP:20260421T171612Z
SUMMARY:Valor FC vs. Bayside Tigers
DESCRIPTION:Bayside Tigers vs. Valor FCPlus d'info : #69
X-ALT-DESC;FMTTYPE=text/html:<!DOCTYPE HTML PUBLIC "-//W3C//DTD HTML 3.2//E
	N">\n<HTML>\n<HEAD>\n<TITLE></TITLE>\n</HEAD>\n<BODY>\n<h3>Bayside Tigers v
	s. Valor FC</h3>Plus d'info : <a href="https://www.golnetwork.com/game/v/82
	879/">#69</a>\n\n</BODY>\n</HTML>
STATUS:CONFIRMED
CLASS:PUBLIC
URL:https://www.golnetwork.com/game/v/82879/
X-MICROSOFT-CDO-BUSYSTATUS:BUSY
X-MICROSOFT-CDO-IMPORTANCE:1
END:VEVENT
BEGIN:VEVENT
UID:g8e2q@games.golnetwork.com
LOCATION:Soccer Nation Field (Newmarket SoccerCentre)
GEO:44.0379318;-79.4421489
CREATED:20160115T021312Z
DTSTART:20160330T020000Z
DTEND:20160330T025500Z
DTSTAMP:20260421T171612Z
SUMMARY:Bayside Tigers vs. S.F.C.
DESCRIPTION:S.F.C. vs. Bayside TigersPlus d'info : #65
X-ALT-DESC;FMTTYPE=text/html:<!DOCTYPE HTML PUBLIC "-//W3C//DTD HTML 3.2//E
	N">\n<HTML>\n<HEAD>\n<TITLE></TITLE>\n</HEAD>\n<BODY>\n<h3>S.F.C. vs. Baysi
	de Tigers</h3>Plus d'info : <a href="https://www.golnetwork.com/game/v/8287
	6/">#65</a>\n\n</BODY>\n</HTML>
STATUS:CONFIRMED
CLASS:PUBLIC
URL:https://www.golnetwork.com/game/v/82876/
X-MICROSOFT-CDO-BUSYSTATUS:BUSY
X-MICROSOFT-CDO-IMPORTANCE:1
END:VEVENT
BEGIN:VEVENT
UID:g8e2k@games.golnetwork.com
LOCATION:Soccer Nation Field (Newmarket SoccerCentre)
GEO:44.0379318;-79.4421489
CREATED:20160115T021312Z
DTSTART:20160323T000000Z
DTEND:20160323T005500Z
DTSTAMP:20260421T171612Z
SUMMARY:Bayside Tigers vs. ABCDE FC
DESCRIPTION:ABCDE FC vs. Bayside TigersPlus d'info : #55
X-ALT-DESC;FMTTYPE=text/html:<!DOCTYPE HTML PUBLIC "-//W3C//DTD HTML 3.2//E
	N">\n<HTML>\n<HEAD>\n<TITLE></TITLE>\n</HEAD>\n<BODY>\n<h3>ABCDE FC vs. Bay
	side Tigers</h3>Plus d'info : <a href="https://www.golnetwork.com/game/v/82
	873/">#55</a>\n\n</BODY>\n</HTML>
STATUS:CONFIRMED
CLASS:PUBLIC
URL:https://www.golnetwork.com/game/v/82873/
X-MICROSOFT-CDO-BUSYSTATUS:BUSY
X-MICROSOFT-CDO-IMPORTANCE:1
END:VEVENT
BEGIN:VEVENT
UID:g8e2e@games.golnetwork.com
LOCATION:Align Healthcare Field (Newmarket SoccerCentre)
GEO:44.0379318;-79.4421489
CREATED:20160115T021312Z
DTSTART:20160316T010000Z
DTEND:20160316T015500Z
DTSTAMP:20260421T171612Z
SUMMARY:Bayside Tigers vs. Ball Busters
DESCRIPTION:Ball Busters vs. Bayside TigersPlus d'info : #52
X-ALT-DESC;FMTTYPE=text/html:<!DOCTYPE HTML PUBLIC "-//W3C//DTD HTML 3.2//E
	N">\n<HTML>\n<HEAD>\n<TITLE></TITLE>\n</HEAD>\n<BODY>\n<h3>Ball Busters vs.
	 Bayside Tigers</h3>Plus d'info : <a href="https://www.golnetwork.com/game/
	v/82870/">#52</a>\n\n</BODY>\n</HTML>
STATUS:CONFIRMED
CLASS:PUBLIC
URL:https://www.golnetwork.com/game/v/82870/
X-MICROSOFT-CDO-BUSYSTATUS:BUSY
X-MICROSOFT-CDO-IMPORTANCE:1
END:VEVENT
BEGIN:VEVENT
UID:g8e26@games.golnetwork.com
LOCATION:Soccer Nation Field (Newmarket SoccerCentre)
GEO:44.0379318;-79.4421489
CREATED:20160115T021312Z
DTSTART:20160309T010000Z
DTEND:20160309T015500Z
DTSTAMP:20260421T171612Z
SUMMARY:BFC vs. Bayside Tigers
DESCRIPTION:Bayside Tigers vs. BFCPlus d'info : #43
X-ALT-DESC;FMTTYPE=text/html:<!DOCTYPE HTML PUBLIC "-//W3C//DTD HTML 3.2//E
	N">\n<HTML>\n<HEAD>\n<TITLE></TITLE>\n</HEAD>\n<BODY>\n<h3>Bayside Tigers v
	s. BFC</h3>Plus d'info : <a href="https://www.golnetwork.com/game/v/82866/"
	>#43</a>\n\n</BODY>\n</HTML>
STATUS:CONFIRMED
CLASS:PUBLIC
URL:https://www.golnetwork.com/game/v/82866/
X-MICROSOFT-CDO-BUSYSTATUS:BUSY
X-MICROSOFT-CDO-IMPORTANCE:1
END:VEVENT
BEGIN:VEVENT
UID:g8e1n@games.golnetwork.com
LOCATION:Soccer Nation Field (Newmarket SoccerCentre)
GEO:44.0379318;-79.4421489
CREATED:20160115T021312Z
DTSTART:20160302T030000Z
DTEND:20160302T035500Z
DTSTAMP:20260421T171612Z
SUMMARY:SS Balls vs. Bayside Tigers
DESCRIPTION:Bayside Tigers vs. SS BallsPlus d'info : #41
X-ALT-DESC;FMTTYPE=text/html:<!DOCTYPE HTML PUBLIC "-//W3C//DTD HTML 3.2//E
	N">\n<HTML>\n<HEAD>\n<TITLE></TITLE>\n</HEAD>\n<BODY>\n<h3>Bayside Tigers v
	s. SS Balls</h3>Plus d'info : <a href="https://www.golnetwork.com/game/v/82
	861/">#41</a>\n\n</BODY>\n</HTML>
STATUS:CONFIRMED
CLASS:PUBLIC
URL:https://www.golnetwork.com/game/v/82861/
X-MICROSOFT-CDO-BUSYSTATUS:BUSY
X-MICROSOFT-CDO-IMPORTANCE:1
END:VEVENT
BEGIN:VEVENT
UID:g8e1d@games.golnetwork.com
LOCATION:Align Healthcare Field (Newmarket SoccerCentre)
GEO:44.0379318;-79.4421489
CREATED:20160115T021312Z
DTSTART:20160224T010000Z
DTEND:20160224T015500Z
DTSTAMP:20260421T171612Z
SUMMARY:Aeros vs. Bayside Tigers
DESCRIPTION:Bayside Tigers vs. AerosPlus d'info : #32
X-ALT-DESC;FMTTYPE=text/html:<!DOCTYPE HTML PUBLIC "-//W3C//DTD HTML 3.2//E
	N">\n<HTML>\n<HEAD>\n<TITLE></TITLE>\n</HEAD>\n<BODY>\n<h3>Bayside Tigers v
	s. Aeros</h3>Plus d'info : <a href="https://www.golnetwork.com/game/v/82856
	/">#32</a>\n\n</BODY>\n</HTML>
STATUS:CONFIRMED
CLASS:PUBLIC
URL:https://www.golnetwork.com/game/v/82856/
X-MICROSOFT-CDO-BUSYSTATUS:BUSY
X-MICROSOFT-CDO-IMPORTANCE:1
END:VEVENT
BEGIN:VEVENT
UID:g8e13@games.golnetwork.com
LOCATION:Soccer Nation Field (Newmarket SoccerCentre)
GEO:44.0379318;-79.4421489
CREATED:20160115T021312Z
DTSTART:20160217T030000Z
DTEND:20160217T035500Z
DTSTAMP:20260421T171612Z
SUMMARY:Valor FC vs. Bayside Tigers
DESCRIPTION:Bayside Tigers vs. Valor FCPlus d'info : #29
X-ALT-DESC;FMTTYPE=text/html:<!DOCTYPE HTML PUBLIC "-//W3C//DTD HTML 3.2//E
	N">\n<HTML>\n<HEAD>\n<TITLE></TITLE>\n</HEAD>\n<BODY>\n<h3>Bayside Tigers v
	s. Valor FC</h3>Plus d'info : <a href="https://www.golnetwork.com/game/v/82
	851/">#29</a>\n\n</BODY>\n</HTML>
STATUS:CONFIRMED
CLASS:PUBLIC
URL:https://www.golnetwork.com/game/v/82851/
X-MICROSOFT-CDO-BUSYSTATUS:BUSY
X-MICROSOFT-CDO-IMPORTANCE:1
END:VEVENT
BEGIN:VEVENT
UID:g8e0o@games.golnetwork.com
LOCATION:Align Healthcare Field (Newmarket SoccerCentre)
GEO:44.0379318;-79.4421489
CREATED:20160115T021312Z
DTSTART:20160210T010000Z
DTEND:20160210T015500Z
DTSTAMP:20260421T171612Z
SUMMARY:Bayside Tigers vs. S.F.C.
DESCRIPTION:S.F.C. vs. Bayside TigersPlus d'info : #20
X-ALT-DESC;FMTTYPE=text/html:<!DOCTYPE HTML PUBLIC "-//W3C//DTD HTML 3.2//E
	N">\n<HTML>\n<HEAD>\n<TITLE></TITLE>\n</HEAD>\n<BODY>\n<h3>S.F.C. vs. Baysi
	de Tigers</h3>Plus d'info : <a href="https://www.golnetwork.com/game/v/8284
	8/">#20</a>\n\n</BODY>\n</HTML>
STATUS:CONFIRMED
CLASS:PUBLIC
URL:https://www.golnetwork.com/game/v/82848/
X-MICROSOFT-CDO-BUSYSTATUS:BUSY
X-MICROSOFT-CDO-IMPORTANCE:1
END:VEVENT
BEGIN:VEVENT
UID:g8e0i@games.golnetwork.com
LOCATION:Soccer Nation Field (Newmarket SoccerCentre)
GEO:44.0379318;-79.4421489
CREATED:20160115T021312Z
DTSTART:20160203T030000Z
DTEND:20160203T035500Z
DTSTAMP:20260421T171612Z
SUMMARY:Bayside Tigers vs. ABCDE FC
DESCRIPTION:ABCDE FC vs. Bayside TigersPlus d'info : #17
X-ALT-DESC;FMTTYPE=text/html:<!DOCTYPE HTML PUBLIC "-//W3C//DTD HTML 3.2//E
	N">\n<HTML>\n<HEAD>\n<TITLE></TITLE>\n</HEAD>\n<BODY>\n<h3>ABCDE FC vs. Bay
	side Tigers</h3>Plus d'info : <a href="https://www.golnetwork.com/game/v/82
	845/">#17</a>\n\n</BODY>\n</HTML>
STATUS:CONFIRMED
CLASS:PUBLIC
URL:https://www.golnetwork.com/game/v/82845/
X-MICROSOFT-CDO-BUSYSTATUS:BUSY
X-MICROSOFT-CDO-IMPORTANCE:1
END:VEVENT
BEGIN:VEVENT
UID:g8e0c@games.golnetwork.com
LOCATION:Soccer Nation Field (Newmarket SoccerCentre)
GEO:44.0379318;-79.4421489
CREATED:20160115T021312Z
DTSTART:20160127T020000Z
DTEND:20160127T025500Z
DTSTAMP:20260421T171612Z
SUMMARY:Bayside Tigers vs. Ball Busters
DESCRIPTION:Ball Busters vs. Bayside TigersPlus d'info : #9
X-ALT-DESC;FMTTYPE=text/html:<!DOCTYPE HTML PUBLIC "-//W3C//DTD HTML 3.2//E
	N">\n<HTML>\n<HEAD>\n<TITLE></TITLE>\n</HEAD>\n<BODY>\n<h3>Ball Busters vs.
	 Bayside Tigers</h3>Plus d'info : <a href="https://www.golnetwork.com/game/
	v/82842/">#9</a>\n\n</BODY>\n</HTML>
STATUS:CONFIRMED
CLASS:PUBLIC
URL:https://www.golnetwork.com/game/v/82842/
X-MICROSOFT-CDO-BUSYSTATUS:BUSY
X-MICROSOFT-CDO-IMPORTANCE:1
END:VEVENT
BEGIN:VEVENT
UID:g8e04@games.golnetwork.com
LOCATION:Soccer Nation Field (Newmarket SoccerCentre)
GEO:44.0379318;-79.4421489
CREATED:20160115T021311Z
DTSTART:20160120T010000Z
DTEND:20160120T015500Z
DTSTAMP:20260421T171612Z
SUMMARY:BFC vs. Bayside Tigers
DESCRIPTION:Bayside Tigers vs. BFCPlus d'info : #1
X-ALT-DESC;FMTTYPE=text/html:<!DOCTYPE HTML PUBLIC "-//W3C//DTD HTML 3.2//E
	N">\n<HTML>\n<HEAD>\n<TITLE></TITLE>\n</HEAD>\n<BODY>\n<h3>Bayside Tigers v
	s. BFC</h3>Plus d'info : <a href="https://www.golnetwork.com/game/v/82838/"
	>#1</a>\n\n</BODY>\n</HTML>
STATUS:CONFIRMED
CLASS:PUBLIC
URL:https://www.golnetwork.com/game/v/82838/
X-MICROSOFT-CDO-BUSYSTATUS:BUSY
X-MICROSOFT-CDO-IMPORTANCE:1
END:VEVENT
END:VCALENDAR
