BEGIN:VCALENDAR
PRODID:-//gdesolutions.com//MV Framework 1.0.0.1607 Calendar//EN
VERSION:2.0
METHOD:PUBLISH
CALSCALE:GREGORIAN
BEGIN:VEVENT
UID:g6b0h@games.golnetwork.com
LOCATION:Branchaud Briere Field #1
GEO:45.4982732;-75.6421544
CREATED:20141213T220443Z
DTSTART:20141219T000000Z
DTEND:20141219T005000Z
DTSTAMP:20260420T043135Z
SUMMARY:Real Ale Madrid vs. Fluorescent Platypuses
DESCRIPTION:Fluorescent Platypuses vs. Real Ale MadridPlus d'info : #214
X-ALT-DESC;FMTTYPE=text/html:<!DOCTYPE HTML PUBLIC "-//W3C//DTD HTML 3.2//E
	N">\n<HTML>\n<HEAD>\n<TITLE></TITLE>\n</HEAD>\n<BODY>\n<h3>Fluorescent Plat
	ypuses vs. Real Ale Madrid</h3>Plus d'info : <a href="https://www.golnetwor
	k.com/game/v/62068/">#214</a>\n\n</BODY>\n</HTML>
STATUS:CONFIRMED
CLASS:PUBLIC
URL:https://www.golnetwork.com/game/v/62068/
X-MICROSOFT-CDO-BUSYSTATUS:BUSY
X-MICROSOFT-CDO-IMPORTANCE:1
END:VEVENT
BEGIN:VEVENT
UID:g68ff@games.golnetwork.com
LOCATION:Louis Riel #2
GEO:45.4410208;-75.5715394
CREATED:20141107T192928Z
DTSTART:20141121T030000Z
DTEND:20141121T035000Z
DTSTAMP:20260420T043135Z
SUMMARY:Real Ale Madrid vs. Manchesthair United
DESCRIPTION:Manchesthair United vs. Real Ale MadridPlus d'info : #157
X-ALT-DESC;FMTTYPE=text/html:<!DOCTYPE HTML PUBLIC "-//W3C//DTD HTML 3.2//E
	N">\n<HTML>\n<HEAD>\n<TITLE></TITLE>\n</HEAD>\n<BODY>\n<h3>Manchesthair Uni
	ted vs. Real Ale Madrid</h3>Plus d'info : <a href="https://www.golnetwork.c
	om/game/v/61176/">#157</a>\n\n</BODY>\n</HTML>
STATUS:CONFIRMED
CLASS:PUBLIC
URL:https://www.golnetwork.com/game/v/61176/
X-MICROSOFT-CDO-BUSYSTATUS:BUSY
X-MICROSOFT-CDO-IMPORTANCE:1
END:VEVENT
BEGIN:VEVENT
UID:g688q@games.golnetwork.com
LOCATION:Louis Riel #3
GEO:45.4410208;-75.5715394
CREATED:20141105T175441Z
DTSTART:20141114T020000Z
DTEND:20141114T025000Z
DTSTAMP:20260420T043135Z
SUMMARY:Real Ale Madrid vs. 50 Shades of Pink
DESCRIPTION:50 Shades of Pink vs. Real Ale MadridPlus d'info : #138
X-ALT-DESC;FMTTYPE=text/html:<!DOCTYPE HTML PUBLIC "-//W3C//DTD HTML 3.2//E
	N">\n<HTML>\n<HEAD>\n<TITLE></TITLE>\n</HEAD>\n<BODY>\n<h3>50 Shades of Pin
	k vs. Real Ale Madrid</h3>Plus d'info : <a href="https://www.golnetwork.com
	/game/v/61087/">#138</a>\n\n</BODY>\n</HTML>
STATUS:CONFIRMED
CLASS:PUBLIC
URL:https://www.golnetwork.com/game/v/61087/
X-MICROSOFT-CDO-BUSYSTATUS:BUSY
X-MICROSOFT-CDO-IMPORTANCE:1
END:VEVENT
BEGIN:VEVENT
UID:g6839@games.golnetwork.com
LOCATION:Ben Franklin Dome Field 1
GEO:45.3235661;-75.7751222
CREATED:20141104T063606Z
DTSTART:20141107T030000Z
DTEND:20141107T035000Z
DTSTAMP:20260420T043135Z
SUMMARY:Real Ale Madrid vs. Fluorescent Platypuses
DESCRIPTION:Fluorescent Platypuses vs. Real Ale MadridPlus d'info : #8
X-ALT-DESC;FMTTYPE=text/html:<!DOCTYPE HTML PUBLIC "-//W3C//DTD HTML 3.2//E
	N">\n<HTML>\n<HEAD>\n<TITLE></TITLE>\n</HEAD>\n<BODY>\n<h3>Fluorescent Plat
	ypuses vs. Real Ale Madrid</h3>Plus d'info : <a href="https://www.golnetwor
	k.com/game/v/61011/">#8</a>\n\n</BODY>\n</HTML>
STATUS:CONFIRMED
CLASS:PUBLIC
URL:https://www.golnetwork.com/game/v/61011/
X-MICROSOFT-CDO-BUSYSTATUS:BUSY
X-MICROSOFT-CDO-IMPORTANCE:1
END:VEVENT
BEGIN:VEVENT
UID:g66ie@games.golnetwork.com
LOCATION:Branchaud Briere Field #1
GEO:45.4982732;-75.6421544
CREATED:20141021T213655Z
DTSTART:20141031T010000Z
DTEND:20141031T015000Z
DTSTAMP:20260420T043135Z
SUMMARY:Real Ale Madrid vs. Nunchuk Spiders
DESCRIPTION:Nunchuk Spiders vs. Real Ale MadridPlus d'info : #9
X-ALT-DESC;FMTTYPE=text/html:<!DOCTYPE HTML PUBLIC "-//W3C//DTD HTML 3.2//E
	N">\n<HTML>\n<HEAD>\n<TITLE></TITLE>\n</HEAD>\n<BODY>\n<h3>Nunchuk Spiders 
	vs. Real Ale Madrid</h3>Plus d'info : <a href="https://www.golnetwork.com/g
	ame/v/60487/">#9</a>\n\n</BODY>\n</HTML>
STATUS:CONFIRMED
CLASS:PUBLIC
URL:https://www.golnetwork.com/game/v/60487/
X-MICROSOFT-CDO-BUSYSTATUS:BUSY
X-MICROSOFT-CDO-IMPORTANCE:1
END:VEVENT
BEGIN:VEVENT
UID:g63pk@games.golnetwork.com
LOCATION:Louis Riel #3
GEO:45.4410208;-75.5715394
CREATED:20141011T190550Z
DTSTART:20141017T000000Z
DTEND:20141017T005000Z
DTSTAMP:20260420T043135Z
SUMMARY:Real Ale Madrid vs. The All-Stars
DESCRIPTION:The All-Stars vs. Real Ale MadridPlus d'info : #6
X-ALT-DESC;FMTTYPE=text/html:<!DOCTYPE HTML PUBLIC "-//W3C//DTD HTML 3.2//E
	N">\n<HTML>\n<HEAD>\n<TITLE></TITLE>\n</HEAD>\n<BODY>\n<h3>The All-Stars vs
	. Real Ale Madrid</h3>Plus d'info : <a href="https://www.golnetwork.com/gam
	e/v/59491/">#6</a>\n\n</BODY>\n</HTML>
STATUS:CONFIRMED
CLASS:PUBLIC
URL:https://www.golnetwork.com/game/v/59491/
X-MICROSOFT-CDO-BUSYSTATUS:BUSY
X-MICROSOFT-CDO-IMPORTANCE:1
END:VEVENT
BEGIN:VEVENT
UID:g63g3@games.golnetwork.com
LOCATION:Hornet's Nest #2
GEO:45.4428309;-75.575268
CREATED:20141006T214312Z
DTSTART:20141009T220000Z
DTEND:20141009T225000Z
DTSTAMP:20260420T043135Z
SUMMARY:Real Ale Madrid vs. Fluorescent Platypuses
DESCRIPTION:Fluorescent Platypuses vs. Real Ale MadridPlus d'info : #1
X-ALT-DESC;FMTTYPE=text/html:<!DOCTYPE HTML PUBLIC "-//W3C//DTD HTML 3.2//E
	N">\n<HTML>\n<HEAD>\n<TITLE></TITLE>\n</HEAD>\n<BODY>\n<h3>Fluorescent Plat
	ypuses vs. Real Ale Madrid</h3>Plus d'info : <a href="https://www.golnetwor
	k.com/game/v/59361/">#1</a>\n\n</BODY>\n</HTML>
STATUS:CONFIRMED
CLASS:PUBLIC
URL:https://www.golnetwork.com/game/v/59361/
X-MICROSOFT-CDO-BUSYSTATUS:BUSY
X-MICROSOFT-CDO-IMPORTANCE:1
END:VEVENT
BEGIN:VEVENT
UID:g5q8j@games.golnetwork.com
LOCATION:Louis Riel #2
GEO:45.4410208;-75.5715394
CREATED:20140926T210254Z
DTSTART:20141002T230000Z
DTEND:20141002T235000Z
DTSTAMP:20260420T043135Z
SUMMARY:Dynamo FC vs. Real Ale Madrid
DESCRIPTION:Real Ale Madrid vs. Dynamo FCPlus d'info : #3
X-ALT-DESC;FMTTYPE=text/html:<!DOCTYPE HTML PUBLIC "-//W3C//DTD HTML 3.2//E
	N">\n<HTML>\n<HEAD>\n<TITLE></TITLE>\n</HEAD>\n<BODY>\n<h3>Real Ale Madrid 
	vs. Dynamo FC</h3>Plus d'info : <a href="https://www.golnetwork.com/game/v/
	57803/">#3</a>\n\n</BODY>\n</HTML>
STATUS:CONFIRMED
CLASS:PUBLIC
URL:https://www.golnetwork.com/game/v/57803/
X-MICROSOFT-CDO-BUSYSTATUS:BUSY
X-MICROSOFT-CDO-IMPORTANCE:1
END:VEVENT
BEGIN:VEVENT
UID:g5p5h@games.golnetwork.com
LOCATION:Branchaud Briere Field #1
GEO:45.4982732;-75.6421544
CREATED:20140922T024837Z
DTSTART:20140926T020000Z
DTEND:20140926T025000Z
DTSTAMP:20260420T043135Z
SUMMARY:Flamingos vs. Real Ale Madrid
DESCRIPTION:Real Ale Madrid vs. FlamingosPlus d'info : #31
X-ALT-DESC;FMTTYPE=text/html:<!DOCTYPE HTML PUBLIC "-//W3C//DTD HTML 3.2//E
	N">\n<HTML>\n<HEAD>\n<TITLE></TITLE>\n</HEAD>\n<BODY>\n<h3>Real Ale Madrid 
	vs. Flamingos</h3>Plus d'info : <a href="https://www.golnetwork.com/game/v/
	57397/">#31</a>\n\n</BODY>\n</HTML>
STATUS:CONFIRMED
CLASS:PUBLIC
URL:https://www.golnetwork.com/game/v/57397/
X-MICROSOFT-CDO-BUSYSTATUS:BUSY
X-MICROSOFT-CDO-IMPORTANCE:1
END:VEVENT
BEGIN:VEVENT
UID:g5mdo@games.golnetwork.com
LOCATION:Louis Riel #1
GEO:45.4410208;-75.5715394
CREATED:20140910T212519Z
DTSTART:20140918T230000Z
DTEND:20140918T235000Z
DTSTAMP:20260420T043135Z
SUMMARY:Real Ale Madrid vs. Where's Josh
DESCRIPTION:Where's Josh vs. Real Ale MadridPlus d'info : #1
X-ALT-DESC;FMTTYPE=text/html:<!DOCTYPE HTML PUBLIC "-//W3C//DTD HTML 3.2//E
	N">\n<HTML>\n<HEAD>\n<TITLE></TITLE>\n</HEAD>\n<BODY>\n<h3>Where's Josh vs.
	 Real Ale Madrid</h3>Plus d'info : <a href="https://www.golnetwork.com/game
	/v/56415/">#1</a>\n\n</BODY>\n</HTML>
STATUS:CONFIRMED
CLASS:PUBLIC
URL:https://www.golnetwork.com/game/v/56415/
X-MICROSOFT-CDO-BUSYSTATUS:BUSY
X-MICROSOFT-CDO-IMPORTANCE:1
END:VEVENT
END:VCALENDAR
