BEGIN:VCALENDAR
PRODID:-//gdesolutions.com//MV Framework 1.0.0.1607 Calendar//EN
VERSION:2.0
METHOD:PUBLISH
CALSCALE:GREGORIAN
BEGIN:VEVENT
UID:g2k0c@games.golnetwork.com
LOCATION:Louis Riel #3
GEO:45.4410208;-75.5715394
CREATED:20130218T173326Z
DTSTART:20130225T020000Z
DTEND:20130225T030000Z
DTSTAMP:20260426T035818Z
SUMMARY:Nandos Ottawa vs. Spartans FC
DESCRIPTION:Spartans FC vs. Nandos OttawaPlus d'info : #97
X-ALT-DESC;FMTTYPE=text/html:<!DOCTYPE HTML PUBLIC "-//W3C//DTD HTML 3.2//E
	N">\n<HTML>\n<HEAD>\n<TITLE></TITLE>\n</HEAD>\n<BODY>\n<h3>Spartans FC vs. 
	Nandos Ottawa</h3>Plus d'info : <a href="https://www.golnetwork.com/game/v/
	25980/">#97</a>\n\n</BODY>\n</HTML>
STATUS:CONFIRMED
CLASS:PUBLIC
URL:https://www.golnetwork.com/game/v/25980/
X-MICROSOFT-CDO-BUSYSTATUS:BUSY
X-MICROSOFT-CDO-IMPORTANCE:1
END:VEVENT
BEGIN:VEVENT
UID:g2j98@games.golnetwork.com
LOCATION:Louis Riel #3
GEO:45.4410208;-75.5715394
CREATED:20130211T043018Z
DTSTART:20130217T220000Z
DTEND:20130217T230000Z
DTSTAMP:20260426T035818Z
SUMMARY:The Young Bears vs. Spartans FC
DESCRIPTION:Spartans FC vs. The Young BearsPlus d'info : #90
X-ALT-DESC;FMTTYPE=text/html:<!DOCTYPE HTML PUBLIC "-//W3C//DTD HTML 3.2//E
	N">\n<HTML>\n<HEAD>\n<TITLE></TITLE>\n</HEAD>\n<BODY>\n<h3>Spartans FC vs. 
	The Young Bears</h3>Plus d'info : <a href="https://www.golnetwork.com/game/
	v/25735/">#90</a>\n\n</BODY>\n</HTML>
STATUS:CONFIRMED
CLASS:PUBLIC
URL:https://www.golnetwork.com/game/v/25735/
X-MICROSOFT-CDO-BUSYSTATUS:BUSY
X-MICROSOFT-CDO-IMPORTANCE:1
END:VEVENT
BEGIN:VEVENT
UID:g2j38@games.golnetwork.com
LOCATION:Louis Riel #3
GEO:45.4410208;-75.5715394
CREATED:20130206T083223Z
DTSTART:20130210T220000Z
DTEND:20130210T230000Z
DTSTAMP:20260426T035818Z
SUMMARY:Spartans FC vs. FC Bars-will-owna
DESCRIPTION:FC Bars-will-owna vs. Spartans FCPlus d'info : #83
X-ALT-DESC;FMTTYPE=text/html:<!DOCTYPE HTML PUBLIC "-//W3C//DTD HTML 3.2//E
	N">\n<HTML>\n<HEAD>\n<TITLE></TITLE>\n</HEAD>\n<BODY>\n<h3>FC Bars-will-own
	a vs. Spartans FC</h3>Plus d'info : <a href="https://www.golnetwork.com/gam
	e/v/25654/">#83</a>\n\n</BODY>\n</HTML>
STATUS:CONFIRMED
CLASS:PUBLIC
URL:https://www.golnetwork.com/game/v/25654/
X-MICROSOFT-CDO-BUSYSTATUS:BUSY
X-MICROSOFT-CDO-IMPORTANCE:1
END:VEVENT
END:VCALENDAR
