BEGIN:VCALENDAR
PRODID:-//gdesolutions.com//MV Framework 1.0.0.1607 Calendar//EN
VERSION:2.0
METHOD:PUBLISH
CALSCALE:GREGORIAN
BEGIN:VEVENT
UID:g4gpj@games.golnetwork.com
LOCATION:Fieldhouse C & D
GEO:45.10662;-94.578209
CREATED:20140114T193352Z
DTSTART:20140320T003000Z
DTEND:20140320T011400Z
DTSTAMP:20260421T052632Z
SUMMARY:Bahama Mama's vs. Das Boot
DESCRIPTION:Das Boot vs. Bahama Mama'sPlus d'info : #279
X-ALT-DESC;FMTTYPE=text/html:<!DOCTYPE HTML PUBLIC "-//W3C//DTD HTML 3.2//E
	N">\n<HTML>\n<HEAD>\n<TITLE></TITLE>\n</HEAD>\n<BODY>\n<h3>Das Boot vs. Bah
	ama Mama's</h3>Plus d'info : <a href="https://www.golnetwork.com/game/v/445
	46/">#279</a>\n\n</BODY>\n</HTML>
STATUS:CONFIRMED
CLASS:PUBLIC
URL:https://www.golnetwork.com/game/v/44546/
X-MICROSOFT-CDO-BUSYSTATUS:BUSY
X-MICROSOFT-CDO-IMPORTANCE:1
END:VEVENT
BEGIN:VEVENT
UID:g4gjb@games.golnetwork.com
LOCATION:Fieldhouse C & D
GEO:45.10662;-94.578209
CREATED:20140114T193349Z
DTSTART:20140218T233000Z
DTEND:20140219T001400Z
DTSTAMP:20260421T052632Z
SUMMARY:Das Boot vs. A Rock & A Hard Place
DESCRIPTION:A Rock & A Hard Place vs. Das BootPlus d'info : #193
X-ALT-DESC;FMTTYPE=text/html:<!DOCTYPE HTML PUBLIC "-//W3C//DTD HTML 3.2//E
	N">\n<HTML>\n<HEAD>\n<TITLE></TITLE>\n</HEAD>\n<BODY>\n<h3>A Rock & A Hard 
	Place vs. Das Boot</h3>Plus d'info : <a href="https://www.golnetwork.com/ga
	me/v/44461/">#193</a>\n\n</BODY>\n</HTML>
STATUS:CONFIRMED
CLASS:PUBLIC
URL:https://www.golnetwork.com/game/v/44461/
X-MICROSOFT-CDO-BUSYSTATUS:BUSY
X-MICROSOFT-CDO-IMPORTANCE:1
END:VEVENT
BEGIN:VEVENT
UID:g4gga@games.golnetwork.com
LOCATION:Fieldhouse C & D
GEO:45.10662;-94.578209
CREATED:20140114T193347Z
DTSTART:20140208T213000Z
DTEND:20140208T221400Z
DTSTAMP:20260421T052632Z
SUMMARY:Das Boot vs. AC Pal
DESCRIPTION:AC Pal vs. Das BootPlus d'info : #152
X-ALT-DESC;FMTTYPE=text/html:<!DOCTYPE HTML PUBLIC "-//W3C//DTD HTML 3.2//E
	N">\n<HTML>\n<HEAD>\n<TITLE></TITLE>\n</HEAD>\n<BODY>\n<h3>AC Pal vs. Das B
	oot</h3>Plus d'info : <a href="https://www.golnetwork.com/game/v/44420/">#1
	52</a>\n\n</BODY>\n</HTML>
STATUS:CONFIRMED
CLASS:PUBLIC
URL:https://www.golnetwork.com/game/v/44420/
X-MICROSOFT-CDO-BUSYSTATUS:BUSY
X-MICROSOFT-CDO-IMPORTANCE:1
END:VEVENT
BEGIN:VEVENT
UID:g4geq@games.golnetwork.com
LOCATION:Fieldhouse C & D
GEO:45.10662;-94.578209
CREATED:20140114T193346Z
DTSTART:20140205T013000Z
DTEND:20140205T021400Z
DTSTAMP:20260421T052632Z
SUMMARY:Das Boot vs. Bomb Squad (CRB)
DESCRIPTION:Bomb Squad (CRB) vs. Das BootPlus d'info : #133
X-ALT-DESC;FMTTYPE=text/html:<!DOCTYPE HTML PUBLIC "-//W3C//DTD HTML 3.2//E
	N">\n<HTML>\n<HEAD>\n<TITLE></TITLE>\n</HEAD>\n<BODY>\n<h3>Bomb Squad (CRB)
	 vs. Das Boot</h3>Plus d'info : <a href="https://www.golnetwork.com/game/v/
	44401/">#133</a>\n\n</BODY>\n</HTML>
STATUS:CONFIRMED
CLASS:PUBLIC
URL:https://www.golnetwork.com/game/v/44401/
X-MICROSOFT-CDO-BUSYSTATUS:BUSY
X-MICROSOFT-CDO-IMPORTANCE:1
END:VEVENT
BEGIN:VEVENT
UID:g4dha@games.golnetwork.com
LOCATION:Fieldhouse C & D
GEO:45.10662;-94.578209
CREATED:20140107T204105Z
DTSTART:20140118T153000Z
DTEND:20140118T161400Z
DTSTAMP:20260421T052632Z
SUMMARY:2 Girls\, 1... Goalie\, 2 Guys vs. Das Boot
DESCRIPTION:Das Boot vs. 2 Girls\, 1... Goalie\, 2 GuysPlus d'info : #44
X-ALT-DESC;FMTTYPE=text/html:<!DOCTYPE HTML PUBLIC "-//W3C//DTD HTML 3.2//E
	N">\n<HTML>\n<HEAD>\n<TITLE></TITLE>\n</HEAD>\n<BODY>\n<h3>Das Boot vs. 2 G
	irls\, 1... Goalie\, 2 Guys</h3>Plus d'info : <a href="https://www.golnetwo
	rk.com/game/v/43340/">#44</a>\n\n</BODY>\n</HTML>
STATUS:CONFIRMED
CLASS:PUBLIC
URL:https://www.golnetwork.com/game/v/43340/
X-MICROSOFT-CDO-BUSYSTATUS:BUSY
X-MICROSOFT-CDO-IMPORTANCE:1
END:VEVENT
BEGIN:VEVENT
UID:g4dfg@games.golnetwork.com
LOCATION:Fieldhouse C & D
GEO:45.10662;-94.578209
CREATED:20140107T204102Z
DTSTART:20140112T223000Z
DTEND:20140112T231400Z
DTSTAMP:20260421T052632Z
SUMMARY:A.S.S.S vs. Das Boot
DESCRIPTION:Das Boot vs. A.S.S.SPlus d'info : #20
X-ALT-DESC;FMTTYPE=text/html:<!DOCTYPE HTML PUBLIC "-//W3C//DTD HTML 3.2//E
	N">\n<HTML>\n<HEAD>\n<TITLE></TITLE>\n</HEAD>\n<BODY>\n<h3>Das Boot vs. A.S
	.S.S</h3>Plus d'info : <a href="https://www.golnetwork.com/game/v/43316/">#
	20</a>\n\n</BODY>\n</HTML>
STATUS:CONFIRMED
CLASS:PUBLIC
URL:https://www.golnetwork.com/game/v/43316/
X-MICROSOFT-CDO-BUSYSTATUS:BUSY
X-MICROSOFT-CDO-IMPORTANCE:1
END:VEVENT
END:VCALENDAR
