BEGIN:VCALENDAR
PRODID:-//gdesolutions.com//MV Framework 1.0.0.1607 Calendar//EN
VERSION:2.0
METHOD:PUBLISH
CALSCALE:GREGORIAN
BEGIN:VEVENT
UID:g5e21@games.golnetwork.com
LOCATION:North Toronto - Field 2
GEO:43.7098022;-79.3963055
CREATED:20140702T164955Z
DTSTART:20140824T215000Z
DTEND:20140824T224500Z
DTSTAMP:20260421T052829Z
SUMMARY:Jogo Bonito vs. XTSC Kickers
DESCRIPTION:XTSC Kickers vs. Jogo BonitoPlus d'info : #362
X-ALT-DESC;FMTTYPE=text/html:<!DOCTYPE HTML PUBLIC "-//W3C//DTD HTML 3.2//E
	N">\n<HTML>\n<HEAD>\n<TITLE></TITLE>\n</HEAD>\n<BODY>\n<h3>XTSC Kickers vs.
	 Jogo Bonito</h3>Plus d'info : <a href="https://www.golnetwork.com/game/v/5
	3339/">#362</a>\n\n</BODY>\n</HTML>
STATUS:CONFIRMED
CLASS:PUBLIC
URL:https://www.golnetwork.com/game/v/53339/
X-MICROSOFT-CDO-BUSYSTATUS:BUSY
X-MICROSOFT-CDO-IMPORTANCE:1
END:VEVENT
BEGIN:VEVENT
UID:g5hao@games.golnetwork.com
LOCATION:North Toronto - Field 2
GEO:43.7098022;-79.3963055
CREATED:20140725T133015Z
DTSTART:20140817T224500Z
DTEND:20140817T234000Z
DTSTAMP:20260421T052829Z
SUMMARY:Revolution vs. Jogo Bonito
DESCRIPTION:Jogo Bonito vs. RevolutionPlus d'info : R#49
X-ALT-DESC;FMTTYPE=text/html:<!DOCTYPE HTML PUBLIC "-//W3C//DTD HTML 3.2//E
	N">\n<HTML>\n<HEAD>\n<TITLE></TITLE>\n</HEAD>\n<BODY>\n<h3>Jogo Bonito vs. 
	Revolution</h3>Plus d'info : <a href="https://www.golnetwork.com/game/v/545
	52/">R#49</a>\n\n</BODY>\n</HTML>
STATUS:CONFIRMED
CLASS:PUBLIC
URL:https://www.golnetwork.com/game/v/54552/
X-MICROSOFT-CDO-BUSYSTATUS:BUSY
X-MICROSOFT-CDO-IMPORTANCE:1
END:VEVENT
BEGIN:VEVENT
UID:g5e1e@games.golnetwork.com
LOCATION:North Toronto - Field 2
GEO:43.7098022;-79.3963055
CREATED:20140702T164955Z
DTSTART:20140817T215000Z
DTEND:20140817T224500Z
DTSTAMP:20260421T052829Z
SUMMARY:Cutters vs. Jogo Bonito
DESCRIPTION:Jogo Bonito vs. CuttersPlus d'info : #299
X-ALT-DESC;FMTTYPE=text/html:<!DOCTYPE HTML PUBLIC "-//W3C//DTD HTML 3.2//E
	N">\n<HTML>\n<HEAD>\n<TITLE></TITLE>\n</HEAD>\n<BODY>\n<h3>Jogo Bonito vs. 
	Cutters</h3>Plus d'info : <a href="https://www.golnetwork.com/game/v/53332/
	">#299</a>\n\n</BODY>\n</HTML>
STATUS:CONFIRMED
CLASS:PUBLIC
URL:https://www.golnetwork.com/game/v/53332/
X-MICROSOFT-CDO-BUSYSTATUS:BUSY
X-MICROSOFT-CDO-IMPORTANCE:1
END:VEVENT
BEGIN:VEVENT
UID:g5e5g@games.golnetwork.com
LOCATION:North Toronto - Field 1
GEO:43.7098022;-79.3963055
CREATED:20140702T195454Z
DTSTART:20140810T200000Z
DTEND:20140810T205500Z
DTSTAMP:20260421T052829Z
SUMMARY:Jogo Bonito vs. Team Awesome
DESCRIPTION:Team Awesome vs. Jogo BonitoPlus d'info : #230
X-ALT-DESC;FMTTYPE=text/html:<!DOCTYPE HTML PUBLIC "-//W3C//DTD HTML 3.2//E
	N">\n<HTML>\n<HEAD>\n<TITLE></TITLE>\n</HEAD>\n<BODY>\n<h3>Team Awesome vs.
	 Jogo Bonito</h3>Plus d'info : <a href="https://www.golnetwork.com/game/v/5
	3387/">#230</a>\n\n</BODY>\n</HTML>
STATUS:CONFIRMED
CLASS:PUBLIC
URL:https://www.golnetwork.com/game/v/53387/
X-MICROSOFT-CDO-BUSYSTATUS:BUSY
X-MICROSOFT-CDO-IMPORTANCE:1
END:VEVENT
BEGIN:VEVENT
UID:g5e5a@games.golnetwork.com
LOCATION:North Toronto - Field 1
GEO:43.7098022;-79.3963055
CREATED:20140702T195454Z
DTSTART:20140803T215000Z
DTEND:20140803T224500Z
DTSTAMP:20260421T052829Z
SUMMARY: The Invincibles  vs. Jogo Bonito
DESCRIPTION:Jogo Bonito vs.  The Invincibles Plus d'info : #195
X-ALT-DESC;FMTTYPE=text/html:<!DOCTYPE HTML PUBLIC "-//W3C//DTD HTML 3.2//E
	N">\n<HTML>\n<HEAD>\n<TITLE></TITLE>\n</HEAD>\n<BODY>\n<h3>Jogo Bonito vs. 
	 The Invincibles </h3>Plus d'info : <a href="https://www.golnetwork.com/gam
	e/v/53384/">#195</a>\n\n</BODY>\n</HTML>
STATUS:CONFIRMED
CLASS:PUBLIC
URL:https://www.golnetwork.com/game/v/53384/
X-MICROSOFT-CDO-BUSYSTATUS:BUSY
X-MICROSOFT-CDO-IMPORTANCE:1
END:VEVENT
BEGIN:VEVENT
UID:g5e56@games.golnetwork.com
LOCATION:North Toronto - Field 1
GEO:43.7098022;-79.3963055
CREATED:20140702T195454Z
DTSTART:20140803T205500Z
DTEND:20140803T215000Z
DTSTAMP:20260421T052829Z
SUMMARY:Whistle FC vs. Jogo Bonito
DESCRIPTION:Jogo Bonito vs. Whistle FCPlus d'info : #193
X-ALT-DESC;FMTTYPE=text/html:<!DOCTYPE HTML PUBLIC "-//W3C//DTD HTML 3.2//E
	N">\n<HTML>\n<HEAD>\n<TITLE></TITLE>\n</HEAD>\n<BODY>\n<h3>Jogo Bonito vs. 
	Whistle FC</h3>Plus d'info : <a href="https://www.golnetwork.com/game/v/533
	82/">#193</a>\n\n</BODY>\n</HTML>
STATUS:CONFIRMED
CLASS:PUBLIC
URL:https://www.golnetwork.com/game/v/53382/
X-MICROSOFT-CDO-BUSYSTATUS:BUSY
X-MICROSOFT-CDO-IMPORTANCE:1
END:VEVENT
BEGIN:VEVENT
UID:g5e4n@games.golnetwork.com
LOCATION:North Toronto - Field 1
GEO:43.7098022;-79.3963055
CREATED:20140702T195454Z
DTSTART:20140727T215000Z
DTEND:20140727T224500Z
DTSTAMP:20260421T052829Z
SUMMARY:1860 Degen vs. Jogo Bonito
DESCRIPTION:Jogo Bonito vs. 1860 DegenPlus d'info : #158
X-ALT-DESC;FMTTYPE=text/html:<!DOCTYPE HTML PUBLIC "-//W3C//DTD HTML 3.2//E
	N">\n<HTML>\n<HEAD>\n<TITLE></TITLE>\n</HEAD>\n<BODY>\n<h3>Jogo Bonito vs. 
	1860 Degen</h3>Plus d'info : <a href="https://www.golnetwork.com/game/v/533
	77/">#158</a>\n\n</BODY>\n</HTML>
STATUS:CONFIRMED
CLASS:PUBLIC
URL:https://www.golnetwork.com/game/v/53377/
X-MICROSOFT-CDO-BUSYSTATUS:BUSY
X-MICROSOFT-CDO-IMPORTANCE:1
END:VEVENT
BEGIN:VEVENT
UID:g5e4b@games.golnetwork.com
LOCATION:North Toronto - Field 2
GEO:43.7098022;-79.3963055
CREATED:20140702T195454Z
DTSTART:20140720T215000Z
DTEND:20140720T224500Z
DTSTAMP:20260421T052829Z
SUMMARY:Cutters vs. Jogo Bonito
DESCRIPTION:Jogo Bonito vs. CuttersPlus d'info : #105
X-ALT-DESC;FMTTYPE=text/html:<!DOCTYPE HTML PUBLIC "-//W3C//DTD HTML 3.2//E
	N">\n<HTML>\n<HEAD>\n<TITLE></TITLE>\n</HEAD>\n<BODY>\n<h3>Jogo Bonito vs. 
	Cutters</h3>Plus d'info : <a href="https://www.golnetwork.com/game/v/53371/
	">#105</a>\n\n</BODY>\n</HTML>
STATUS:CONFIRMED
CLASS:PUBLIC
URL:https://www.golnetwork.com/game/v/53371/
X-MICROSOFT-CDO-BUSYSTATUS:BUSY
X-MICROSOFT-CDO-IMPORTANCE:1
END:VEVENT
BEGIN:VEVENT
UID:g5e3q@games.golnetwork.com
LOCATION:North Toronto - Field 3
GEO:43.7098022;-79.3963055
CREATED:20140702T195454Z
DTSTART:20140713T215000Z
DTEND:20140713T224500Z
DTSTAMP:20260421T052829Z
SUMMARY:Revolution vs. Jogo Bonito
DESCRIPTION:Jogo Bonito vs. RevolutionPlus d'info : #49
X-ALT-DESC;FMTTYPE=text/html:<!DOCTYPE HTML PUBLIC "-//W3C//DTD HTML 3.2//E
	N">\n<HTML>\n<HEAD>\n<TITLE></TITLE>\n</HEAD>\n<BODY>\n<h3>Jogo Bonito vs. 
	Revolution</h3>Plus d'info : <a href="https://www.golnetwork.com/game/v/533
	65/">#49</a>\n\n</BODY>\n</HTML>
STATUS:RESCHEDULED
CLASS:PUBLIC
URL:https://www.golnetwork.com/game/v/53365/
X-MICROSOFT-CDO-BUSYSTATUS:BUSY
X-MICROSOFT-CDO-IMPORTANCE:1
END:VEVENT
BEGIN:VEVENT
UID:g5e2l@games.golnetwork.com
LOCATION:North Toronto - Field 3
GEO:43.7098022;-79.3963055
CREATED:20140702T165122Z
DTSTART:20140706T215000Z
DTEND:20140706T224500Z
DTSTAMP:20260421T052829Z
SUMMARY:Jogo Bonito vs. Unreliables
DESCRIPTION:Unreliables vs. Jogo BonitoPlus d'info : #29
X-ALT-DESC;FMTTYPE=text/html:<!DOCTYPE HTML PUBLIC "-//W3C//DTD HTML 3.2//E
	N">\n<HTML>\n<HEAD>\n<TITLE></TITLE>\n</HEAD>\n<BODY>\n<h3>Unreliables vs. 
	Jogo Bonito</h3>Plus d'info : <a href="https://www.golnetwork.com/game/v/53
	349/">#29</a>\n\n</BODY>\n</HTML>
STATUS:CONFIRMED
CLASS:PUBLIC
URL:https://www.golnetwork.com/game/v/53349/
X-MICROSOFT-CDO-BUSYSTATUS:BUSY
X-MICROSOFT-CDO-IMPORTANCE:1
END:VEVENT
END:VCALENDAR
