BEGIN:VCALENDAR
PRODID:-//gdesolutions.com//MV Framework 1.0.0.1607 Calendar//EN
VERSION:2.0
METHOD:PUBLISH
CALSCALE:GREGORIAN
BEGIN:VEVENT
UID:g7380@games.golnetwork.com
LOCATION:Cherry Beach East 2
CREATED:20150506T223151Z
DTSTART:20150708T010000Z
DTEND:20150708T020000Z
DTSTAMP:20260421T170452Z
SUMMARY:One Team One Dream vs. ID FC
DESCRIPTION:ID FC vs. One Team One DreamPlus d'info : #452
X-ALT-DESC;FMTTYPE=text/html:<!DOCTYPE HTML PUBLIC "-//W3C//DTD HTML 3.2//E
	N">\n<HTML>\n<HEAD>\n<TITLE></TITLE>\n</HEAD>\n<BODY>\n<h3>ID FC vs. One Te
	am One Dream</h3>Plus d'info : <a href="https://www.golnetwork.com/game/v/6
	9093/">#452</a>\n\n</BODY>\n</HTML>
STATUS:CONFIRMED
CLASS:PUBLIC
URL:https://www.golnetwork.com/game/v/69093/
X-MICROSOFT-CDO-BUSYSTATUS:BUSY
X-MICROSOFT-CDO-IMPORTANCE:1
END:VEVENT
BEGIN:VEVENT
UID:g737f@games.golnetwork.com
LOCATION:Cherry Beach East 1
CREATED:20150506T223021Z
DTSTART:20150624T020000Z
DTEND:20150624T030000Z
DTSTAMP:20260421T170452Z
SUMMARY:Gringos vs. ID FC
DESCRIPTION:ID FC vs. GringosPlus d'info : #368
X-ALT-DESC;FMTTYPE=text/html:<!DOCTYPE HTML PUBLIC "-//W3C//DTD HTML 3.2//E
	N">\n<HTML>\n<HEAD>\n<TITLE></TITLE>\n</HEAD>\n<BODY>\n<h3>ID FC vs. Gringo
	s</h3>Plus d'info : <a href="https://www.golnetwork.com/game/v/69087/">#368
	</a>\n\n</BODY>\n</HTML>
STATUS:CONFIRMED
CLASS:PUBLIC
URL:https://www.golnetwork.com/game/v/69087/
X-MICROSOFT-CDO-BUSYSTATUS:BUSY
X-MICROSOFT-CDO-IMPORTANCE:1
END:VEVENT
BEGIN:VEVENT
UID:g7373@games.golnetwork.com
LOCATION:Cherry Beach East 2
CREATED:20150506T222833Z
DTSTART:20150617T010000Z
DTEND:20150617T020000Z
DTSTAMP:20260421T170452Z
SUMMARY:ID FC vs. Kay FC
DESCRIPTION:Kay FC vs. ID FCPlus d'info : #320
X-ALT-DESC;FMTTYPE=text/html:<!DOCTYPE HTML PUBLIC "-//W3C//DTD HTML 3.2//E
	N">\n<HTML>\n<HEAD>\n<TITLE></TITLE>\n</HEAD>\n<BODY>\n<h3>Kay FC vs. ID FC
	</h3>Plus d'info : <a href="https://www.golnetwork.com/game/v/69081/">#320<
	/a>\n\n</BODY>\n</HTML>
STATUS:CONFIRMED
CLASS:PUBLIC
URL:https://www.golnetwork.com/game/v/69081/
X-MICROSOFT-CDO-BUSYSTATUS:BUSY
X-MICROSOFT-CDO-IMPORTANCE:1
END:VEVENT
BEGIN:VEVENT
UID:g736i@games.golnetwork.com
LOCATION:Cherry Beach East 1
CREATED:20150506T222650Z
DTSTART:20150610T010000Z
DTEND:20150610T020000Z
DTSTAMP:20260421T170452Z
SUMMARY:Lakeshore FC vs. ID FC
DESCRIPTION:ID FC vs. Lakeshore FCPlus d'info : #264
X-ALT-DESC;FMTTYPE=text/html:<!DOCTYPE HTML PUBLIC "-//W3C//DTD HTML 3.2//E
	N">\n<HTML>\n<HEAD>\n<TITLE></TITLE>\n</HEAD>\n<BODY>\n<h3>ID FC vs. Lakesh
	ore FC</h3>Plus d'info : <a href="https://www.golnetwork.com/game/v/69075/"
	>#264</a>\n\n</BODY>\n</HTML>
STATUS:CONFIRMED
CLASS:PUBLIC
URL:https://www.golnetwork.com/game/v/69075/
X-MICROSOFT-CDO-BUSYSTATUS:BUSY
X-MICROSOFT-CDO-IMPORTANCE:1
END:VEVENT
BEGIN:VEVENT
UID:g7368@games.golnetwork.com
LOCATION:Cherry Beach East 1
CREATED:20150506T222527Z
DTSTART:20150603T010000Z
DTEND:20150603T020000Z
DTSTAMP:20260421T170452Z
SUMMARY:ID FC vs. Molson FC
DESCRIPTION:Molson FC vs. ID FCPlus d'info : #209
X-ALT-DESC;FMTTYPE=text/html:<!DOCTYPE HTML PUBLIC "-//W3C//DTD HTML 3.2//E
	N">\n<HTML>\n<HEAD>\n<TITLE></TITLE>\n</HEAD>\n<BODY>\n<h3>Molson FC vs. ID
	 FC</h3>Plus d'info : <a href="https://www.golnetwork.com/game/v/69070/">#2
	09</a>\n\n</BODY>\n</HTML>
STATUS:CONFIRMED
CLASS:PUBLIC
URL:https://www.golnetwork.com/game/v/69070/
X-MICROSOFT-CDO-BUSYSTATUS:BUSY
X-MICROSOFT-CDO-IMPORTANCE:1
END:VEVENT
BEGIN:VEVENT
UID:g7362@games.golnetwork.com
LOCATION:Cherry Beach East 1
CREATED:20150506T222432Z
DTSTART:20150527T020000Z
DTEND:20150527T030000Z
DTSTAMP:20260421T170452Z
SUMMARY:ID FC vs. Shut your legs or I'll meg ya
DESCRIPTION:Shut your legs or I'll meg ya vs. ID FCPlus d'info : #157
X-ALT-DESC;FMTTYPE=text/html:<!DOCTYPE HTML PUBLIC "-//W3C//DTD HTML 3.2//E
	N">\n<HTML>\n<HEAD>\n<TITLE></TITLE>\n</HEAD>\n<BODY>\n<h3>Shut your legs o
	r I'll meg ya vs. ID FC</h3>Plus d'info : <a href="https://www.golnetwork.c
	om/game/v/69067/">#157</a>\n\n</BODY>\n</HTML>
STATUS:CONFIRMED
CLASS:PUBLIC
URL:https://www.golnetwork.com/game/v/69067/
X-MICROSOFT-CDO-BUSYSTATUS:BUSY
X-MICROSOFT-CDO-IMPORTANCE:1
END:VEVENT
BEGIN:VEVENT
UID:g735n@games.golnetwork.com
LOCATION:Cherry Beach East 2
CREATED:20150506T222323Z
DTSTART:20150520T030000Z
DTEND:20150520T040000Z
DTSTAMP:20260421T170452Z
SUMMARY:ID FC vs. The Hooligans
DESCRIPTION:The Hooligans vs. ID FCPlus d'info : #121
X-ALT-DESC;FMTTYPE=text/html:<!DOCTYPE HTML PUBLIC "-//W3C//DTD HTML 3.2//E
	N">\n<HTML>\n<HEAD>\n<TITLE></TITLE>\n</HEAD>\n<BODY>\n<h3>The Hooligans vs
	. ID FC</h3>Plus d'info : <a href="https://www.golnetwork.com/game/v/69064/
	">#121</a>\n\n</BODY>\n</HTML>
STATUS:CONFIRMED
CLASS:PUBLIC
URL:https://www.golnetwork.com/game/v/69064/
X-MICROSOFT-CDO-BUSYSTATUS:BUSY
X-MICROSOFT-CDO-IMPORTANCE:1
END:VEVENT
BEGIN:VEVENT
UID:g735d@games.golnetwork.com
LOCATION:Cherry Beach East 1
CREATED:20150506T222123Z
DTSTART:20150513T030000Z
DTEND:20150513T040000Z
DTSTAMP:20260421T170452Z
SUMMARY:ID FC vs. Ball so Hard
DESCRIPTION:Ball so Hard vs. ID FCPlus d'info : #83
X-ALT-DESC;FMTTYPE=text/html:<!DOCTYPE HTML PUBLIC "-//W3C//DTD HTML 3.2//E
	N">\n<HTML>\n<HEAD>\n<TITLE></TITLE>\n</HEAD>\n<BODY>\n<h3>Ball so Hard vs.
	 ID FC</h3>Plus d'info : <a href="https://www.golnetwork.com/game/v/69059/"
	>#83</a>\n\n</BODY>\n</HTML>
STATUS:CONFIRMED
CLASS:PUBLIC
URL:https://www.golnetwork.com/game/v/69059/
X-MICROSOFT-CDO-BUSYSTATUS:BUSY
X-MICROSOFT-CDO-IMPORTANCE:1
END:VEVENT
END:VCALENDAR
