BEGIN:VCALENDAR
PRODID:-//gdesolutions.com//MV Framework 1.0.0.1607 Calendar//EN
VERSION:2.0
METHOD:PUBLISH
CALSCALE:GREGORIAN
BEGIN:VEVENT
UID:g7388@games.golnetwork.com
LOCATION:Cherry Beach East 1
CREATED:20150506T223313Z
DTSTART:20150701T010000Z
DTEND:20150701T020000Z
DTSTAMP:20260420T231119Z
SUMMARY:Lakeshore FC vs. ID FC
DESCRIPTION:ID FC vs. Lakeshore FCPlus d'info : #405
X-ALT-DESC;FMTTYPE=text/html:<!DOCTYPE HTML PUBLIC "-//W3C//DTD HTML 3.2//E
	N">\n<HTML>\n<HEAD>\n<TITLE></TITLE>\n</HEAD>\n<BODY>\n<h3>ID FC vs. Lakesh
	ore FC</h3>Plus d'info : <a href="https://www.golnetwork.com/game/v/69097/"
	>#405</a>\n\n</BODY>\n</HTML>
STATUS:CONFIRMED
CLASS:PUBLIC
URL:https://www.golnetwork.com/game/v/69097/
X-MICROSOFT-CDO-BUSYSTATUS:BUSY
X-MICROSOFT-CDO-IMPORTANCE:1
END:VEVENT
END:VCALENDAR
