BEGIN:VCALENDAR
PRODID:-//gdesolutions.com//MV Framework 1.0.0.1607 Calendar//EN
VERSION:2.0
METHOD:PUBLISH
CALSCALE:GREGORIAN
BEGIN:VEVENT
UID:gbab0@games.golnetwork.com
LOCATION:Jesse Ketchum Public School
GEO:43.6730545;-79.3911034
CREATED:20170920T143727Z
DTSTART:20171114T003000Z
DTEND:20171114T013000Z
DTSTAMP:20260419T212555Z
SUMMARY:XTSC Titans vs. White Noise
DESCRIPTION:White Noise vs. XTSC TitansPlus d'info : #20
X-ALT-DESC;FMTTYPE=text/html:<!DOCTYPE HTML PUBLIC "-//W3C//DTD HTML 3.2//E
	N">\n<HTML>\n<HEAD>\n<TITLE></TITLE>\n</HEAD>\n<BODY>\n<h3>White Noise vs. 
	XTSC Titans</h3>Plus d'info : <a href="https://www.golnetwork.com/game/v/11
	1051/">#20</a>\n\n</BODY>\n</HTML>
STATUS:CONFIRMED
CLASS:PUBLIC
URL:https://www.golnetwork.com/game/v/111051/
X-MICROSOFT-CDO-BUSYSTATUS:BUSY
X-MICROSOFT-CDO-IMPORTANCE:1
END:VEVENT
BEGIN:VEVENT
UID:gbaan@games.golnetwork.com
LOCATION:Jesse Ketchum Public School
GEO:43.6730545;-79.3911034
CREATED:20170920T143701Z
DTSTART:20171106T233000Z
DTEND:20171107T003000Z
DTSTAMP:20260419T212555Z
SUMMARY:Just for Kicks vs. White Noise
DESCRIPTION:White Noise vs. Just for KicksPlus d'info : #16
X-ALT-DESC;FMTTYPE=text/html:<!DOCTYPE HTML PUBLIC "-//W3C//DTD HTML 3.2//E
	N">\n<HTML>\n<HEAD>\n<TITLE></TITLE>\n</HEAD>\n<BODY>\n<h3>White Noise vs. 
	Just for Kicks</h3>Plus d'info : <a href="https://www.golnetwork.com/game/v
	/111049/">#16</a>\n\n</BODY>\n</HTML>
STATUS:CONFIRMED
CLASS:PUBLIC
URL:https://www.golnetwork.com/game/v/111049/
X-MICROSOFT-CDO-BUSYSTATUS:BUSY
X-MICROSOFT-CDO-IMPORTANCE:1
END:VEVENT
BEGIN:VEVENT
UID:gbaad@games.golnetwork.com
LOCATION:Jesse Ketchum Public School
GEO:43.6730545;-79.3911034
CREATED:20170920T143615Z
DTSTART:20171030T223000Z
DTEND:20171030T233000Z
DTSTAMP:20260419T212555Z
SUMMARY:White Noise vs. ITRG
DESCRIPTION:ITRG vs. White NoisePlus d'info : #13
X-ALT-DESC;FMTTYPE=text/html:<!DOCTYPE HTML PUBLIC "-//W3C//DTD HTML 3.2//E
	N">\n<HTML>\n<HEAD>\n<TITLE></TITLE>\n</HEAD>\n<BODY>\n<h3>ITRG vs. White N
	oise</h3>Plus d'info : <a href="https://www.golnetwork.com/game/v/111044/">
	#13</a>\n\n</BODY>\n</HTML>
STATUS:CONFIRMED
CLASS:PUBLIC
URL:https://www.golnetwork.com/game/v/111044/
X-MICROSOFT-CDO-BUSYSTATUS:BUSY
X-MICROSOFT-CDO-IMPORTANCE:1
END:VEVENT
BEGIN:VEVENT
UID:gbaa7@games.golnetwork.com
LOCATION:Jesse Ketchum Public School
GEO:43.6730545;-79.3911034
CREATED:20170920T143548Z
DTSTART:20171023T223000Z
DTEND:20171023T233000Z
DTSTAMP:20260419T212555Z
SUMMARY:White Noise vs. Seal Madrid
DESCRIPTION:Seal Madrid vs. White NoisePlus d'info : #10
X-ALT-DESC;FMTTYPE=text/html:<!DOCTYPE HTML PUBLIC "-//W3C//DTD HTML 3.2//E
	N">\n<HTML>\n<HEAD>\n<TITLE></TITLE>\n</HEAD>\n<BODY>\n<h3>Seal Madrid vs. 
	White Noise</h3>Plus d'info : <a href="https://www.golnetwork.com/game/v/11
	1041/">#10</a>\n\n</BODY>\n</HTML>
STATUS:CONFIRMED
CLASS:PUBLIC
URL:https://www.golnetwork.com/game/v/111041/
X-MICROSOFT-CDO-BUSYSTATUS:BUSY
X-MICROSOFT-CDO-IMPORTANCE:1
END:VEVENT
BEGIN:VEVENT
UID:gbaa3@games.golnetwork.com
LOCATION:Jesse Ketchum Public School
GEO:43.6730545;-79.3911034
CREATED:20170920T143529Z
DTSTART:20171016T233000Z
DTEND:20171017T003000Z
DTSTAMP:20260419T212555Z
SUMMARY:White Noise vs. About to Get Messi
DESCRIPTION:About to Get Messi vs. White NoisePlus d'info : #8
X-ALT-DESC;FMTTYPE=text/html:<!DOCTYPE HTML PUBLIC "-//W3C//DTD HTML 3.2//E
	N">\n<HTML>\n<HEAD>\n<TITLE></TITLE>\n</HEAD>\n<BODY>\n<h3>About to Get Mes
	si vs. White Noise</h3>Plus d'info : <a href="https://www.golnetwork.com/ga
	me/v/111039/">#8</a>\n\n</BODY>\n</HTML>
STATUS:CONFIRMED
CLASS:PUBLIC
URL:https://www.golnetwork.com/game/v/111039/
X-MICROSOFT-CDO-BUSYSTATUS:BUSY
X-MICROSOFT-CDO-IMPORTANCE:1
END:VEVENT
BEGIN:VEVENT
UID:gba9m@games.golnetwork.com
LOCATION:Jesse Ketchum Public School
GEO:43.6730545;-79.3911034
CREATED:20170920T143450Z
DTSTART:20171002T223000Z
DTEND:20171002T233000Z
DTSTAMP:20260419T212555Z
SUMMARY:XTSC Titans vs. White Noise
DESCRIPTION:White Noise vs. XTSC TitansPlus d'info : #4
X-ALT-DESC;FMTTYPE=text/html:<!DOCTYPE HTML PUBLIC "-//W3C//DTD HTML 3.2//E
	N">\n<HTML>\n<HEAD>\n<TITLE></TITLE>\n</HEAD>\n<BODY>\n<h3>White Noise vs. 
	XTSC Titans</h3>Plus d'info : <a href="https://www.golnetwork.com/game/v/11
	1035/">#4</a>\n\n</BODY>\n</HTML>
STATUS:CONFIRMED
CLASS:PUBLIC
URL:https://www.golnetwork.com/game/v/111035/
X-MICROSOFT-CDO-BUSYSTATUS:BUSY
X-MICROSOFT-CDO-IMPORTANCE:1
END:VEVENT
BEGIN:VEVENT
UID:gba9k@games.golnetwork.com
LOCATION:Jesse Ketchum Public School
GEO:43.6730545;-79.3911034
CREATED:20170920T142631Z
DTSTART:20170926T003000Z
DTEND:20170926T013000Z
DTSTAMP:20260419T212555Z
SUMMARY:Just for Kicks vs. White Noise
DESCRIPTION:White Noise vs. Just for KicksPlus d'info : #3
X-ALT-DESC;FMTTYPE=text/html:<!DOCTYPE HTML PUBLIC "-//W3C//DTD HTML 3.2//E
	N">\n<HTML>\n<HEAD>\n<TITLE></TITLE>\n</HEAD>\n<BODY>\n<h3>White Noise vs. 
	Just for Kicks</h3>Plus d'info : <a href="https://www.golnetwork.com/game/v
	/111034/">#3</a>\n\n</BODY>\n</HTML>
STATUS:CONFIRMED
CLASS:PUBLIC
URL:https://www.golnetwork.com/game/v/111034/
X-MICROSOFT-CDO-BUSYSTATUS:BUSY
X-MICROSOFT-CDO-IMPORTANCE:1
END:VEVENT
END:VCALENDAR
