BEGIN:VCALENDAR
PRODID:-//gdesolutions.com//MV Framework 1.0.0.1607 Calendar//EN
VERSION:2.0
METHOD:PUBLISH
CALSCALE:GREGORIAN
BEGIN:VEVENT
UID:g990m@games.golnetwork.com
LOCATION:Louis Riel #2
GEO:45.4410208;-75.5715394
CREATED:20160726T075346Z
DTSTART:20160728T223000Z
DTEND:20160729T000000Z
DTSTAMP:20260425T151853Z
SUMMARY:Team Doug vs. SupportMyMac Attack
DESCRIPTION:SupportMyMac Attack vs. Team DougPlus d'info : #149
X-ALT-DESC;FMTTYPE=text/html:<!DOCTYPE HTML PUBLIC "-//W3C//DTD HTML 3.2//E
	N">\n<HTML>\n<HEAD>\n<TITLE></TITLE>\n</HEAD>\n<BODY>\n<h3>SupportMyMac Att
	ack vs. Team Doug</h3>Plus d'info : <a href="https://www.golnetwork.com/gam
	e/v/90866/">#149</a>\n\n</BODY>\n</HTML>
STATUS:CONFIRMED
CLASS:PUBLIC
URL:https://www.golnetwork.com/game/v/90866/
X-MICROSOFT-CDO-BUSYSTATUS:BUSY
X-MICROSOFT-CDO-IMPORTANCE:1
END:VEVENT
BEGIN:VEVENT
UID:g97g8@games.golnetwork.com
LOCATION:McCarthy Park Field #5
GEO:45.3517739;-75.6718247
CREATED:20160708T195455Z
DTSTART:20160721T224500Z
DTEND:20160722T001500Z
DTSTAMP:20260425T151853Z
SUMMARY:One Kick Wonders FC vs. Team Doug
DESCRIPTION:Team Doug vs. One Kick Wonders FCPlus d'info : #31
X-ALT-DESC;FMTTYPE=text/html:<!DOCTYPE HTML PUBLIC "-//W3C//DTD HTML 3.2//E
	N">\n<HTML>\n<HEAD>\n<TITLE></TITLE>\n</HEAD>\n<BODY>\n<h3>Team Doug vs. On
	e Kick Wonders FC</h3>Plus d'info : <a href="https://www.golnetwork.com/gam
	e/v/90346/">#31</a>\n\n</BODY>\n</HTML>
STATUS:CONFIRMED
CLASS:PUBLIC
URL:https://www.golnetwork.com/game/v/90346/
X-MICROSOFT-CDO-BUSYSTATUS:BUSY
X-MICROSOFT-CDO-IMPORTANCE:1
END:VEVENT
BEGIN:VEVENT
UID:g97eq@games.golnetwork.com
LOCATION:McCarthy Park Field #4
GEO:45.3518541;-75.6719009
CREATED:20160708T195454Z
DTSTART:20160714T224500Z
DTEND:20160715T001500Z
DTSTAMP:20260425T151853Z
SUMMARY:SupportMyMac Attack vs. Team Doug
DESCRIPTION:Team Doug vs. SupportMyMac AttackPlus d'info : #13
X-ALT-DESC;FMTTYPE=text/html:<!DOCTYPE HTML PUBLIC "-//W3C//DTD HTML 3.2//E
	N">\n<HTML>\n<HEAD>\n<TITLE></TITLE>\n</HEAD>\n<BODY>\n<h3>Team Doug vs. Su
	pportMyMac Attack</h3>Plus d'info : <a href="https://www.golnetwork.com/gam
	e/v/90328/">#13</a>\n\n</BODY>\n</HTML>
STATUS:CONFIRMED
CLASS:PUBLIC
URL:https://www.golnetwork.com/game/v/90328/
X-MICROSOFT-CDO-BUSYSTATUS:BUSY
X-MICROSOFT-CDO-IMPORTANCE:1
END:VEVENT
BEGIN:VEVENT
UID:g95ai@games.golnetwork.com
LOCATION:McCarthy Park Field #4
GEO:45.3518541;-75.6719009
CREATED:20160621T055044Z
DTSTART:20160707T224500Z
DTEND:20160708T001500Z
DTSTAMP:20260425T151853Z
SUMMARY:Missile-toe vs. Team Doug
DESCRIPTION:Team Doug vs. Missile-toePlus d'info : #45
X-ALT-DESC;FMTTYPE=text/html:<!DOCTYPE HTML PUBLIC "-//W3C//DTD HTML 3.2//E
	N">\n<HTML>\n<HEAD>\n<TITLE></TITLE>\n</HEAD>\n<BODY>\n<h3>Team Doug vs. Mi
	ssile-toe</h3>Plus d'info : <a href="https://www.golnetwork.com/game/v/8954
	1/">#45</a>\n\n</BODY>\n</HTML>
STATUS:CONFIRMED
CLASS:PUBLIC
URL:https://www.golnetwork.com/game/v/89541/
X-MICROSOFT-CDO-BUSYSTATUS:BUSY
X-MICROSOFT-CDO-IMPORTANCE:1
END:VEVENT
BEGIN:VEVENT
UID:g958o@games.golnetwork.com
LOCATION:Louis Riel #2
GEO:45.4410208;-75.5715394
CREATED:20160621T055043Z
DTSTART:20160701T000000Z
DTEND:20160701T013000Z
DTSTAMP:20260425T151853Z
SUMMARY:The Miseducation vs. Team Doug
DESCRIPTION:Team Doug vs. The MiseducationPlus d'info : #21
X-ALT-DESC;FMTTYPE=text/html:<!DOCTYPE HTML PUBLIC "-//W3C//DTD HTML 3.2//E
	N">\n<HTML>\n<HEAD>\n<TITLE></TITLE>\n</HEAD>\n<BODY>\n<h3>Team Doug vs. Th
	e Miseducation</h3>Plus d'info : <a href="https://www.golnetwork.com/game/v
	/89517/">#21</a>\n\n</BODY>\n</HTML>
STATUS:CONFIRMED
CLASS:PUBLIC
URL:https://www.golnetwork.com/game/v/89517/
X-MICROSOFT-CDO-BUSYSTATUS:BUSY
X-MICROSOFT-CDO-IMPORTANCE:1
END:VEVENT
BEGIN:VEVENT
UID:g957b@games.golnetwork.com
LOCATION:Louis Riel #1
GEO:45.4410208;-75.5715394
CREATED:20160621T055041Z
DTSTART:20160623T223000Z
DTEND:20160624T000000Z
DTSTAMP:20260425T151853Z
SUMMARY:Fm FC vs. Team Doug
DESCRIPTION:Team Doug vs. Fm FCPlus d'info : #1
X-ALT-DESC;FMTTYPE=text/html:<!DOCTYPE HTML PUBLIC "-//W3C//DTD HTML 3.2//E
	N">\n<HTML>\n<HEAD>\n<TITLE></TITLE>\n</HEAD>\n<BODY>\n<h3>Team Doug vs. Fm
	 FC</h3>Plus d'info : <a href="https://www.golnetwork.com/game/v/89497/">#1
	</a>\n\n</BODY>\n</HTML>
STATUS:CONFIRMED
CLASS:PUBLIC
URL:https://www.golnetwork.com/game/v/89497/
X-MICROSOFT-CDO-BUSYSTATUS:BUSY
X-MICROSOFT-CDO-IMPORTANCE:1
END:VEVENT
BEGIN:VEVENT
UID:g94fk@games.golnetwork.com
LOCATION:Lester B Pearson Field 2
GEO:45.4429892;-75.5963901
CREATED:20160530T033909Z
DTSTART:20160616T224500Z
DTEND:20160617T001500Z
DTSTAMP:20260425T151853Z
SUMMARY:Team Doug vs. Crowding Your Box
DESCRIPTION:Crowding Your Box vs. Team DougPlus d'info : #49
X-ALT-DESC;FMTTYPE=text/html:<!DOCTYPE HTML PUBLIC "-//W3C//DTD HTML 3.2//E
	N">\n<HTML>\n<HEAD>\n<TITLE></TITLE>\n</HEAD>\n<BODY>\n<h3>Crowding Your Bo
	x vs. Team Doug</h3>Plus d'info : <a href="https://www.golnetwork.com/game/
	v/89245/">#49</a>\n\n</BODY>\n</HTML>
STATUS:CONFIRMED
CLASS:PUBLIC
URL:https://www.golnetwork.com/game/v/89245/
X-MICROSOFT-CDO-BUSYSTATUS:BUSY
X-MICROSOFT-CDO-IMPORTANCE:1
END:VEVENT
BEGIN:VEVENT
UID:g94di@games.golnetwork.com
LOCATION:Louis Riel #1
GEO:45.4410208;-75.5715394
CREATED:20160530T033908Z
DTSTART:20160610T000000Z
DTEND:20160610T013000Z
DTSTAMP:20260425T151853Z
SUMMARY:Arsenanal FC vs. Team Doug
DESCRIPTION:Team Doug vs. Arsenanal FCPlus d'info : #21
X-ALT-DESC;FMTTYPE=text/html:<!DOCTYPE HTML PUBLIC "-//W3C//DTD HTML 3.2//E
	N">\n<HTML>\n<HEAD>\n<TITLE></TITLE>\n</HEAD>\n<BODY>\n<h3>Team Doug vs. Ar
	senanal FC</h3>Plus d'info : <a href="https://www.golnetwork.com/game/v/892
	17/">#21</a>\n\n</BODY>\n</HTML>
STATUS:CONFIRMED
CLASS:PUBLIC
URL:https://www.golnetwork.com/game/v/89217/
X-MICROSOFT-CDO-BUSYSTATUS:BUSY
X-MICROSOFT-CDO-IMPORTANCE:1
END:VEVENT
BEGIN:VEVENT
UID:g94cb@games.golnetwork.com
LOCATION:Louis Riel #1
GEO:45.4410208;-75.5715394
CREATED:20160530T033907Z
DTSTART:20160603T000000Z
DTEND:20160603T013000Z
DTSTAMP:20260425T151853Z
SUMMARY:Team Doug vs. Individuals 2
DESCRIPTION:Individuals 2 vs. Team DougPlus d'info : #4
X-ALT-DESC;FMTTYPE=text/html:<!DOCTYPE HTML PUBLIC "-//W3C//DTD HTML 3.2//E
	N">\n<HTML>\n<HEAD>\n<TITLE></TITLE>\n</HEAD>\n<BODY>\n<h3>Individuals 2 vs
	. Team Doug</h3>Plus d'info : <a href="https://www.golnetwork.com/game/v/89
	200/">#4</a>\n\n</BODY>\n</HTML>
STATUS:CONFIRMED
CLASS:PUBLIC
URL:https://www.golnetwork.com/game/v/89200/
X-MICROSOFT-CDO-BUSYSTATUS:BUSY
X-MICROSOFT-CDO-IMPORTANCE:1
END:VEVENT
BEGIN:VEVENT
UID:g921o@games.golnetwork.com
LOCATION:Louis Riel #1
GEO:45.4410208;-75.5715394
CREATED:20160516T202552Z
DTSTART:20160527T000000Z
DTEND:20160527T013000Z
DTSTAMP:20260425T151853Z
SUMMARY:Team Doug vs. Cornerstone FC
DESCRIPTION:Cornerstone FC vs. Team DougPlus d'info : #4
X-ALT-DESC;FMTTYPE=text/html:<!DOCTYPE HTML PUBLIC "-//W3C//DTD HTML 3.2//E
	N">\n<HTML>\n<HEAD>\n<TITLE></TITLE>\n</HEAD>\n<BODY>\n<h3>Cornerstone FC v
	s. Team Doug</h3>Plus d'info : <a href="https://www.golnetwork.com/game/v/8
	8329/">#4</a>\n\n</BODY>\n</HTML>
STATUS:CONFIRMED
CLASS:PUBLIC
URL:https://www.golnetwork.com/game/v/88329/
X-MICROSOFT-CDO-BUSYSTATUS:BUSY
X-MICROSOFT-CDO-IMPORTANCE:1
END:VEVENT
END:VCALENDAR
