BEGIN:VCALENDAR
PRODID:-//gdesolutions.com//MV Framework 1.0.0.1607 Calendar//EN
VERSION:2.0
METHOD:PUBLISH
CALSCALE:GREGORIAN
BEGIN:VEVENT
UID:g4h1e@games.golnetwork.com
LOCATION:Fieldhouse C & D
GEO:45.10662;-94.578209
CREATED:20140114T193353Z
DTSTART:20140328T013000Z
DTEND:20140328T021400Z
DTSTAMP:20260422T040906Z
SUMMARY:Sorry Not Sorry vs. Chest Hair
DESCRIPTION:Chest Hair vs. Sorry Not SorryPlus d'info : #317
X-ALT-DESC;FMTTYPE=text/html:<!DOCTYPE HTML PUBLIC "-//W3C//DTD HTML 3.2//E
	N">\n<HTML>\n<HEAD>\n<TITLE></TITLE>\n</HEAD>\n<BODY>\n<h3>Chest Hair vs. S
	orry Not Sorry</h3>Plus d'info : <a href="https://www.golnetwork.com/game/v
	/44584/">#317</a>\n\n</BODY>\n</HTML>
STATUS:CONFIRMED
CLASS:PUBLIC
URL:https://www.golnetwork.com/game/v/44584/
X-MICROSOFT-CDO-BUSYSTATUS:BUSY
X-MICROSOFT-CDO-IMPORTANCE:1
END:VEVENT
BEGIN:VEVENT
UID:g4k4o@games.golnetwork.com
LOCATION:Fieldhouse C & D
GEO:45.10662;-94.578209
CREATED:20140203T034246Z
DTSTART:20140325T233000Z
DTEND:20140326T001400Z
DTSTAMP:20260422T040906Z
SUMMARY:Sorry Not Sorry vs. Firebirds
DESCRIPTION:Firebirds vs. Sorry Not SorryPlus d'info : R#255
X-ALT-DESC;FMTTYPE=text/html:<!DOCTYPE HTML PUBLIC "-//W3C//DTD HTML 3.2//E
	N">\n<HTML>\n<HEAD>\n<TITLE></TITLE>\n</HEAD>\n<BODY>\n<h3>Firebirds vs. So
	rry Not Sorry</h3>Plus d'info : <a href="https://www.golnetwork.com/game/v/
	45723/">R#255</a>\n\n</BODY>\n</HTML>
STATUS:CONFIRMED
CLASS:PUBLIC
URL:https://www.golnetwork.com/game/v/45723/
X-MICROSOFT-CDO-BUSYSTATUS:BUSY
X-MICROSOFT-CDO-IMPORTANCE:1
END:VEVENT
BEGIN:VEVENT
UID:g4gnp@games.golnetwork.com
LOCATION:Fieldhouse C & D
GEO:45.10662;-94.578209
CREATED:20140114T193351Z
DTSTART:20140315T143000Z
DTEND:20140315T151400Z
DTSTAMP:20260422T040906Z
SUMMARY:Sorry Not Sorry vs. Firebirds
DESCRIPTION:Firebirds vs. Sorry Not SorryPlus d'info : #255
X-ALT-DESC;FMTTYPE=text/html:<!DOCTYPE HTML PUBLIC "-//W3C//DTD HTML 3.2//E
	N">\n<HTML>\n<HEAD>\n<TITLE></TITLE>\n</HEAD>\n<BODY>\n<h3>Firebirds vs. So
	rry Not Sorry</h3>Plus d'info : <a href="https://www.golnetwork.com/game/v/
	44522/">#255</a>\n\n</BODY>\n</HTML>
STATUS:RESCHEDULED
CLASS:PUBLIC
URL:https://www.golnetwork.com/game/v/44522/
X-MICROSOFT-CDO-BUSYSTATUS:BUSY
X-MICROSOFT-CDO-IMPORTANCE:1
END:VEVENT
BEGIN:VEVENT
UID:g4gka@games.golnetwork.com
LOCATION:Fieldhouse C & D
GEO:45.10662;-94.578209
CREATED:20140114T193349Z
DTSTART:20140222T023000Z
DTEND:20140222T031400Z
DTSTAMP:20260422T040906Z
SUMMARY:Sorry Not Sorry vs. Gardenites
DESCRIPTION:Gardenites vs. Sorry Not SorryPlus d'info : #206
X-ALT-DESC;FMTTYPE=text/html:<!DOCTYPE HTML PUBLIC "-//W3C//DTD HTML 3.2//E
	N">\n<HTML>\n<HEAD>\n<TITLE></TITLE>\n</HEAD>\n<BODY>\n<h3>Gardenites vs. S
	orry Not Sorry</h3>Plus d'info : <a href="https://www.golnetwork.com/game/v
	/44474/">#206</a>\n\n</BODY>\n</HTML>
STATUS:CONFIRMED
CLASS:PUBLIC
URL:https://www.golnetwork.com/game/v/44474/
X-MICROSOFT-CDO-BUSYSTATUS:BUSY
X-MICROSOFT-CDO-IMPORTANCE:1
END:VEVENT
BEGIN:VEVENT
UID:g4ggg@games.golnetwork.com
LOCATION:Fieldhouse C & D
GEO:45.10662;-94.578209
CREATED:20140114T193347Z
DTSTART:20140209T143000Z
DTEND:20140209T151400Z
DTSTAMP:20260422T040906Z
SUMMARY:#DreamTeam vs. Sorry Not Sorry
DESCRIPTION:Sorry Not Sorry vs. #DreamTeamPlus d'info : #155
X-ALT-DESC;FMTTYPE=text/html:<!DOCTYPE HTML PUBLIC "-//W3C//DTD HTML 3.2//E
	N">\n<HTML>\n<HEAD>\n<TITLE></TITLE>\n</HEAD>\n<BODY>\n<h3>Sorry Not Sorry 
	vs. #DreamTeam</h3>Plus d'info : <a href="https://www.golnetwork.com/game/v
	/44423/">#155</a>\n\n</BODY>\n</HTML>
STATUS:CONFIRMED
CLASS:PUBLIC
URL:https://www.golnetwork.com/game/v/44423/
X-MICROSOFT-CDO-BUSYSTATUS:BUSY
X-MICROSOFT-CDO-IMPORTANCE:1
END:VEVENT
BEGIN:VEVENT
UID:g4geg@games.golnetwork.com
LOCATION:Fieldhouse C & D
GEO:45.10662;-94.578209
CREATED:20140114T193346Z
DTSTART:20140202T223000Z
DTEND:20140202T231400Z
DTSTAMP:20260422T040906Z
SUMMARY:Cleats & Cleavage vs. Sorry Not Sorry
DESCRIPTION:Sorry Not Sorry vs. Cleats & CleavagePlus d'info : #126
X-ALT-DESC;FMTTYPE=text/html:<!DOCTYPE HTML PUBLIC "-//W3C//DTD HTML 3.2//E
	N">\n<HTML>\n<HEAD>\n<TITLE></TITLE>\n</HEAD>\n<BODY>\n<h3>Sorry Not Sorry 
	vs. Cleats & Cleavage</h3>Plus d'info : <a href="https://www.golnetwork.com
	/game/v/44396/">#126</a>\n\n</BODY>\n</HTML>
STATUS:CONFIRMED
CLASS:PUBLIC
URL:https://www.golnetwork.com/game/v/44396/
X-MICROSOFT-CDO-BUSYSTATUS:BUSY
X-MICROSOFT-CDO-IMPORTANCE:1
END:VEVENT
BEGIN:VEVENT
UID:g4din@games.golnetwork.com
LOCATION:Fieldhouse C & D
GEO:45.10662;-94.578209
CREATED:20140107T204108Z
DTSTART:20140121T013000Z
DTEND:20140121T021400Z
DTSTAMP:20260422T040906Z
SUMMARY:Floor Sharks vs. Sorry Not Sorry
DESCRIPTION:Sorry Not Sorry vs. Floor SharksPlus d'info : #64
X-ALT-DESC;FMTTYPE=text/html:<!DOCTYPE HTML PUBLIC "-//W3C//DTD HTML 3.2//E
	N">\n<HTML>\n<HEAD>\n<TITLE></TITLE>\n</HEAD>\n<BODY>\n<h3>Sorry Not Sorry 
	vs. Floor Sharks</h3>Plus d'info : <a href="https://www.golnetwork.com/game
	/v/43360/">#64</a>\n\n</BODY>\n</HTML>
STATUS:CONFIRMED
CLASS:PUBLIC
URL:https://www.golnetwork.com/game/v/43360/
X-MICROSOFT-CDO-BUSYSTATUS:BUSY
X-MICROSOFT-CDO-IMPORTANCE:1
END:VEVENT
END:VCALENDAR
