BEGIN:VCALENDAR
PRODID:-//gdesolutions.com//MV Framework 1.0.0.1607 Calendar//EN
VERSION:2.0
METHOD:PUBLISH
CALSCALE:GREGORIAN
BEGIN:VEVENT
UID:g4ei0@games.golnetwork.com
LOCATION:Monarch Park Stadium - Field 2
GEO:43.6792789;-79.3234873
CREATED:20140109T190521Z
DTSTART:20140224T010000Z
DTEND:20140224T020000Z
DTSTAMP:20260423T025654Z
SUMMARY:DaBears vs. Jogo Bonito
DESCRIPTION:Jogo Bonito vs. DaBearsPlus d'info : #166
X-ALT-DESC;FMTTYPE=text/html:<!DOCTYPE HTML PUBLIC "-//W3C//DTD HTML 3.2//E
	N">\n<HTML>\n<HEAD>\n<TITLE></TITLE>\n</HEAD>\n<BODY>\n<h3>Jogo Bonito vs. 
	DaBears</h3>Plus d'info : <a href="https://www.golnetwork.com/game/v/43713/
	">#166</a>\n\n</BODY>\n</HTML>
STATUS:CONFIRMED
CLASS:PUBLIC
URL:https://www.golnetwork.com/game/v/43713/
X-MICROSOFT-CDO-BUSYSTATUS:BUSY
X-MICROSOFT-CDO-IMPORTANCE:1
END:VEVENT
BEGIN:VEVENT
UID:g4ehh@games.golnetwork.com
LOCATION:Monarch Park Stadium - Field 1
GEO:43.6792789;-79.3234873
CREATED:20140109T190521Z
DTSTART:20140217T010000Z
DTEND:20140217T020000Z
DTSTAMP:20260423T025654Z
SUMMARY:Witness the Fitness vs. DaBears
DESCRIPTION:DaBears vs. Witness the FitnessPlus d'info : #125
X-ALT-DESC;FMTTYPE=text/html:<!DOCTYPE HTML PUBLIC "-//W3C//DTD HTML 3.2//E
	N">\n<HTML>\n<HEAD>\n<TITLE></TITLE>\n</HEAD>\n<BODY>\n<h3>DaBears vs. Witn
	ess the Fitness</h3>Plus d'info : <a href="https://www.golnetwork.com/game/
	v/43708/">#125</a>\n\n</BODY>\n</HTML>
STATUS:CONFIRMED
CLASS:PUBLIC
URL:https://www.golnetwork.com/game/v/43708/
X-MICROSOFT-CDO-BUSYSTATUS:BUSY
X-MICROSOFT-CDO-IMPORTANCE:1
END:VEVENT
BEGIN:VEVENT
UID:g4eh9@games.golnetwork.com
LOCATION:Monarch Park Stadium - Field 1
GEO:43.6792789;-79.3234873
CREATED:20140109T190521Z
DTSTART:20140210T010000Z
DTEND:20140210T020000Z
DTSTAMP:20260423T025654Z
SUMMARY:Team Nice Friends vs. DaBears
DESCRIPTION:DaBears vs. Team Nice FriendsPlus d'info : #106
X-ALT-DESC;FMTTYPE=text/html:<!DOCTYPE HTML PUBLIC "-//W3C//DTD HTML 3.2//E
	N">\n<HTML>\n<HEAD>\n<TITLE></TITLE>\n</HEAD>\n<BODY>\n<h3>DaBears vs. Team
	 Nice Friends</h3>Plus d'info : <a href="https://www.golnetwork.com/game/v/
	43704/">#106</a>\n\n</BODY>\n</HTML>
STATUS:CONFIRMED
CLASS:PUBLIC
URL:https://www.golnetwork.com/game/v/43704/
X-MICROSOFT-CDO-BUSYSTATUS:BUSY
X-MICROSOFT-CDO-IMPORTANCE:1
END:VEVENT
BEGIN:VEVENT
UID:g4eh3@games.golnetwork.com
LOCATION:Monarch Park Stadium - Field 2
GEO:43.6792789;-79.3234873
CREATED:20140109T190521Z
DTSTART:20140203T010000Z
DTEND:20140203T020000Z
DTSTAMP:20260423T025654Z
SUMMARY:Witness the Fitness vs. DaBears
DESCRIPTION:DaBears vs. Witness the FitnessPlus d'info : #66
X-ALT-DESC;FMTTYPE=text/html:<!DOCTYPE HTML PUBLIC "-//W3C//DTD HTML 3.2//E
	N">\n<HTML>\n<HEAD>\n<TITLE></TITLE>\n</HEAD>\n<BODY>\n<h3>DaBears vs. Witn
	ess the Fitness</h3>Plus d'info : <a href="https://www.golnetwork.com/game/
	v/43701/">#66</a>\n\n</BODY>\n</HTML>
STATUS:CONFIRMED
CLASS:PUBLIC
URL:https://www.golnetwork.com/game/v/43701/
X-MICROSOFT-CDO-BUSYSTATUS:BUSY
X-MICROSOFT-CDO-IMPORTANCE:1
END:VEVENT
BEGIN:VEVENT
UID:g4egq@games.golnetwork.com
LOCATION:Monarch Park Stadium - Field 2
GEO:43.6792789;-79.3234873
CREATED:20140109T190521Z
DTSTART:20140203T000000Z
DTEND:20140203T010000Z
DTSTAMP:20260423T025654Z
SUMMARY:Back-Punchers vs. DaBears
DESCRIPTION:DaBears vs. Back-PunchersPlus d'info : #64
X-ALT-DESC;FMTTYPE=text/html:<!DOCTYPE HTML PUBLIC "-//W3C//DTD HTML 3.2//E
	N">\n<HTML>\n<HEAD>\n<TITLE></TITLE>\n</HEAD>\n<BODY>\n<h3>DaBears vs. Back
	-Punchers</h3>Plus d'info : <a href="https://www.golnetwork.com/game/v/4369
	9/">#64</a>\n\n</BODY>\n</HTML>
STATUS:CONFIRMED
CLASS:PUBLIC
URL:https://www.golnetwork.com/game/v/43699/
X-MICROSOFT-CDO-BUSYSTATUS:BUSY
X-MICROSOFT-CDO-IMPORTANCE:1
END:VEVENT
BEGIN:VEVENT
UID:g4egm@games.golnetwork.com
LOCATION:Monarch Park Stadium - Field 2
GEO:43.6792789;-79.3234873
CREATED:20140109T190521Z
DTSTART:20140127T010000Z
DTEND:20140127T020000Z
DTSTAMP:20260423T025654Z
SUMMARY:Jogo Bonito vs. DaBears
DESCRIPTION:DaBears vs. Jogo BonitoPlus d'info : #34
X-ALT-DESC;FMTTYPE=text/html:<!DOCTYPE HTML PUBLIC "-//W3C//DTD HTML 3.2//E
	N">\n<HTML>\n<HEAD>\n<TITLE></TITLE>\n</HEAD>\n<BODY>\n<h3>DaBears vs. Jogo
	 Bonito</h3>Plus d'info : <a href="https://www.golnetwork.com/game/v/43697/
	">#34</a>\n\n</BODY>\n</HTML>
STATUS:CONFIRMED
CLASS:PUBLIC
URL:https://www.golnetwork.com/game/v/43697/
X-MICROSOFT-CDO-BUSYSTATUS:BUSY
X-MICROSOFT-CDO-IMPORTANCE:1
END:VEVENT
BEGIN:VEVENT
UID:g4ega@games.golnetwork.com
LOCATION:Monarch Park Stadium - Field 2
GEO:43.6792789;-79.3234873
CREATED:20140109T190521Z
DTSTART:20140120T000000Z
DTEND:20140120T010000Z
DTSTAMP:20260423T025654Z
SUMMARY:Duck Warriors vs. DaBears
DESCRIPTION:DaBears vs. Duck WarriorsPlus d'info : #21
X-ALT-DESC;FMTTYPE=text/html:<!DOCTYPE HTML PUBLIC "-//W3C//DTD HTML 3.2//E
	N">\n<HTML>\n<HEAD>\n<TITLE></TITLE>\n</HEAD>\n<BODY>\n<h3>DaBears vs. Duck
	 Warriors</h3>Plus d'info : <a href="https://www.golnetwork.com/game/v/4369
	1/">#21</a>\n\n</BODY>\n</HTML>
STATUS:CONFIRMED
CLASS:PUBLIC
URL:https://www.golnetwork.com/game/v/43691/
X-MICROSOFT-CDO-BUSYSTATUS:BUSY
X-MICROSOFT-CDO-IMPORTANCE:1
END:VEVENT
BEGIN:VEVENT
UID:g4eg6@games.golnetwork.com
LOCATION:Monarch Park Stadium - Field 2
GEO:43.6792789;-79.3234873
CREATED:20140109T190521Z
DTSTART:20140113T010000Z
DTEND:20140113T020000Z
DTSTAMP:20260423T025654Z
SUMMARY:1860 Degen vs. DaBears
DESCRIPTION:DaBears vs. 1860 DegenPlus d'info : #12
X-ALT-DESC;FMTTYPE=text/html:<!DOCTYPE HTML PUBLIC "-//W3C//DTD HTML 3.2//E
	N">\n<HTML>\n<HEAD>\n<TITLE></TITLE>\n</HEAD>\n<BODY>\n<h3>DaBears vs. 1860
	 Degen</h3>Plus d'info : <a href="https://www.golnetwork.com/game/v/43689/"
	>#12</a>\n\n</BODY>\n</HTML>
STATUS:CONFIRMED
CLASS:PUBLIC
URL:https://www.golnetwork.com/game/v/43689/
X-MICROSOFT-CDO-BUSYSTATUS:BUSY
X-MICROSOFT-CDO-IMPORTANCE:1
END:VEVENT
END:VCALENDAR
