BEGIN:VCALENDAR
PRODID:-//gdesolutions.com//MV Framework 1.0.0.1607 Calendar//EN
VERSION:2.0
METHOD:PUBLISH
CALSCALE:GREGORIAN
BEGIN:VEVENT
UID:g4n7k@games.golnetwork.com
LOCATION:Stewart Gymnasium
GEO:45.10662;-94.578209
CREATED:20140318T194908Z
DTSTART:20140325T001500Z
DTEND:20140325T011500Z
DTSTAMP:20260419T201709Z
SUMMARY:Kung Fu Pandas vs. Kamikaze
DESCRIPTION:Kamikaze vs. Kung Fu PandasPlus d'info : #30
X-ALT-DESC;FMTTYPE=text/html:<!DOCTYPE HTML PUBLIC "-//W3C//DTD HTML 3.2//E
	N">\n<HTML>\n<HEAD>\n<TITLE></TITLE>\n</HEAD>\n<BODY>\n<h3>Kamikaze vs. Kun
	g Fu Pandas</h3>Plus d'info : <a href="https://www.golnetwork.com/game/v/46
	855/">#30</a>\n\n</BODY>\n</HTML>
STATUS:CONFIRMED
CLASS:PUBLIC
URL:https://www.golnetwork.com/game/v/46855/
X-MICROSOFT-CDO-BUSYSTATUS:BUSY
X-MICROSOFT-CDO-IMPORTANCE:1
END:VEVENT
END:VCALENDAR
