BEGIN:VCALENDAR
PRODID:-//gdesolutions.com//MV Framework 1.0.0.1607 Calendar//EN
VERSION:2.0
METHOD:PUBLISH
CALSCALE:GREGORIAN
BEGIN:VEVENT
UID:g7gi3@games.golnetwork.com
LOCATION:McCarthy Park Field #2
GEO:45.3518541;-75.6719009
CREATED:20150817T175408Z
DTSTART:20150820T224500Z
DTEND:20150821T001500Z
DTSTAMP:20260419T130804Z
SUMMARY:Fluorescent Platypuses vs. The Miseducation
DESCRIPTION:The Miseducation vs. Fluorescent PlatypusesPlus d'info : #180
X-ALT-DESC;FMTTYPE=text/html:<!DOCTYPE HTML PUBLIC "-//W3C//DTD HTML 3.2//E
	N">\n<HTML>\n<HEAD>\n<TITLE></TITLE>\n</HEAD>\n<BODY>\n<h3>The Miseducation
	 vs. Fluorescent Platypuses</h3>Plus d'info : <a href="https://www.golnetwo
	rk.com/game/v/73968/">#180</a>\n\n</BODY>\n</HTML>
STATUS:CONFIRMED
CLASS:PUBLIC
URL:https://www.golnetwork.com/game/v/73968/
X-MICROSOFT-CDO-BUSYSTATUS:BUSY
X-MICROSOFT-CDO-IMPORTANCE:1
END:VEVENT
BEGIN:VEVENT
UID:g7eh4@games.golnetwork.com
LOCATION:McCarthy Park Field #5
GEO:45.3517739;-75.6718247
CREATED:20150727T195543Z
DTSTART:20150730T224500Z
DTEND:20150731T001500Z
DTSTAMP:20260419T130804Z
SUMMARY:Where's Josh vs. Fluorescent Platypuses
DESCRIPTION:Fluorescent Platypuses vs. Where's JoshPlus d'info : #143
X-ALT-DESC;FMTTYPE=text/html:<!DOCTYPE HTML PUBLIC "-//W3C//DTD HTML 3.2//E
	N">\n<HTML>\n<HEAD>\n<TITLE></TITLE>\n</HEAD>\n<BODY>\n<h3>Fluorescent Plat
	ypuses vs. Where's Josh</h3>Plus d'info : <a href="https://www.golnetwork.c
	om/game/v/73226/">#143</a>\n\n</BODY>\n</HTML>
STATUS:CONFIRMED
CLASS:PUBLIC
URL:https://www.golnetwork.com/game/v/73226/
X-MICROSOFT-CDO-BUSYSTATUS:BUSY
X-MICROSOFT-CDO-IMPORTANCE:1
END:VEVENT
BEGIN:VEVENT
UID:g7dpj@games.golnetwork.com
LOCATION:McCarthy Park Field #4
GEO:45.3518541;-75.6719009
CREATED:20150715T182250Z
DTSTART:20150723T224500Z
DTEND:20150724T001500Z
DTSTAMP:20260419T130804Z
SUMMARY:Fusion vs. Fluorescent Platypuses
DESCRIPTION:Fluorescent Platypuses vs. FusionPlus d'info : #4
X-ALT-DESC;FMTTYPE=text/html:<!DOCTYPE HTML PUBLIC "-//W3C//DTD HTML 3.2//E
	N">\n<HTML>\n<HEAD>\n<TITLE></TITLE>\n</HEAD>\n<BODY>\n<h3>Fluorescent Plat
	ypuses vs. Fusion</h3>Plus d'info : <a href="https://www.golnetwork.com/gam
	e/v/72977/">#4</a>\n\n</BODY>\n</HTML>
STATUS:CONFIRMED
CLASS:PUBLIC
URL:https://www.golnetwork.com/game/v/72977/
X-MICROSOFT-CDO-BUSYSTATUS:BUSY
X-MICROSOFT-CDO-IMPORTANCE:1
END:VEVENT
BEGIN:VEVENT
UID:g7dlf@games.golnetwork.com
LOCATION:Louis Riel #2
GEO:45.4410208;-75.5715394
CREATED:20150714T185707Z
DTSTART:20150716T223000Z
DTEND:20150717T000000Z
DTSTAMP:20260419T130804Z
SUMMARY:Flamingos vs. Fluorescent Platypuses
DESCRIPTION:Fluorescent Platypuses vs. FlamingosPlus d'info : #110
X-ALT-DESC;FMTTYPE=text/html:<!DOCTYPE HTML PUBLIC "-//W3C//DTD HTML 3.2//E
	N">\n<HTML>\n<HEAD>\n<TITLE></TITLE>\n</HEAD>\n<BODY>\n<h3>Fluorescent Plat
	ypuses vs. Flamingos</h3>Plus d'info : <a href="https://www.golnetwork.com/
	game/v/72921/">#110</a>\n\n</BODY>\n</HTML>
STATUS:CONFIRMED
CLASS:PUBLIC
URL:https://www.golnetwork.com/game/v/72921/
X-MICROSOFT-CDO-BUSYSTATUS:BUSY
X-MICROSOFT-CDO-IMPORTANCE:1
END:VEVENT
BEGIN:VEVENT
UID:g7agf@games.golnetwork.com
LOCATION:Louis Riel #1
GEO:45.4410208;-75.5715394
CREATED:20150707T063048Z
DTSTART:20150709T223000Z
DTEND:20150710T000000Z
DTSTAMP:20260419T130804Z
SUMMARY:Fluorescent Platypuses vs. Strikers FC
DESCRIPTION:Strikers FC vs. Fluorescent PlatypusesPlus d'info : #3
X-ALT-DESC;FMTTYPE=text/html:<!DOCTYPE HTML PUBLIC "-//W3C//DTD HTML 3.2//E
	N">\n<HTML>\n<HEAD>\n<TITLE></TITLE>\n</HEAD>\n<BODY>\n<h3>Strikers FC vs. 
	Fluorescent Platypuses</h3>Plus d'info : <a href="https://www.golnetwork.co
	m/game/v/71760/">#3</a>\n\n</BODY>\n</HTML>
STATUS:CONFIRMED
CLASS:PUBLIC
URL:https://www.golnetwork.com/game/v/71760/
X-MICROSOFT-CDO-BUSYSTATUS:BUSY
X-MICROSOFT-CDO-IMPORTANCE:1
END:VEVENT
BEGIN:VEVENT
UID:g78ni@games.golnetwork.com
LOCATION:Louis Riel #2
GEO:45.4410208;-75.5715394
CREATED:20150622T201106Z
DTSTART:20150702T223000Z
DTEND:20150703T000000Z
DTSTAMP:20260419T130804Z
SUMMARY:Just For Kicks vs. Fluorescent Platypuses
DESCRIPTION:Fluorescent Platypuses vs. Just For KicksPlus d'info : #24
X-ALT-DESC;FMTTYPE=text/html:<!DOCTYPE HTML PUBLIC "-//W3C//DTD HTML 3.2//E
	N">\n<HTML>\n<HEAD>\n<TITLE></TITLE>\n</HEAD>\n<BODY>\n<h3>Fluorescent Plat
	ypuses vs. Just For Kicks</h3>Plus d'info : <a href="https://www.golnetwork
	.com/game/v/71127/">#24</a>\n\n</BODY>\n</HTML>
STATUS:CONFIRMED
CLASS:PUBLIC
URL:https://www.golnetwork.com/game/v/71127/
X-MICROSOFT-CDO-BUSYSTATUS:BUSY
X-MICROSOFT-CDO-IMPORTANCE:1
END:VEVENT
BEGIN:VEVENT
UID:g78m5@games.golnetwork.com
LOCATION:McCarthy Park Field #3
GEO:45.3518541;-75.6719009
CREATED:20150622T201103Z
DTSTART:20150625T224500Z
DTEND:20150626T001500Z
DTSTAMP:20260419T130804Z
SUMMARY:Junkyard Dogs vs. Fluorescent Platypuses
DESCRIPTION:Fluorescent Platypuses vs. Junkyard DogsPlus d'info : #3
X-ALT-DESC;FMTTYPE=text/html:<!DOCTYPE HTML PUBLIC "-//W3C//DTD HTML 3.2//E
	N">\n<HTML>\n<HEAD>\n<TITLE></TITLE>\n</HEAD>\n<BODY>\n<h3>Fluorescent Plat
	ypuses vs. Junkyard Dogs</h3>Plus d'info : <a href="https://www.golnetwork.
	com/game/v/71107/">#3</a>\n\n</BODY>\n</HTML>
STATUS:CONFIRMED
CLASS:PUBLIC
URL:https://www.golnetwork.com/game/v/71107/
X-MICROSOFT-CDO-BUSYSTATUS:BUSY
X-MICROSOFT-CDO-IMPORTANCE:1
END:VEVENT
BEGIN:VEVENT
UID:g779h@games.golnetwork.com
LOCATION:McCarthy Park Field #3
GEO:45.3518541;-75.6719009
CREATED:20150530T191930Z
DTSTART:20150618T224500Z
DTEND:20150619T001500Z
DTSTAMP:20260419T130804Z
SUMMARY:Fluorescent Platypuses vs. Spartans
DESCRIPTION:Spartans vs. Fluorescent PlatypusesPlus d'info : #19
X-ALT-DESC;FMTTYPE=text/html:<!DOCTYPE HTML PUBLIC "-//W3C//DTD HTML 3.2//E
	N">\n<HTML>\n<HEAD>\n<TITLE></TITLE>\n</HEAD>\n<BODY>\n<h3>Spartans vs. Flu
	orescent Platypuses</h3>Plus d'info : <a href="https://www.golnetwork.com/g
	ame/v/70573/">#19</a>\n\n</BODY>\n</HTML>
STATUS:CONFIRMED
CLASS:PUBLIC
URL:https://www.golnetwork.com/game/v/70573/
X-MICROSOFT-CDO-BUSYSTATUS:BUSY
X-MICROSOFT-CDO-IMPORTANCE:1
END:VEVENT
BEGIN:VEVENT
UID:g779b@games.golnetwork.com
LOCATION:Lester B Pearson Field 2
GEO:45.4429892;-75.5963901
CREATED:20150530T191930Z
DTSTART:20150611T224500Z
DTEND:20150612T001500Z
DTSTAMP:20260419T130804Z
SUMMARY:50 Shades of Pink vs. Fluorescent Platypuses
DESCRIPTION:Fluorescent Platypuses vs. 50 Shades of PinkPlus d'info : #16
X-ALT-DESC;FMTTYPE=text/html:<!DOCTYPE HTML PUBLIC "-//W3C//DTD HTML 3.2//E
	N">\n<HTML>\n<HEAD>\n<TITLE></TITLE>\n</HEAD>\n<BODY>\n<h3>Fluorescent Plat
	ypuses vs. 50 Shades of Pink</h3>Plus d'info : <a href="https://www.golnetw
	ork.com/game/v/70570/">#16</a>\n\n</BODY>\n</HTML>
STATUS:CONFIRMED
CLASS:PUBLIC
URL:https://www.golnetwork.com/game/v/70570/
X-MICROSOFT-CDO-BUSYSTATUS:BUSY
X-MICROSOFT-CDO-IMPORTANCE:1
END:VEVENT
BEGIN:VEVENT
UID:g777f@games.golnetwork.com
LOCATION:McCarthy Park Field #5
GEO:45.3517739;-75.6718247
CREATED:20150529T221254Z
DTSTART:20150604T224500Z
DTEND:20150605T001500Z
DTSTAMP:20260419T130804Z
SUMMARY:Fluorescent Platypuses vs. Mamonas Miserables
DESCRIPTION:Mamonas Miserables vs. Fluorescent PlatypusesPlus d'info : #5
X-ALT-DESC;FMTTYPE=text/html:<!DOCTYPE HTML PUBLIC "-//W3C//DTD HTML 3.2//E
	N">\n<HTML>\n<HEAD>\n<TITLE></TITLE>\n</HEAD>\n<BODY>\n<h3>Mamonas Miserabl
	es vs. Fluorescent Platypuses</h3>Plus d'info : <a href="https://www.golnet
	work.com/game/v/70545/">#5</a>\n\n</BODY>\n</HTML>
STATUS:CONFIRMED
CLASS:PUBLIC
URL:https://www.golnetwork.com/game/v/70545/
X-MICROSOFT-CDO-BUSYSTATUS:BUSY
X-MICROSOFT-CDO-IMPORTANCE:1
END:VEVENT
BEGIN:VEVENT
UID:g75ca@games.golnetwork.com
LOCATION:McCarthy Park Field #3
GEO:45.3518541;-75.6719009
CREATED:20150523T091649Z
DTSTART:20150528T224500Z
DTEND:20150529T001500Z
DTSTAMP:20260419T130804Z
SUMMARY:Fluorescent Platypuses vs. Picante Pelotas
DESCRIPTION:Picante Pelotas vs. Fluorescent PlatypusesPlus d'info : #3
X-ALT-DESC;FMTTYPE=text/html:<!DOCTYPE HTML PUBLIC "-//W3C//DTD HTML 3.2//E
	N">\n<HTML>\n<HEAD>\n<TITLE></TITLE>\n</HEAD>\n<BODY>\n<h3>Picante Pelotas 
	vs. Fluorescent Platypuses</h3>Plus d'info : <a href="https://www.golnetwor
	k.com/game/v/69881/">#3</a>\n\n</BODY>\n</HTML>
STATUS:CONFIRMED
CLASS:PUBLIC
URL:https://www.golnetwork.com/game/v/69881/
X-MICROSOFT-CDO-BUSYSTATUS:BUSY
X-MICROSOFT-CDO-IMPORTANCE:1
END:VEVENT
END:VCALENDAR
