BEGIN:VCALENDAR
PRODID:-//gdesolutions.com//MV Framework 1.0.0.1607 Calendar//EN
VERSION:2.0
METHOD:PUBLISH
CALSCALE:GREGORIAN
BEGIN:VEVENT
UID:g5fj3@games.golnetwork.com
LOCATION:Cherry Beach East 3
CREATED:20140709T001537Z
DTSTART:20140910T010000Z
DTEND:20140910T020000Z
DTSTAMP:20260422T114133Z
SUMMARY:XTSC Boca Seniors vs. Galacticos FC
DESCRIPTION:Galacticos FC vs. XTSC Boca SeniorsPlus d'info : #457
X-ALT-DESC;FMTTYPE=text/html:<!DOCTYPE HTML PUBLIC "-//W3C//DTD HTML 3.2//E
	N">\n<HTML>\n<HEAD>\n<TITLE></TITLE>\n</HEAD>\n<BODY>\n<h3>Galacticos FC vs
	. XTSC Boca Seniors</h3>Plus d'info : <a href="https://www.golnetwork.com/g
	ame/v/53934/">#457</a>\n\n</BODY>\n</HTML>
STATUS:CONFIRMED
CLASS:PUBLIC
URL:https://www.golnetwork.com/game/v/53934/
X-MICROSOFT-CDO-BUSYSTATUS:BUSY
X-MICROSOFT-CDO-IMPORTANCE:1
END:VEVENT
BEGIN:VEVENT
UID:g5fig@games.golnetwork.com
LOCATION:Cherry Beach East 3
CREATED:20140709T001256Z
DTSTART:20140903T030000Z
DTEND:20140903T040000Z
DTSTAMP:20260422T114133Z
SUMMARY:Team Brazil vs. XTSC Boca Seniors
DESCRIPTION:XTSC Boca Seniors vs. Team BrazilPlus d'info : #422
X-ALT-DESC;FMTTYPE=text/html:<!DOCTYPE HTML PUBLIC "-//W3C//DTD HTML 3.2//E
	N">\n<HTML>\n<HEAD>\n<TITLE></TITLE>\n</HEAD>\n<BODY>\n<h3>XTSC Boca Senior
	s vs. Team Brazil</h3>Plus d'info : <a href="https://www.golnetwork.com/gam
	e/v/53927/">#422</a>\n\n</BODY>\n</HTML>
STATUS:CONFIRMED
CLASS:PUBLIC
URL:https://www.golnetwork.com/game/v/53927/
X-MICROSOFT-CDO-BUSYSTATUS:BUSY
X-MICROSOFT-CDO-IMPORTANCE:1
END:VEVENT
BEGIN:VEVENT
UID:g5fi6@games.golnetwork.com
LOCATION:Cherry Beach East 3
CREATED:20140709T001256Z
DTSTART:20140827T010000Z
DTEND:20140827T020000Z
DTSTAMP:20260422T114133Z
SUMMARY:Galacticos FC vs. XTSC Boca Seniors
DESCRIPTION:XTSC Boca Seniors vs. Galacticos FCPlus d'info : #391
X-ALT-DESC;FMTTYPE=text/html:<!DOCTYPE HTML PUBLIC "-//W3C//DTD HTML 3.2//E
	N">\n<HTML>\n<HEAD>\n<TITLE></TITLE>\n</HEAD>\n<BODY>\n<h3>XTSC Boca Senior
	s vs. Galacticos FC</h3>Plus d'info : <a href="https://www.golnetwork.com/g
	ame/v/53922/">#391</a>\n\n</BODY>\n</HTML>
STATUS:CONFIRMED
CLASS:PUBLIC
URL:https://www.golnetwork.com/game/v/53922/
X-MICROSOFT-CDO-BUSYSTATUS:BUSY
X-MICROSOFT-CDO-IMPORTANCE:1
END:VEVENT
BEGIN:VEVENT
UID:g5fi0@games.golnetwork.com
LOCATION:Cherry Beach East 3
CREATED:20140709T001256Z
DTSTART:20140820T010000Z
DTEND:20140820T020000Z
DTSTAMP:20260422T114133Z
SUMMARY:XTSC Boca Seniors vs. Yonny & Co.
DESCRIPTION:Yonny & Co. vs. XTSC Boca SeniorsPlus d'info : #330
X-ALT-DESC;FMTTYPE=text/html:<!DOCTYPE HTML PUBLIC "-//W3C//DTD HTML 3.2//E
	N">\n<HTML>\n<HEAD>\n<TITLE></TITLE>\n</HEAD>\n<BODY>\n<h3>Yonny & Co. vs. 
	XTSC Boca Seniors</h3>Plus d'info : <a href="https://www.golnetwork.com/gam
	e/v/53919/">#330</a>\n\n</BODY>\n</HTML>
STATUS:CONFIRMED
CLASS:PUBLIC
URL:https://www.golnetwork.com/game/v/53919/
X-MICROSOFT-CDO-BUSYSTATUS:BUSY
X-MICROSOFT-CDO-IMPORTANCE:1
END:VEVENT
BEGIN:VEVENT
UID:g5fhp@games.golnetwork.com
LOCATION:Cherry Beach East 3
CREATED:20140709T001256Z
DTSTART:20140813T030000Z
DTEND:20140813T040000Z
DTSTAMP:20260422T114133Z
SUMMARY:Yonny & Co. vs. XTSC Boca Seniors
DESCRIPTION:XTSC Boca Seniors vs. Yonny & Co.Plus d'info : #269
X-ALT-DESC;FMTTYPE=text/html:<!DOCTYPE HTML PUBLIC "-//W3C//DTD HTML 3.2//E
	N">\n<HTML>\n<HEAD>\n<TITLE></TITLE>\n</HEAD>\n<BODY>\n<h3>XTSC Boca Senior
	s vs. Yonny & Co.</h3>Plus d'info : <a href="https://www.golnetwork.com/gam
	e/v/53918/">#269</a>\n\n</BODY>\n</HTML>
STATUS:CONFIRMED
CLASS:PUBLIC
URL:https://www.golnetwork.com/game/v/53918/
X-MICROSOFT-CDO-BUSYSTATUS:BUSY
X-MICROSOFT-CDO-IMPORTANCE:1
END:VEVENT
BEGIN:VEVENT
UID:g5fhh@games.golnetwork.com
LOCATION:Cherry Beach East 3
CREATED:20140709T001256Z
DTSTART:20140806T020000Z
DTEND:20140806T030000Z
DTSTAMP:20260422T114133Z
SUMMARY:XTSC Boca Seniors vs. Brooklyn FC
DESCRIPTION:Brooklyn FC vs. XTSC Boca SeniorsPlus d'info : #211
X-ALT-DESC;FMTTYPE=text/html:<!DOCTYPE HTML PUBLIC "-//W3C//DTD HTML 3.2//E
	N">\n<HTML>\n<HEAD>\n<TITLE></TITLE>\n</HEAD>\n<BODY>\n<h3>Brooklyn FC vs. 
	XTSC Boca Seniors</h3>Plus d'info : <a href="https://www.golnetwork.com/gam
	e/v/53914/">#211</a>\n\n</BODY>\n</HTML>
STATUS:CONFIRMED
CLASS:PUBLIC
URL:https://www.golnetwork.com/game/v/53914/
X-MICROSOFT-CDO-BUSYSTATUS:BUSY
X-MICROSOFT-CDO-IMPORTANCE:1
END:VEVENT
BEGIN:VEVENT
UID:g5fhd@games.golnetwork.com
LOCATION:Cherry Beach East 3
CREATED:20140709T001256Z
DTSTART:20140730T030000Z
DTEND:20140730T040000Z
DTSTAMP:20260422T114133Z
SUMMARY:XTSC Boca Seniors vs. Galacticos FC
DESCRIPTION:Galacticos FC vs. XTSC Boca SeniorsPlus d'info : #177
X-ALT-DESC;FMTTYPE=text/html:<!DOCTYPE HTML PUBLIC "-//W3C//DTD HTML 3.2//E
	N">\n<HTML>\n<HEAD>\n<TITLE></TITLE>\n</HEAD>\n<BODY>\n<h3>Galacticos FC vs
	. XTSC Boca Seniors</h3>Plus d'info : <a href="https://www.golnetwork.com/g
	ame/v/53912/">#177</a>\n\n</BODY>\n</HTML>
STATUS:CONFIRMED
CLASS:PUBLIC
URL:https://www.golnetwork.com/game/v/53912/
X-MICROSOFT-CDO-BUSYSTATUS:BUSY
X-MICROSOFT-CDO-IMPORTANCE:1
END:VEVENT
BEGIN:VEVENT
UID:g5fh3@games.golnetwork.com
LOCATION:Cherry Beach East 3
CREATED:20140709T001256Z
DTSTART:20140723T010000Z
DTEND:20140723T020000Z
DTSTAMP:20260422T114133Z
SUMMARY:SAS vs. XTSC Boca Seniors
DESCRIPTION:XTSC Boca Seniors vs. SASPlus d'info : #129
X-ALT-DESC;FMTTYPE=text/html:<!DOCTYPE HTML PUBLIC "-//W3C//DTD HTML 3.2//E
	N">\n<HTML>\n<HEAD>\n<TITLE></TITLE>\n</HEAD>\n<BODY>\n<h3>XTSC Boca Senior
	s vs. SAS</h3>Plus d'info : <a href="https://www.golnetwork.com/game/v/5390
	7/">#129</a>\n\n</BODY>\n</HTML>
STATUS:CONFIRMED
CLASS:PUBLIC
URL:https://www.golnetwork.com/game/v/53907/
X-MICROSOFT-CDO-BUSYSTATUS:BUSY
X-MICROSOFT-CDO-IMPORTANCE:1
END:VEVENT
BEGIN:VEVENT
UID:g5fgq@games.golnetwork.com
LOCATION:Cherry Beach East 3
CREATED:20140709T001256Z
DTSTART:20140716T020000Z
DTEND:20140716T030000Z
DTSTAMP:20260422T114133Z
SUMMARY:Team Brazil vs. XTSC Boca Seniors
DESCRIPTION:XTSC Boca Seniors vs. Team BrazilPlus d'info : #77
X-ALT-DESC;FMTTYPE=text/html:<!DOCTYPE HTML PUBLIC "-//W3C//DTD HTML 3.2//E
	N">\n<HTML>\n<HEAD>\n<TITLE></TITLE>\n</HEAD>\n<BODY>\n<h3>XTSC Boca Senior
	s vs. Team Brazil</h3>Plus d'info : <a href="https://www.golnetwork.com/gam
	e/v/53905/">#77</a>\n\n</BODY>\n</HTML>
STATUS:CONFIRMED
CLASS:PUBLIC
URL:https://www.golnetwork.com/game/v/53905/
X-MICROSOFT-CDO-BUSYSTATUS:BUSY
X-MICROSOFT-CDO-IMPORTANCE:1
END:VEVENT
END:VCALENDAR
